Workbook

Sheet Главная
A5: Для быстрого перехода в интересующий вас раздел нажмите на одну из ссылок ниже:
A6: Общее описание, особенности конструкции, комплектация
A7: Калькулятор теплоотдач БВ
A8: Калькулятор теплоотдач 24v
A9: Конвекторы встраиваемые в пол без вентиляторов (естественная конвекция):
A15: Конвекторы встраиваемые в пол с вентиляторами 24В DC (принудительная конвекция):
A21: Декоративная крышка

Sheet Описание
B1: Артикул
B2: 1 | D2: 2 | F2: 3 | H2: 4 | J2: 5 | L2: 6 | N2: 7 | P2: 8 | R2: 9
A4: Wtherm. | B4: КРВ. | D4: 90. | F4: 240. | H4: 3000. | J4: 2ТГ. | L4: 24. | N4: РПО. | P4: ААС. | R4: Л.
A6: 1. Наименование модели:
A7: • КР – Wtherm конвектор без вентилятора;
A8: • КРВ – Wtherm конвектор с вентилятором.
A10: 2. Высота модели, мм (выбирается из ряда):
A11: • 75, 90, 110, 140, 180
A13: 3. Ширина модели, мм (выбирается из ряда):
A14: • 180, 240, 290, 340, 380, 420.
A16: 4. Длина модели, мм:
A17: • в диапазоне 600…3000.
A19: 5. Количество труб (2, 4, 6, 8 …Т) теплообменника и исполнение:
A20: • Г – горизонтальный;
A21: • В – вертикальный;
... A38: • Л - левое.

Sheet Калькулятор
A1: Вернуться на главную страницу | J1: Калькулятор для подбора внутрипольного конвектора Wtherm.
B3: Коэффициенты
C4: Длина конвектора - Длина оребрения мм | H4: 350
B5: Температура на входе, ˚С | C5: 95
B6: Температура на выходе, ˚С | C6: 85
B7: Температура в помещении, ˚С | C7: 20
B8: ∆Т | C8: =(C5+C6)/2-C7 -> 70
B10: Требуемая мощность ВТ | C10: 1301 | D10: =C10*(1+C11%) -> 1431.1
B11: Погрешность + % | C11: 10 | D11: =C10*(1-C11%) -> 1170.9 | J11: =C10*(C11/100+1) -> 1431.1
B12: Погрешность - % | C12: 10 | J12: =C10*ABS(C12/100-1) -> 1170.9
J18: 15 труба | AG18: 15 труба
J19: Тепловая мощность, Вт/м | V19: Коэффициент n | AG19: Тепловая мощность, Вт/м | AS19: Коэффициент n
J20: Ширина | K20: 160 | L20: 200 | M20: 260 | N20: 300 | P20: 360 | Q20: 360 | R20: 400 | S20: 400 | V20: Ширина | W20: 160 | X20: 200 | Y20: 260 | Z20: 300 | AB20: 360 | AD20: 400 | AG20: Высота | AH20: Ширина | AS20: Высота | AT20: Ширина
J21: Высота | N21: 1 | O21: 2 | P21: 1 | Q21: 2 | R21: 1 | S21: 2 | V21: Высота | Z21: 1 | AA21: 2 | AB21: 1 | AC21: 2 | AD21: 1 | AE21: 2 | AH21: 180 | AI21: 240 | AJ21: 260 | AK21: 290 | AL21: 340 | AM21: 380 | AN21: 420 | AT21: 180 | AU21: 240 | AV21: 260 | AW21: 290 | AX21: 340 | AY21: 380 | AZ21: 420
J22: 65 | V22: 65 | AG22: 75-110 | AH22: 2ТГ | AI22: 2ТГ | AJ22: 2ТГ | AK22: 3ТГ | AL22: 3ТГ | AM22: 4ТГ | AN22: 4ТГ | AS22: 75-110 | AT22: 2ТГ | AU22: 2ТГ | AV22: 2ТГ | AW22: 3ТГ | AX22: 3ТГ | AY22: 4ТГ | AZ22: 4ТГ
J23: 70 | V23: 70 | AG23: 75 | AH23: =FORECAST($AH$21,K24:L24,$K$20:$L$20) -> 271.149 | AI23: =FORECAST($AI$21,L24:M24,$L$20:$M$20) -> 340.228 | AJ23: =FORECAST($AJ$21,L24:M24,$L$20:$M$20) -> 367.632 | AK23: =(N24+O24)/2 -> 461.96861 | AL23: =AK23*Q24/O24 -> 496.22744 | AM23: =FORECAST($AM$21,Q24:R24,$Q$20:$R$20) -> 576.77287 | AN23: =FORECAST($AN$21,Q24:R24,$Q$20:$R$20) -> 593.94502 | AS23: 75 | AT23: =FORECAST($AH$21,W24:X24,$K$20:$L$20) -> 1.675 | AU23: =FORECAST($AI$21,X24:Y24,$L$20:$M$20) -> 1.6166667 | AV23: =FORECAST($AJ$21,X24:Y24,$L$20:$M$20) -> 1.6 | AW23: =(Z24+AA24)/2 -> 1.55 | AX23: =AW23*AC24/AA24 -> 1.5 | AY23: =FORECAST($AM$21,AC24:AD24,$Q$20:$R$20) -> 1.475 | AZ23: =FORECAST($AN$21,AC24:AD24,$Q$20:$R$20) -> 1.425
J24: 75 | K24: =L24*0.9 -> 256.878 | L24: =L26*0.71 -> 285.42 | M24: =M26*0.69 -> 367.632 | N24: =N26*0.66 -> 394.97722 | O24: =O26*0.76 -> 528.96 | Q24: =Q26*0.74 -> 568.1868 | R24: =R26*0.72 -> 585.35895 | S24: =S26*0.76 -> 762.432 | V24: 75 | W24: 1.7 | X24: 1.65 | Y24: 1.6 | Z24: 1.55 | AA24: 1.55 | AC24: 1.5 | AD24: 1.45 | AE24: 1.45 | AG24: 90 | AH24: =FORECAST($AH$21,K26:L26,$K$20:$L$20) -> 379.89 | AI24: =FORECAST($AI$21,L26:M26,$L$20:$M$20) -> 489.2 | AJ24: =FORECAST($AJ$21,L26:M26,$L$20:$M$20) -> 532.8 | AK24: =(N26+O26)/2 -> 647.22517 | AL24: =AK24*Q26/O26 -> 714.01211 | AM24: =FORECAST($AM$21,Q26:R26,$Q$20:$R$20) -> 790.40927 | AN24: =FORECAST($AN$21,Q26:R26,$Q$20:$R$20) -> 835.58781 | AS24: 90 | AT24: =FORECAST($AH$21,W26:X26,$K$20:$L$20) -> 1.575 | AU24: =FORECAST($AI$21,X26:Y26,$L$20:$M$20) -> 1.5166667 | AV24: =FORECAST($AJ$21,X26:Y26,$L$20:$M$20) -> 1.5 | AW24: =(Z26+AA26)/2 -> 1.45 | AX24: =AW24*AC26/AA26 -> 1.4 | AY24: =FORECAST($AM$21,AC26:AD26,$Q$20:$R$20) -> 1.35 | AZ24: =FORECAST($AN$21,AC26:AD26,$Q$20:$R$20) -> 1.25
J25: 80 | V25: 80 | AG25: 110 | AH25: =FORECAST($AH$21,K27:L27,$K$20:$L$20) -> 473.89476 | AI25: =FORECAST($AI$21,L27:M27,$L$20:$M$20) -> 592.71333 | AJ25: =FORECAST($AJ$21,L27:M27,$L$20:$M$20) -> 636.99831 | AK25: =(N27+O27)/2 -> 775.09539 | AL25: =AK25*Q27/O27 -> 841.96063 | AM25: =FORECAST($AM$21,Q27:R27,$Q$20:$R$20) -> 964.28096 | AN25: =FORECAST($AN$21,Q27:R27,$Q$20:$R$20) -> 1007.3467 | AS25: 110 | AT25: =FORECAST($AH$21,W27:X27,$K$20:$L$20) -> 1.4 | AU25: =FORECAST($AI$21,X27:Y27,$L$20:$M$20) -> 1.3 | AV25: =FORECAST($AJ$21,X27:Y27,$L$20:$M$20) -> 1.3 | AW25: =(Z27+AA27)/2 -> 1.3 | AX25: =AW25*AC27/AA27 -> 1.3 | AY25: =FORECAST($AM$21,AC27:AD27,$Q$20:$R$20) -> 1.3 | AZ25: =FORECAST($AN$21,AC27:AD27,$Q$20:$R$20) -> 1.3
J26: 90 | K26: =L26*0.89 -> 357.78 | L26: =335*1.2 -> 402 | M26: =444*1.2 -> 532.8 | N26: =M26*1.12321759 -> 598.45033 | O26: =580*1.2 -> 696 | Q26: =L26*1.91 -> 767.82 | R26: =L26*2.02238442 -> 812.99854 | S26: =836*1.2 -> 1003.2 | V26: 90 | W26: 1.6 | X26: 1.55 | Y26: 1.5 | Z26: 1.45 | AA26: 1.45 | AC26: 1.4 | AD26: 1.3 | AE26: 1.3 | AG26: 140-180 | AH26: 4ТК | AI26: 4ТК | AJ26: 4ТК | AK26: 6ТП | AL26: 6ТП | AM26: 8ТП | AN26: 8ТП | AS26: 140-180 | AT26: 4ТК | AU26: 4ТК | AV26: 4ТК | AW26: 6ТП | AX26: 6ТП | AY26: 8ТП | AZ26: 8ТП
J27: 110 | K27: =L27*0.88 -> 443.64616 | L27: =L26*1.25408796 -> 504.14336 | M27: =L27*1.26352614 -> 636.99831 | N27: =M27*1.07113641 -> 682.31209 | O27: =O26*1.24695214 -> 867.87869 | Q27: =L27*1.87 -> 942.74808 | R27: =L27*1.95542361 -> 985.81383 | S27: =S26*1.12435712 -> 1127.9551 | V27: 110 | W27: 1.5 | X27: 1.3 | Y27: 1.3 | Z27: 1.3 | AA27: 1.3 | AC27: 1.3 | AD27: 1.3 | AE27: 1.3 | AG27: 140 | AH27: =FORECAST($AH$21,K28:L28,$K$20:$L$20) -> 700.52631 | AI27: =FORECAST($AI$21,L28:M28,$L$20:$M$20) -> 897.34403 | AJ27: =FORECAST($AJ$21,L28:M28,$L$20:$M$20) -> 971.40305 | AK27: =(N28+O28)/2 -> 1115.015 | AL27: =AK27*Q28/O28 -> 1174.8742 | AM27: =FORECAST($AM$21,Q28:R28,$Q$20:$R$20) -> 1270.8156 | AN27: =FORECAST($AN$21,Q28:R28,$Q$20:$R$20) -> 1364.7924 | AS27: 140 | AT27: =FORECAST($AH$21,W28:X28,$K$20:$L$20) -> 1.375 | AU27: =FORECAST($AI$21,X28:Y28,$L$20:$M$20) -> 1.3253333 | AV27: =FORECAST($AJ$21,X28:Y28,$L$20:$M$20) -> 1.318 | AW27: =(Z28+AA28)/2 -> 1.3 | AX27: =AW27*AC28/AA28 -> 1.28 | AY27: =FORECAST($AM$21,AC28:AD28,$Q$20:$R$20) -> 1.265 | AZ27: =FORECAST($AN$21,AC28:AD28,$Q$20:$R$20) -> 1.235
J28: 140 | K28: =K29*0.965 -> 651.82662 | L28: =L29*0.965 -> 749.226 | M28: =M29*0.965 -> 971.40305 | N28: =N29*0.965 -> 1068.5561 | O28: =O29*0.965 -> 1161.474 | P28: =P29*0.965 -> 1113.6828 | Q28: =Q29*0.965 -> 1223.8273 | R28: =R29*0.965 -> 1317.804 | S28: =S29*0.965 -> 1317.804 | V28: 140 | W28: 1.41 | X28: 1.34 | Y28: 1.318 | Z28: 1.3 | AA28: 1.3 | AB28: 1.28 | AC28: 1.28 | AD28: 1.25 | AE28: 1.25 | AG28: 150 | AH28: =FORECAST($AH$21,K29:L29,$K$20:$L$20) -> 725.934 | AI28: =FORECAST($AI$21,L29:M29,$L$20:$M$20) -> 929.89019 | AJ28: =FORECAST($AJ$21,L29:M29,$L$20:$M$20) -> 1006.6353 | AK28: =(N29+O29)/2 -> 1155.456 | AL28: =AK28*Q29/O29 -> 1217.4862 | AM28: =FORECAST($AM$21,Q29:R29,$Q$20:$R$20) -> 1316.9074 | AN28: =FORECAST($AN$21,Q29:R29,$Q$20:$R$20) -> 1414.2926 | AS28: 150 | AT28: =FORECAST($AH$21,W29:X29,$K$20:$L$20) -> 1.375 | AU28: =FORECAST($AI$21,X29:Y29,$L$20:$M$20) -> 1.33 | AV28: =FORECAST($AJ$21,X29:Y29,$L$20:$M$20) -> 1.32 | AW28: =(Z29+AA29)/2 -> 1.3 | AX28: =AW28*AC29/AA29 -> 1.28 | AY28: =FORECAST($AM$21,AC29:AD29,$Q$20:$R$20) -> 1.265 | AZ28: =FORECAST($AN$21,AC29:AD29,$Q$20:$R$20) -> 1.235
J29: 150 | K29: =L29*0.87 -> 675.468 | L29: =1.2*647 -> 776.4 | M29: =L29*1.2965421 -> 1006.6353 | N29: =O29*0.92 -> 1107.312 | O29: =1003*1.2 -> 1203.6 | P29: =Q29*0.91 -> 1154.0754 | Q29: =O29*1.05368459 -> 1268.2148 | R29: =1138*1.2 -> 1365.6 | S29: =1138*1.2 -> 1365.6 | V29: 150 | W29: 1.4 | X29: 1.35 | Y29: 1.32 | Z29: 1.3 | AA29: 1.3 | AB29: 1.28 | AC29: 1.28 | AD29: 1.25 | AE29: 1.25 | AG29: 180 | AH29: =FORECAST($AG$29,AH27:AH28,$AG$27:$AG$28) -> 802.15707 | AI29: =FORECAST($AG$29,AI27:AI28,$AG$27:$AG$28) -> 1027.5287 | AJ29: =FORECAST($AG$29,AJ27:AJ28,$AG$27:$AG$28) -> 1112.332 | AK29: =FORECAST($AG$29,AK27:AK28,$AG$27:$AG$28) -> 1276.7789 | AL29: =FORECAST($AG$29,AL27:AL28,$AG$27:$AG$28) -> 1345.3222 | AM29: =FORECAST($AG$29,AM27:AM28,$AG$27:$AG$28) -> 1455.1827 | AN29: =FORECAST($AG$29,AN27:AN28,$AG$27:$AG$28) -> 1562.7933 | AS29: 180 | AT29: =FORECAST($AS$29,AT27:AT28,$AS$27:$AS$28) -> 1.375 | AU29: =FORECAST($AS$29,AU27:AU28,$AS$27:$AS$28) -> 1.344 | AV29: =FORECAST($AS$29,AV27:AV28,$AS$27:$AS$28) -> 1.326 | AW29: =FORECAST($AS$29,AW27:AW28,$AS$27:$AS$28) -> 1.3 | AX29: =FORECAST($AS$29,AX27:AX28,$AS$27:$AS$28) -> 1.28 | AY29: =FORECAST($AS$29,AY27:AY28,$AS$27:$AS$28) -> 1.265 | AZ29: =FORECAST($AS$29,AZ27:AZ28,$AS$27:$AS$28) -> 1.235
J30: 200 | L30: =L29*1.15 -> 892.86 | M30: =M29*1.032 -> 1038.8476 | N30: =M30*1.07113641 -> 1112.7475 | Q30: =1874/1268*Q29 -> 1874.3174 | V30: 200 | W30: 1.3 | X30: 1.25 | Y30: 1.3 | Z30: 1.28 | AC30: 1.26
B36: *-голубым выделены ячейки для изменения параметров
B40: Модель | D40: Обозначение | E40: Высота | F40: Ширина | G40: ТО | H40: Длина, мм
H41: 500 | I41: 550 | J41: 600 | K41: 650 | L41: 700 | M41: 750 | N41: 800 | O41: 850 | P41: 900 | Q41: 950 | R41: 1000 | S41: 1050 | T41: 1100 | U41: 1150 | V41: 1200 | W41: 1250 | X41: 1300 | Y41: 1350 | Z41: 1400 | AA41: 1450 | AB41: 1500 | AC41: 1550 | AD41: 1600 | AE41: 1650 | AF41: 1700 | AG41: 1750 | AH41: 1800 | AI41: 1850 | AJ41: 1900 | AK41: 1950 | AL41: 2000 | AM41: 2050 | AN41: 2100 | AO41: 2150 | AP41: 2200 | AQ41: 2250 | AR41: 2300 | AS41: 2350 | AT41: 2400 | AU41: 2450 | AV41: 2500 | AW41: 2550 | AX41: 2600 | AY41: 2650 | AZ41: 2700 | BA41: 2750 | BB41: 2800 | BC41: 2850 | BD41: 2900 | BE41: 2950 | BF41: 3000
B42: =D42&"."&E42&"."&F42&"."&"ХХХ"&"."&G42 -> КР.75.180.ХХХ.2ТГ | D42: КР | E42: 75 | F42: 180 | G42: 2ТГ | H42: =((H$41-$H$4)/1000)*$AH$23*(($C$8/70)^$AT$23) -> 40.67235 | I42: =((I$41-$H$4)/1000)*$AH$23*(($C$8/70)^$AT$23) -> 54.2298 | J42: =((J$41-$H$4)/1000)*$AH$23*(($C$8/70)^$AT$23) -> 67.78725 | K42: =((K$41-$H$4)/1000)*$AH$23*(($C$8/70)^$AT$23) -> 81.3447 | L42: =((L$41-$H$4)/1000)*$AH$23*(($C$8/70)^$AT$23) -> 94.90215 | M42: =((M$41-$H$4)/1000)*$AH$23*(($C$8/70)^$AT$23) -> 108.4596 | N42: =((N$41-$H$4)/1000)*$AH$23*(($C$8/70)^$AT$23) -> 122.01705 | O42: =((O$41-$H$4)/1000)*$AH$23*(($C$8/70)^$AT$23) -> 135.5745 | ... BF42: =((BF$41-$H$4)/1000)*$AH$23*(($C$8/70)^$AT$23) -> 718.54485 | BG42: {=INDEX(E42:E42&"."&F42:F42&"."&$J$41:$BF$41&"."&G42:G42,MATCH($C$10,$J42:$BF42,1))} -> 75.180.3000.2ТГ
B43: =D43&"."&E43&"."&F43&"."&"ХХХ"&"."&G43 -> КР.75.240.ХХХ.2ТГ | D43: КР | E43: 75 | F43: 240 | G43: 2ТГ | H43: =((H$41-$H$4)/1000)*$AI$23*(($C$8/70)^$AU$23) -> 51.0342 | I43: =((I$41-$H$4)/1000)*$AI$23*(($C$8/70)^$AU$23) -> 68.0456 | J43: =((J$41-$H$4)/1000)*$AI$23*(($C$8/70)^$AU$23) -> 85.057 | K43: =((K$41-$H$4)/1000)*$AI$23*(($C$8/70)^$AU$23) -> 102.0684 | L43: =((L$41-$H$4)/1000)*$AI$23*(($C$8/70)^$AU$23) -> 119.0798 | M43: =((M$41-$H$4)/1000)*$AI$23*(($C$8/70)^$AU$23) -> 136.0912 | N43: =((N$41-$H$4)/1000)*$AI$23*(($C$8/70)^$AU$23) -> 153.1026 | O43: =((O$41-$H$4)/1000)*$AI$23*(($C$8/70)^$AU$23) -> 170.114 | ... BF43: =((BF$41-$H$4)/1000)*$AI$23*(($C$8/70)^$AU$23) -> 901.6042 | BG43: {=INDEX(E43:E43&"."&F43:F43&"."&$J$41:$BF$41&"."&G43:G43,MATCH($C$10,$J43:$BF43,1))} -> 75.240.3000.2ТГ
B44: =D44&"."&E44&"."&F44&"."&"ХХХ"&"."&G44 -> КР.75.260.ХХХ.2ТГ | D44: КР | E44: 75 | F44: 260 | G44: 2ТГ | H44: =((H$41-$H$4)/1000)*$AJ$23*(($C$8/70)^$AV$23) -> 55.1448 | I44: =((I$41-$H$4)/1000)*$AJ$23*(($C$8/70)^$AV$23) -> 73.5264 | J44: =((J$41-$H$4)/1000)*$AJ$23*(($C$8/70)^$AV$23) -> 91.908 | K44: =((K$41-$H$4)/1000)*$AJ$23*(($C$8/70)^$AV$23) -> 110.2896 | L44: =((L$41-$H$4)/1000)*$AJ$23*(($C$8/70)^$AV$23) -> 128.6712 | M44: =((M$41-$H$4)/1000)*$AJ$23*(($C$8/70)^$AV$23) -> 147.0528 | N44: =((N$41-$H$4)/1000)*$AJ$23*(($C$8/70)^$AV$23) -> 165.4344 | O44: =((O$41-$H$4)/1000)*$AJ$23*(($C$8/70)^$AV$23) -> 183.816 | ... BF44: =((BF$41-$H$4)/1000)*$AJ$23*(($C$8/70)^$AV$23) -> 974.2248 | BG44: {=INDEX(E44:E44&"."&F44:F44&"."&$J$41:$BF$41&"."&G44:G44,MATCH($C$10,$J44:$BF44,1))} -> 75.260.3000.2ТГ
B45: =D45&"."&E45&"."&F45&"."&"ХХХ"&"."&G45 -> КР.75.290.ХХХ.3ТГ | D45: КР | E45: 75 | F45: 290 | G45: 3ТГ | H45: =((H$41-$H$4)/1000)*$AK$23*(($C$8/70)^$AW$23) -> 69.295291 | I45: =((I$41-$H$4)/1000)*$AK$23*(($C$8/70)^$AW$23) -> 92.393722 | J45: =((J$41-$H$4)/1000)*$AK$23*(($C$8/70)^$AW$23) -> 115.49215 | K45: =((K$41-$H$4)/1000)*$AK$23*(($C$8/70)^$AW$23) -> 138.59058 | L45: =((L$41-$H$4)/1000)*$AK$23*(($C$8/70)^$AW$23) -> 161.68901 | M45: =((M$41-$H$4)/1000)*$AK$23*(($C$8/70)^$AW$23) -> 184.78744 | N45: =((N$41-$H$4)/1000)*$AK$23*(($C$8/70)^$AW$23) -> 207.88587 | O45: =((O$41-$H$4)/1000)*$AK$23*(($C$8/70)^$AW$23) -> 230.9843 | ... BF45: =((BF$41-$H$4)/1000)*$AK$23*(($C$8/70)^$AW$23) -> 1224.2168 | BG45: {=INDEX(E45:E45&"."&F45:F45&"."&$J$41:$BF$41&"."&G45:G45,MATCH($C$10,$J45:$BF45,1))} -> 75.290.3000.3ТГ
B46: =D46&"."&E46&"."&F46&"."&"ХХХ"&"."&G46 -> КР.75.340.ХХХ.3ТГ | D46: КР | E46: 75 | F46: 340 | G46: 3ТГ | H46: =((H$41-$H$4)/1000)*$AL$23*(($C$8/70)^$AX$23) -> 74.434116 | I46: =((I$41-$H$4)/1000)*$AL$23*(($C$8/70)^$AX$23) -> 99.245488 | J46: =((J$41-$H$4)/1000)*$AL$23*(($C$8/70)^$AX$23) -> 124.05686 | K46: =((K$41-$H$4)/1000)*$AL$23*(($C$8/70)^$AX$23) -> 148.86823 | L46: =((L$41-$H$4)/1000)*$AL$23*(($C$8/70)^$AX$23) -> 173.6796 | M46: =((M$41-$H$4)/1000)*$AL$23*(($C$8/70)^$AX$23) -> 198.49098 | N46: =((N$41-$H$4)/1000)*$AL$23*(($C$8/70)^$AX$23) -> 223.30235 | O46: =((O$41-$H$4)/1000)*$AL$23*(($C$8/70)^$AX$23) -> 248.11372 | ... BF46: =((BF$41-$H$4)/1000)*$AL$23*(($C$8/70)^$AX$23) -> 1315.0027 | BG46: {=INDEX(E46:E46&"."&F46:F46&"."&$J$41:$BF$41&"."&G46:G46,MATCH($C$10,$J46:$BF46,1))} -> 75.340.2950.3ТГ
B47: =D47&"."&E47&"."&F47&"."&"ХХХ"&"."&G47 -> КР.75.380.ХХХ.4ТГ | D47: КР | E47: 75 | F47: 380 | G47: 4ТГ | H47: =((H$41-$H$4)/1000)*$AM$23*(($C$8/70)^$AY$23) -> 86.515931 | I47: =((I$41-$H$4)/1000)*$AM$23*(($C$8/70)^$AY$23) -> 115.35457 | J47: =((J$41-$H$4)/1000)*$AM$23*(($C$8/70)^$AY$23) -> 144.19322 | K47: =((K$41-$H$4)/1000)*$AM$23*(($C$8/70)^$AY$23) -> 173.03186 | L47: =((L$41-$H$4)/1000)*$AM$23*(($C$8/70)^$AY$23) -> 201.87051 | M47: =((M$41-$H$4)/1000)*$AM$23*(($C$8/70)^$AY$23) -> 230.70915 | N47: =((N$41-$H$4)/1000)*$AM$23*(($C$8/70)^$AY$23) -> 259.54779 | O47: =((O$41-$H$4)/1000)*$AM$23*(($C$8/70)^$AY$23) -> 288.38644 | ... BF47: =((BF$41-$H$4)/1000)*$AM$23*(($C$8/70)^$AY$23) -> 1528.4481 | BG47: {=INDEX(E47:E47&"."&F47:F47&"."&$J$41:$BF$41&"."&G47:G47,MATCH($C$10,$J47:$BF47,1))} -> 75.380.2600.4ТГ
B48: =D48&"."&E48&"."&F48&"."&"ХХХ"&"."&G48 -> КР.75.420.ХХХ.4ТГ | D48: КР | E48: 75 | F48: 420 | G48: 4ТГ | H48: =((H$41-$H$4)/1000)*$AN$23*(($C$8/70)^$AZ$23) -> 89.091753 | I48: =((I$41-$H$4)/1000)*$AN$23*(($C$8/70)^$AZ$23) -> 118.789 | J48: =((J$41-$H$4)/1000)*$AN$23*(($C$8/70)^$AZ$23) -> 148.48625 | K48: =((K$41-$H$4)/1000)*$AN$23*(($C$8/70)^$AZ$23) -> 178.18351 | L48: =((L$41-$H$4)/1000)*$AN$23*(($C$8/70)^$AZ$23) -> 207.88076 | M48: =((M$41-$H$4)/1000)*$AN$23*(($C$8/70)^$AZ$23) -> 237.57801 | N48: =((N$41-$H$4)/1000)*$AN$23*(($C$8/70)^$AZ$23) -> 267.27526 | O48: =((O$41-$H$4)/1000)*$AN$23*(($C$8/70)^$AZ$23) -> 296.97251 | ... BF48: =((BF$41-$H$4)/1000)*$AN$23*(($C$8/70)^$AZ$23) -> 1573.9543 | BG48: {=INDEX(E48:E48&"."&F48:F48&"."&$J$41:$BF$41&"."&G48:G48,MATCH($C$10,$J48:$BF48,1))} -> 75.420.2500.4ТГ
B49: =D49&"."&E49&"."&F49&"."&"ХХХ"&"."&G49 -> КР.90.180.ХХХ.2ТГ | D49: КР | E49: 90 | F49: 180 | G49: 2ТГ | H49: =((H$41-$H$4)/1000)*$AH$24*(($C$8/70)^$AT$24) -> 56.9835 | I49: =((I$41-$H$4)/1000)*$AH$24*(($C$8/70)^$AT$24) -> 75.978 | J49: =((J$41-$H$4)/1000)*$AH$24*(($C$8/70)^$AT$24) -> 94.9725 | K49: =((K$41-$H$4)/1000)*$AH$24*(($C$8/70)^$AT$24) -> 113.967 | L49: =((L$41-$H$4)/1000)*$AH$24*(($C$8/70)^$AT$24) -> 132.9615 | M49: =((M$41-$H$4)/1000)*$AH$24*(($C$8/70)^$AT$24) -> 151.956 | N49: =((N$41-$H$4)/1000)*$AH$24*(($C$8/70)^$AT$24) -> 170.9505 | O49: =((O$41-$H$4)/1000)*$AH$24*(($C$8/70)^$AT$24) -> 189.945 | ... BF49: =((BF$41-$H$4)/1000)*$AH$24*(($C$8/70)^$AT$24) -> 1006.7085 | BG49: {=INDEX(E49:E49&"."&F49:F49&"."&$J$41:$BF$41&"."&G49:G49,IFERROR(MATCH($C$10,$J49:$BF49),0))} -> 90.180.3000.2ТГ
B50: =D50&"."&E50&"."&F50&"."&"ХХХ"&"."&G50 -> КР.90.240.ХХХ.2ТГ | D50: КР | E50: 90 | F50: 240 | G50: 2ТГ | H50: =((H$41-$H$4)/1000)*$AI$24*(($C$8/70)^$AU$24) -> 73.38 | I50: =((I$41-$H$4)/1000)*$AI$24*(($C$8/70)^$AU$24) -> 97.84 | J50: =((J$41-$H$4)/1000)*$AI$24*(($C$8/70)^$AU$24) -> 122.3 | K50: =((K$41-$H$4)/1000)*$AI$24*(($C$8/70)^$AU$24) -> 146.76 | L50: =((L$41-$H$4)/1000)*$AI$24*(($C$8/70)^$AU$24) -> 171.22 | M50: =((M$41-$H$4)/1000)*$AI$24*(($C$8/70)^$AU$24) -> 195.68 | N50: =((N$41-$H$4)/1000)*$AI$24*(($C$8/70)^$AU$24) -> 220.14 | O50: =((O$41-$H$4)/1000)*$AI$24*(($C$8/70)^$AU$24) -> 244.6 | ... BF50: =((BF$41-$H$4)/1000)*$AI$24*(($C$8/70)^$AU$24) -> 1296.38 | BG50: {=INDEX(E50:E50&"."&F50:F50&"."&$J$41:$BF$41&"."&G50:G50,IFERROR(MATCH($C$10,$J50:$BF50),0))} -> 90.240.3000.2ТГ
B51: =D51&"."&E51&"."&F51&"."&"ХХХ"&"."&G51 -> КР.90.260.ХХХ.2ТГ | D51: КР | E51: 90 | F51: 260 | G51: 2ТГ | H51: =((H$41-$H$4)/1000)*$AJ$24*(($C$8/70)^$AV$24) -> 79.92 | I51: =((I$41-$H$4)/1000)*$AJ$24*(($C$8/70)^$AV$24) -> 106.56 | J51: =((J$41-$H$4)/1000)*$AJ$24*(($C$8/70)^$AV$24) -> 133.2 | K51: =((K$41-$H$4)/1000)*$AJ$24*(($C$8/70)^$AV$24) -> 159.84 | L51: =((L$41-$H$4)/1000)*$AJ$24*(($C$8/70)^$AV$24) -> 186.48 | M51: =((M$41-$H$4)/1000)*$AJ$24*(($C$8/70)^$AV$24) -> 213.12 | N51: =((N$41-$H$4)/1000)*$AJ$24*(($C$8/70)^$AV$24) -> 239.76 | O51: =((O$41-$H$4)/1000)*$AJ$24*(($C$8/70)^$AV$24) -> 266.4 | ... BF51: =((BF$41-$H$4)/1000)*$AJ$24*(($C$8/70)^$AV$24) -> 1411.92 | BG51: {=INDEX(E51:E51&"."&F51:F51&"."&$J$41:$BF$41&"."&G51:G51,IFERROR(MATCH($C$10,$J51:$BF51),0))} -> 90.260.2750.2ТГ
B52: =D52&"."&E52&"."&F52&"."&"ХХХ"&"."&G52 -> КР.90.290.ХХХ.3ТГ | D52: КР | E52: 90 | F52: 290 | G52: 3ТГ | H52: =((H$41-$H$4)/1000)*$AK$24*(($C$8/70)^$AW$24) -> 97.083775 | I52: =((I$41-$H$4)/1000)*$AK$24*(($C$8/70)^$AW$24) -> 129.44503 | J52: =((J$41-$H$4)/1000)*$AK$24*(($C$8/70)^$AW$24) -> 161.80629 | K52: =((K$41-$H$4)/1000)*$AK$24*(($C$8/70)^$AW$24) -> 194.16755 | L52: =((L$41-$H$4)/1000)*$AK$24*(($C$8/70)^$AW$24) -> 226.52881 | M52: =((M$41-$H$4)/1000)*$AK$24*(($C$8/70)^$AW$24) -> 258.89007 | N52: =((N$41-$H$4)/1000)*$AK$24*(($C$8/70)^$AW$24) -> 291.25132 | O52: =((O$41-$H$4)/1000)*$AK$24*(($C$8/70)^$AW$24) -> 323.61258 | ... BF52: =((BF$41-$H$4)/1000)*$AK$24*(($C$8/70)^$AW$24) -> 1715.1467 | BG52: {=INDEX(E52:E52&"."&F52:F52&"."&$J$41:$BF$41&"."&G52:G52,IFERROR(MATCH($C$10,$J52:$BF52),0))} -> 90.290.2350.3ТГ
B53: =D53&"."&E53&"."&F53&"."&"ХХХ"&"."&G53 -> КР.90.340.ХХХ.3ТГ | D53: КР | E53: 90 | F53: 340 | G53: 3ТГ | H53: =((H$41-$H$4)/1000)*$AL$24*(($C$8/70)^$AX$24) -> 107.10182 | I53: =((I$41-$H$4)/1000)*$AL$24*(($C$8/70)^$AX$24) -> 142.80242 | J53: =((J$41-$H$4)/1000)*$AL$24*(($C$8/70)^$AX$24) -> 178.50303 | K53: =((K$41-$H$4)/1000)*$AL$24*(($C$8/70)^$AX$24) -> 214.20363 | L53: =((L$41-$H$4)/1000)*$AL$24*(($C$8/70)^$AX$24) -> 249.90424 | M53: =((M$41-$H$4)/1000)*$AL$24*(($C$8/70)^$AX$24) -> 285.60484 | N53: =((N$41-$H$4)/1000)*$AL$24*(($C$8/70)^$AX$24) -> 321.30545 | O53: =((O$41-$H$4)/1000)*$AL$24*(($C$8/70)^$AX$24) -> 357.00605 | ... BF53: =((BF$41-$H$4)/1000)*$AL$24*(($C$8/70)^$AX$24) -> 1892.1321 | BG53: {=INDEX(E53:E53&"."&F53:F53&"."&$J$41:$BF$41&"."&G53:G53,IFERROR(MATCH($C$10,$J53:$BF53),0))} -> 90.340.2150.3ТГ
B54: =D54&"."&E54&"."&F54&"."&"ХХХ"&"."&G54 -> КР.90.380.ХХХ.4ТГ | D54: КР | E54: 90 | F54: 380 | G54: 4ТГ | H54: =((H$41-$H$4)/1000)*$AM$24*(($C$8/70)^$AY$24) -> 118.56139 | I54: =((I$41-$H$4)/1000)*$AM$24*(($C$8/70)^$AY$24) -> 158.08185 | J54: =((J$41-$H$4)/1000)*$AM$24*(($C$8/70)^$AY$24) -> 197.60232 | K54: =((K$41-$H$4)/1000)*$AM$24*(($C$8/70)^$AY$24) -> 237.12278 | L54: =((L$41-$H$4)/1000)*$AM$24*(($C$8/70)^$AY$24) -> 276.64324 | M54: =((M$41-$H$4)/1000)*$AM$24*(($C$8/70)^$AY$24) -> 316.16371 | N54: =((N$41-$H$4)/1000)*$AM$24*(($C$8/70)^$AY$24) -> 355.68417 | O54: =((O$41-$H$4)/1000)*$AM$24*(($C$8/70)^$AY$24) -> 395.20463 | ... BF54: =((BF$41-$H$4)/1000)*$AM$24*(($C$8/70)^$AY$24) -> 2094.5846 | BG54: {=INDEX(E54:E54&"."&F54:F54&"."&$J$41:$BF$41&"."&G54:G54,IFERROR(MATCH($C$10,$J54:$BF54),0))} -> 90.380.1950.4ТГ
B55: =D55&"."&E55&"."&F55&"."&"ХХХ"&"."&G55 -> КР.90.420.ХХХ.4ТГ | D55: КР | E55: 90 | F55: 420 | G55: 4ТГ | H55: =((H$41-$H$4)/1000)*$AN$24*(($C$8/70)^$AZ$24) -> 125.33817 | I55: =((I$41-$H$4)/1000)*$AN$24*(($C$8/70)^$AZ$24) -> 167.11756 | J55: =((J$41-$H$4)/1000)*$AN$24*(($C$8/70)^$AZ$24) -> 208.89695 | K55: =((K$41-$H$4)/1000)*$AN$24*(($C$8/70)^$AZ$24) -> 250.67634 | L55: =((L$41-$H$4)/1000)*$AN$24*(($C$8/70)^$AZ$24) -> 292.45573 | M55: =((M$41-$H$4)/1000)*$AN$24*(($C$8/70)^$AZ$24) -> 334.23512 | N55: =((N$41-$H$4)/1000)*$AN$24*(($C$8/70)^$AZ$24) -> 376.01451 | O55: =((O$41-$H$4)/1000)*$AN$24*(($C$8/70)^$AZ$24) -> 417.7939 | ... BF55: =((BF$41-$H$4)/1000)*$AN$24*(($C$8/70)^$AZ$24) -> 2214.3077 | BG55: {=INDEX(E55:E55&"."&F55:F55&"."&$J$41:$BF$41&"."&G55:G55,IFERROR(MATCH($C$10,$J55:$BF55),0))} -> 90.420.1900.4ТГ
...

Sheet Калькулятор 24v
A1: Вернуться на главную страницу | J1: Калькулятор для подбора внутрипольного конвектора Wtherm.
B3: Коэффициенты
C4: Длина конвектора - Длина оребрения мм | H4: 350
B5: Температура на входе, ˚С | C5: 95
B6: Температура на выходе, ˚С | C6: 85
B7: Температура в помещении, ˚С | C7: 20
B8: ∆Т | C8: =ABS((C5+C6)/2-C7) -> 70
B10: Требуемая мощность, ВТ | C10: 1800
B11: Погрешность + % | C11: 5 | J11: =C10*(C11/100+1) -> 1890
B12: Погрешность - % | C12: 2 | J12: =C10*ABS(C12/100-1) -> 1764
B13: Скорость работы вентилятора 1,2,3 | C13: 3
J20: Тепловая мощность, Вт/м | U20: Коэффициент n | AL20: Тепловая мощность, Вт/м | AW20: Коэффициент n
J21: Ширина | K21: 160 | L21: 200 | M21: 260 | N21: 300 | O21: 300 | P21: 360 | Q21: 360 | R21: 400 | S21: 400 | U21: Ширина | V21: 160 | W21: 200 | X21: 260 | Y21: 300 | Z21: 300 | AA21: 360 | AB21: 360 | AC21: 400 | AD21: 400 | AF21: Коэффициент вент. | AJ21: Высота | AL21: Высота | AM21: Ширина | AW21: Высота | AX21: Ширина | BH21: Коэффициент вент. | BL21: Высота
J22: Высота | N22: 2 | O22: 4 | P22: 6ТП | Q22: 8ТП | R22: 6ТП | S22: 8ТП | U22: Высота | Y22: 2 | Z22: 4 | AA22: 6ТП | AB22: 8ТП | AC22: 6ТП | AD22: 8ТП | AF22: 0 | AG22: 1 | AH22: 2 | AI22: 3 | AJ22: мм | AM22: 180 | AN22: 240 | AO22: 260 | AP22: 290 | AQ22: 340 | AR22: 380 | AS22: 420 | AX22: 180 | AY22: 240 | AZ22: 260 | BA22: 290 | BB22: 340 | BC22: 380 | BD22: 420 | BH22: 0 | BI22: 1 | BJ22: 2 | BK22: 3 | BL22: мм
J23: 65 | K23: нет | L23: нет | M23: =M25*0.71 -> 237.708 | N23: =N25*0.71 -> 263.268 | O23: нет | Q23: =Q25*0.71 -> 367.212 | R23: =R25*0.71 -> 394.476 | S23: нет | U23: 65 | V23: нет | W23: нет | X23: 1.7 | Y23: 1.65 | AA23: 1.6 | AB23: 1.6 | AC23: 1.55 | AD23: 1.55 | AF23: 1 | AG23: 5.12 | AH23: 5.66 | AI23: 6.53 | AJ23: 65 | AL23: 75-110 | AM23: 2ТГ | AN23: 2ТГ | AO23: 2ТГ | AP23: 3ТГ | AQ23: 4ТГ | AR23: 4ТГ | AS23: 5ТГ | AW23: 75-110 | AX23: 2ТГ | AY23: 2ТГ | AZ23: 2ТГ | BA23: 3ТГ | BB23: 4ТГ | BC23: 4ТГ | BD23: 5ТГ
J24: 70 | K24: нет | L24: нет | M24: =M26*0.71 -> 292.17636 | N24: =N26*0.71 -> 323.02728 | O24: нет | Q24: =Q26*0.71 -> 432.68056 | R24: =R26*0.71 -> 471.8376 | S24: нет | U24: 70 | V24: нет | W24: нет | X24: 1.65 | Y24: 1.6 | AA24: 1.55 | AB24: 1.55 | AC24: 1.5 | AD24: 1.5 | AF24: 1 | AG24: 5.12 | AH24: 5.66 | AI24: 6.53 | AJ24: 70 | AW24: 70
J25: 75 | K25: =L25*0.9 -> 233.874 | L25: =L27*0.71 -> 259.86 | M25: =279*1.2 -> 334.8 | N25: =309*1.2 -> 370.8 | O25: 0 | Q25: =431*1.2 -> 517.2 | R25: =463*1.2 -> 555.6 | S25: 0 | U25: 75 | V25: 1.7 | W25: 1.65 | X25: 1.6 | Y25: 1.55 | AA25: 1.55 | AB25: 1.5 | AC25: 1.45 | AD25: 1.45 | AF25: 1 | AG25: 4.6 | AH25: 5 | AI25: 6.53 | AJ25: 75 | AL25: 75 | AM25: нет | AN25: =FORECAST($AN$22,L25:M25,$L$21:$M$21) -> 309.82 | AO25: =FORECAST($AO$22,L25:M25,$L$21:$M$21) -> 334.8 | AP25: =(V56+W56)/2 -> 429.9 | AQ25: =FORECAST($AQ$22,Q25:R25,$Q$21:$R$21) -> 498 | AR25: =FORECAST($AR$22,Q25:R25,$Q$21:$R$21) -> 536.4 | AS25: =FORECAST($AS$22,Q25:R25,$Q$21:$R$21)*1.1 -> 632.28 | AW25: 75 | AX25: нет | AY25: =FORECAST($AY$22,W25:X25,$L$21:$M$21) -> 1.6166667 | AZ25: =FORECAST($AZ$22,W25:X25,$L$21:$M$21) -> 1.6 | BA25: =FORECAST($BA$22,X25:Y25,$X$21:$Y$21) -> 1.5625 | BB25: =FORECAST($BB$22,AB25:AC25,$AB$21:$AC$21) -> 1.525 | BC25: =FORECAST($BC$22,AB25:AC25,$AB$21:$AC$21) -> 1.475 | BD25: =FORECAST($BD$22,AB25:AC25,$AB$21:$AC$21) -> 1.425 | BH25: 1 | BI25: 4.6 | BJ25: 5 | BK25: 6.53 | BL25: 75
J26: 80 | K26: нет | L26: нет | M26: =M28*0.71 -> 411.516 | N26: =N28*0.71 -> 454.968 | O26: нет | Q26: =Q28*0.71 -> 609.40925 | R26: =R28*0.71 -> 664.56 | S26: нет | U26: 80 | V26: нет | W26: нет | X26: 1.55 | Y26: 1.5 | AA26: нет | AB26: 1.45 | AC26: 1.4 | AD26: 1.4 | AF26: 1 | AG26: 3.92 | AH26: 4.5 | AI26: 5.6 | AJ26: 80 | AL26: 90 | AM26: нет | AN26: =FORECAST($AN$22,L27:M27,$L$21:$M$21) -> 445.2 | AO26: =FORECAST($AO$22,L27:M27,$L$21:$M$21) -> 484.8 | AP26: =(V57+W57)/2 -> 602.25 | AQ26: =FORECAST($AQ$22,Q27:R27,$Q$21:$R$21) -> 661.2 | AR26: =FORECAST($AR$22,Q27:R27,$Q$21:$R$21) -> 735.6 | AS26: =FORECAST($AS$22,Q27:R27,$Q$21:$R$21)*1.1 -> 891 | AW26: 90 | AX26: нет | AY26: =FORECAST($AY$22,W27:X27,$L$21:$M$21) -> 1.5166667 | AZ26: =FORECAST($AZ$22,W27:X27,$L$21:$M$21) -> 1.5 | BA26: =FORECAST($BA$22,X27:Y27,$X$21:$Y$21) -> 1.4625 | BB26: =FORECAST($BB$22,AB27:AC27,$AB$21:$AC$21) -> 1.45 | BC26: =FORECAST($BC$22,AB27:AC27,$AB$21:$AC$21) -> 1.35 | BD26: =FORECAST($BD$22,AB27:AC27,$AB$21:$AC$21) -> 1.25 | BH26: 1 | BI26: 3.51 | BJ26: 3.96 | BK26: 4.93 | BL26: 90
J27: 90 | K27: =L27*0.89 -> 325.74 | L27: =305*1.2 -> 366 | M27: =404*1.2 -> 484.8 | N27: =469*1.2 -> 562.8 | O27: 0 | Q27: =582*1.2 -> 698.4 | R27: =644*1.2 -> 772.8 | S27: 0 | U27: 90 | V27: 1.6 | W27: 1.55 | X27: 1.5 | Y27: 1.45 | AA27: 1.45 | AB27: 1.4 | AC27: 1.3 | AD27: 1.3 | AF27: 1 | AG27: 3.51 | AH27: 3.96 | AI27: 4.93 | AJ27: 90 | AL27: 110 | AM27: нет | AN27: =FORECAST($AN$22,L28:M28,$L$21:$M$21) -> 539.39873 | AO27: =FORECAST($AO$22,L28:M28,$L$21:$M$21) -> 579.6 | AP27: =(V58+W58)/2 -> 722.49216 | AQ27: =FORECAST($AQ$22,Q28:R28,$Q$21:$R$21) -> 819.48432 | AR27: =FORECAST($AR$22,Q28:R28,$Q$21:$R$21) -> 897.16144 | AS27: =FORECAST($AS$22,Q28:R28,$Q$21:$R$21)*1.1 -> 1072.3224 | AW27: 110 | AX27: нет | AY27: =FORECAST($AY$22,W28:X28,$L$21:$M$21) -> 1.3 | AZ27: =FORECAST($AZ$22,W28:X28,$L$21:$M$21) -> 1.3 | BA27: =FORECAST($BA$22,X28:Y28,$X$21:$Y$21) -> 1.3 | BB27: =FORECAST($BB$22,AB28:AC28,$AB$21:$AC$21) -> 1.3 | BC27: =FORECAST($BC$22,AB28:AC28,$AB$21:$AC$21) -> 1.3 | BD27: =FORECAST($BD$22,AB28:AC28,$AB$21:$AC$21) -> 1.3 | BH27: 1 | BI27: 3.41 | BJ27: 3.96 | BK27: 4.93 | BL27: 110
J28: 110 | K28: =L28*0.88 -> 403.91665 | L28: =L27*1.25408796 -> 458.99619 | M28: =483*1.2 -> 579.6 | N28: =534*1.2 -> 640.8 | O28: 0 | Q28: =L28*1.87 -> 858.32288 | R28: =780*1.2 -> 936 | S28: 0 | U28: 110 | V28: 1.5 | W28: 1.3 | X28: 1.3 | Y28: 1.3 | AA28: 1.3 | AB28: 1.3 | AC28: 1.3 | AD28: 1.3 | AF28: 1 | AG28: 3.41 | AH28: 3.96 | AI28: 4.93 | AJ28: 110 | AL28: 140-180 | AM28: 4ТК | AN28: 4ТК | AO28: 4ТК | AP28: 6ТП | AQ28: 8ТП | AR28: 8ТП | AS28: 10ТП | AW28: 140-180 | AX28: 4ТК | AY28: 4ТК | AZ28: 4ТК | BA28: 6ТП | BB28: 8ТП | BC28: 8ТП | BD28: 10ТП
J29: 140 | K29: =K30*0.965 -> 422.67 | L29: =L30*0.965 -> 531.522 | M29: =M30*0.965 -> 883.554 | N29: 915.978 | O29: =O30*0.965 -> 915.978 | P29: =P30*0.965 -> 1058.2962 | Q29: =Q30*0.965 -> 1113.996 | R29: =R30*0.965 -> 1095.5954 | S29: =S30*0.965 -> 1197.372 | U29: 140 | V29: 1.4 | W29: 1.35 | X29: 1.32 | Y29: 1.31 | AA29: 1.3 | AB29: 1.28 | AC29: 1.25 | AD29: 1.25 | AF29: 1 | AG29: 3.41 | AH29: 3.96 | AI29: 4.93 | AJ29: 140 | AL29: 140 | AM29: нет | AN29: =FORECAST($AN$22,L29:M29,$L$21:$M$21) -> 766.21 | AO29: =FORECAST($AO$22,L29:M29,$L$21:$M$21) -> 883.554 | AP29: =FORECAST($AP$22,P56:Q56,$AB$21:$AC$21) -> 993.02263 | AQ29: =FORECAST($AQ$22,R56:S56,$Q$21:$R$21) -> 1072.308 | AR29: =FORECAST($AR$22,R56:S56,$Q$21:$R$21) -> 1155.684 | AS29: =FORECAST($AS$22,R56:S56,$Q$21:$R$21)*1.1 -> 1362.966 | AW29: 140 | AX29: нет | AY29: =FORECAST($AY$22,W29:X29,$L$21:$M$21) -> 1.33 | AZ29: =FORECAST($AZ$22,W29:X29,$L$21:$M$21) -> 1.32 | BA29: =FORECAST($BA$22,X29:Y29,$X$21:$Y$21) -> 1.3125 | BB29: =FORECAST($BB$22,AB29:AC29,$AB$21:$AC$21) -> 1.295 | BC29: =FORECAST($BC$22,AB29:AC29,$AB$21:$AC$21) -> 1.265 | BD29: =FORECAST($BD$22,AB29:AC29,$AB$21:$AC$21) -> 1.235 | BH29: 1 | BI29: 3.41 | BJ29: 3.96 | BK29: 4.93 | BL29: 140
J30: 150 | K30: =365*1.2 -> 438 | L30: =1.2*459 -> 550.8 | M30: =763*1.2 -> 915.6 | N30: 949.2 | O30: =791*1.2 -> 949.2 | P30: =Q30*0.95 -> 1096.68 | Q30: =962*1.2 -> 1154.4 | R30: =S30*0.915 -> 1135.332 | S30: =1034*1.2 -> 1240.8 | U30: 150 | V30: 1.4 | W30: 1.35 | X30: 1.32 | Y30: 1.31 | AA30: 1.3 | AB30: 1.28 | AC30: 1.25 | AD30: 1.25 | AF30: 1 | AG30: 3.41 | AH30: 3.96 | AI30: 4.93 | AJ30: 150 | AL30: 150 | AM30: нет | AN30: =FORECAST($AN$22,L30:M30,$L$21:$M$21) -> 794 | AO30: =FORECAST($AO$22,L30:M30,$L$21:$M$21) -> 915.6 | AP30: =FORECAST($AP$22,P57:Q57,$AB$21:$AC$21) -> 1029.039 | AQ30: =FORECAST($AQ$22,R57:S57,$Q$21:$R$21) -> 1111.2 | AR30: =FORECAST($AR$22,R57:S57,$Q$21:$R$21) -> 1197.6 | AS30: =FORECAST($AS$22,R57:S57,$Q$21:$R$21)*1.1 -> 1412.4 | AW30: 150 | AX30: нет | AY30: =FORECAST($AY$22,W30:X30,$L$21:$M$21) -> 1.33 | AZ30: =FORECAST($AZ$22,W30:X30,$L$21:$M$21) -> 1.32 | BA30: =FORECAST($BA$22,X30:Y30,$X$21:$Y$21) -> 1.3125 | BB30: =FORECAST($BB$22,AB30:AC30,$AB$21:$AC$21) -> 1.295 | BC30: =FORECAST($BC$22,AB30:AC30,$AB$21:$AC$21) -> 1.265 | BD30: =FORECAST($BD$22,AB30:AC30,$AB$21:$AC$21) -> 1.235 | BH30: 1 | BI30: 3.41 | BJ30: 3.96 | BK30: 4.93 | BL30: 150
J31: 200 | K31: =L31*0.88 -> 607.86145 | L31: =L30*1.25408796 -> 690.75165 | M31: =L31*1.26352614 -> 872.78276 | N31: =M31*1.07113641 -> 934.8694 | O31: =O30*1.24695214 -> 1183.607 | Q31: =L31*1.87 -> 1291.7056 | S31: =L31*1.95542361 -> 1350.7121 | U31: 200 | AF31: 1 | AG31: 2.73 | AH31: 3.11 | AI31: 3.89 | AJ31: 150.16 | AL31: 180 | AM31: нет | AN31: =FORECAST($AL$31,AN29:AN30,$AL$29:$AL$30) -> 877.37 | AO31: =FORECAST($AL$31,AO29:AO30,$AL$29:$AL$30) -> 1011.738 | AP31: =FORECAST($AL$31,AP29:AP30,$AL$29:$AL$30) -> 1137.0881 | AQ31: =FORECAST($AL$31,AQ29:AQ30,$AL$29:$AL$30) -> 1227.876 | AR31: =FORECAST($AL$31,AR29:AR30,$AL$29:$AL$30) -> 1323.348 | AS31: =FORECAST($AL$31,AS29:AS30,$AL$29:$AL$30) -> 1560.702 | AW31: 180 | AX31: нет | AY31: =FORECAST($AW$31,AY29:AY30,$AW$29:$AW$30) -> 1.33 | AZ31: =FORECAST($AW$31,AZ29:AZ30,$AW$29:$AW$30) -> 1.32 | BA31: =FORECAST($AW$31,BA29:BA30,$AW$29:$AW$30) -> 1.3125 | BB31: =FORECAST($AW$31,BB29:BB30,$AW$29:$AW$30) -> 1.295 | BC31: =FORECAST($AW$31,BC29:BC30,$AW$29:$AW$30) -> 1.265 | BD31: =FORECAST($AW$31,BD29:BD30,$AW$29:$AW$30) -> 1.235 | BH31: 1 | BI31: 2.73 | BJ31: 3.11 | BK31: 3.89 | BL31: 150.16
J32: 300 | K32: =L32*0.88 -> 762.31173 | L32: =L31*1.25408796 -> 866.26333 | M32: =L32*1.26352614 -> 1094.5464 | N32: =M32*1.07113641 -> 1172.4085 | O32: =O31*1.24695214 -> 1475.9012 | Q32: =L32*1.87 -> 1619.9124 | S32: =L32*1.95542361 -> 1693.9118 | U32: 300 | AF32: 1 | AG32: 2.73 | AH32: 2.83 | AI32: 3.66 | AJ32: 150.200 | BH32: 1 | BI32: 2.73 | BJ32: 2.83 | BK32: 3.66 | BL32: 150.200
J33: 400 | K33: =L33*0.88 -> 956.00596 | L33: =L32*1.25408796 -> 1086.3704 | M33: =L33*1.26352614 -> 1372.6574 | N33: =M33*1.07113641 -> 1470.3033 | O33: =O32*1.24695214 -> 1840.3782 | Q33: =L33*1.87 -> 2031.5127 | S33: =L33*1.95542361 -> 2124.3143 | U33: 400 | AF33: 1 | AG33: 3.41 | AH33: 3.86 | AI33: 4.63 | AJ33: 150.300 | BH33: 1 | BI33: 3.41 | BJ33: 3.86 | BK33: 4.63 | BL33: 150.300
J34: 500 | K34: =L34*0.88 -> 1198.9156 | L34: =L33*1.25408796 -> 1362.404 | M34: =L34*1.26352614 -> 1721.4331 | N34: =M34*1.07113641 -> 1843.8897 | O34: =O33*1.24695214 -> 2294.8636 | Q34: =L34*1.87 -> 2547.6956 | S34: =L34*1.95542361 -> 2664.077 | U34: 500
J35: 600 | K35: =L35*0.88 -> 1503.5456 | L35: =L34*1.25408796 -> 1708.5745 | M35: =L35*1.26352614 -> 2158.8286 | N35: =M35*1.07113641 -> 2312.3999 | O35: =O34*1.24695214 -> 2861.585 | Q35: =L35*1.87 -> 3195.0343 | S35: =L35*1.95542361 -> 3340.9869 | U35: 600
J36: 24В | AL36: 24В
J37: Тепловая мощность, Вт/м | U37: Коэффициент n | AL37: Тепловая мощность, Вт/м | AW37: Коэффициент n
J38: Ширина | K38: 160 | L38: 200 | M38: 260 | N38: 300 | O38: 300 | P38: 360 | Q38: 360 | R38: 400 | S38: 400 | U38: Ширина | V38: 160 | W38: 200 | X38: 260 | Y38: 300 | Z38: 300 | AA38: 360 | AB38: 360 | AC38: 400 | AD38: 400 | AF38: Коэффициент вент. | AJ38: Высота | AL38: Высота | AM38: Ширина | AW38: Высота | AX38: Ширина | BH38: Коэффициент вент. | BL38: Высота
J39: Высота | N39: 2 | O39: 4 | P39: 6ТП | Q39: 8ТП | R39: 6ТП | S39: 8ТП | U39: Высота | Y39: 2 | Z39: 4 | AA39: 6ТП | AB39: 8ТП | AC39: 6ТП | AD39: 8ТП | AF39: 0 | AG39: 1 | AH39: 2 | AI39: 3 | AJ39: мм | AM39: 180 | AN39: 240 | AO39: 260 | AP39: 290 | AQ39: 340 | AR39: 380 | AS39: 420 | AX39: 180 | AY39: 240 | AZ39: 260 | BA39: 290 | BB39: 340 | BC39: 380 | BD39: 420 | BH39: 0 | BI39: 1 | BJ39: 2 | BK39: 3 | BL39: мм
J40: 65 | M40: 309.0204 | N40: 342.2484 | O40: 342.2484 | Q40: 477.3756 | R40: 512.8188 | S40: 512.8188 | U40: 65 | V40: нет | W40: нет | X40: 1.7 | Y40: 1.65 | Z40: нет | AB40: 1.6 | AC40: 1.55 | AD40: нет | AF40: 1 | AG40: 5.12 | AH40: 5.66 | AI40: 6.53 | AJ40: 65 | AL40: 75-110 | AM40: 2ТГ | AN40: 2ТГ | AO40: 2ТГ | AP40: 3ТГ | AQ40: 4ТГ | AR40: 4ТГ | AS40: 5ТГ | AW40: 75-110 | AY40: 2ТГ | AZ40: 2ТГ | BA40: 3ТГ | BB40: 4ТГ | BC40: 4ТГ | BD40: 5ТГ
J41: 70 | K41: 512.8188 | L41: 512.8188 | M41: 379.82927 | N41: 419.93546 | O41: 419.93546 | Q41: 562.48473 | R41: 613.38888 | S41: 613.38888 | U41: 70 | V41: нет | W41: нет | X41: 1.65 | Y41: 1.6 | Z41: нет | AB41: 1.55 | AC41: 1.5 | AD41: нет | AF41: 1 | AG41: 5.12 | AH41: 5.66 | AI41: 6.53 | AJ41: 70 | AL41: 70 | AW41: 70 | BL41: 75-110
J42: 75 | K42: 304.0362 | L42: 337.818 | M42: 435.24 | N42: 482.04 | O42: 0 | Q42: 672.36 | R42: 722.28 | S42: 0 | U42: 75 | V42: 1.7 | W42: 1.65 | X42: 1.6 | Y42: 1.55 | Z42: 1.55 | AB42: 1.5 | AC42: 1.45 | AD42: 1.45 | AF42: 1 | AG42: 4.6 | AH42: 5 | AI42: 6.53 | AJ42: 75 | AL42: 75 | AN42: =FORECAST($AN$39,L42:M42,$L$38:$M$38) -> 402.766 | AO42: =FORECAST($AO$39,M42:N42,$M$38:$N$38) -> 435.24 | AP42: =(V63+W63)/2 -> 558.87 | AQ42: =FORECAST($AQ$39,Q42:R42,$Q$38:$R$38) -> 647.4 | AR42: =FORECAST($AR$39,Q42:R42,$Q$38:$R$38) -> 697.32 | AS42: =FORECAST($AS$39,Q42:R42,$Q$38:$R$38)*1.1 -> 821.964 | AW42: 75 | AY42: =FORECAST($AY$39,W42:X42,$L$38:$M$38) -> 1.6166667 | AZ42: =FORECAST($AZ$39,X42:Y42,$X$38:$Y$38) -> 1.6 | BA42: =FORECAST($BA$39,X42:Y42,$X$38:$Y$38) -> 1.5625 | BB42: =FORECAST($BB$39,AB42:AC42,$Q$38:$R$38) -> 1.525 | BC42: =FORECAST($BC$39,AB42:AC42,$Q$38:$R$38) -> 1.475 | BD42: =FORECAST($BD$39,AB42:AC42,$Q$38:$R$38) -> 1.425 | BH42: 1 | BI42: 4.6 | BJ42: 5 | BK42: 6.53 | BL42: 75
J43: 80 | K43: 0 | L43: 0 | M43: 534.9708 | N43: 591.4584 | O43: 591.4584 | Q43: 792.23202 | R43: 863.928 | S43: 863.928 | U43: 80 | V43: нет | W43: нет | X43: 1.55 | Y43: 1.5 | Z43: нет | AB43: 1.45 | AC43: 1.4 | AD43: нет | AF43: 1 | AG43: 3.92 | AH43: 4.5 | AI43: 5.6 | AJ43: 80 | AL43: 90 | AN43: =FORECAST($AN$39,L44:M44,$L$38:$M$38) -> 578.76 | AO43: =FORECAST($AO$39,M44:N44,$M$38:$N$38) -> 630.24 | AP43: =(V64+W64)/2 -> 782.925 | AQ43: =FORECAST($AQ$39,Q44:R44,$Q$38:$R$38) -> 859.56 | AR43: =FORECAST($AR$39,Q44:R44,$Q$38:$R$38) -> 956.28 | AS43: =FORECAST($AS$39,Q44:R44,$Q$38:$R$38)*1.1 -> 1158.3 | AW43: 90 | AY43: =FORECAST($AY$39,W44:X44,$L$38:$M$38) -> 1.5166667 | AZ43: =FORECAST($AZ$39,X44:Y44,$M$38:$N$38) -> 1.5 | BA43: =FORECAST($BA$39,X44:Y44,$X$38:$Y$38) -> 1.4625 | BB43: =FORECAST($BB$39,AB44:AC44,$Q$38:$R$38) -> 1.45 | BC43: =FORECAST($BC$39,AB44:AC44,$Q$38:$R$38) -> 1.35 | BD43: =FORECAST($BD$39,AB44:AC44,$Q$38:$R$38) -> 1.25 | BH43: 1 | BI43: 3.51 | BJ43: 3.96 | BK43: 4.93 | BL43: 90
J44: 90 | K44: 423.462 | L44: 475.8 | M44: 630.24 | N44: 731.64 | O44: 0 | Q44: 907.92 | R44: 1004.64 | S44: 0 | U44: 90 | V44: 1.6 | W44: 1.55 | X44: 1.5 | Y44: 1.45 | Z44: 1.45 | AB44: 1.4 | AC44: 1.3 | AD44: 1.3 | AF44: 1 | AG44: 3.51 | AH44: 3.96 | AI44: 4.93 | AJ44: 90 | AL44: 110 | AN44: =FORECAST($AN$39,L45:M45,$L$38:$M$38) -> 701.21835 | AO44: =FORECAST($AO$39,M45:N45,$M$38:$N$38) -> 753.48 | AP44: =(V65+W65)/2 -> 939.23981 | AQ44: =FORECAST($AQ$39,Q45:R45,$Q$38:$R$38) -> 1065.3296 | AR44: =FORECAST($AR$39,Q45:R45,$Q$38:$R$38) -> 1166.3099 | AS44: =FORECAST($AS$39,Q45:R45,$Q$38:$R$38)*1.1 -> 1394.0191 | AW44: 110 | AY44: =FORECAST($AY$39,W45:X45,$L$38:$M$38) -> 1.3 | AZ44: =FORECAST($AZ$39,X45:Y45,$M$38:$N$38) -> 1.3 | BA44: =FORECAST($BA$39,X45:Y45,$X$38:$Y$38) -> 1.3 | BB44: =FORECAST($BB$39,AB45:AC45,$Q$38:$R$38) -> 1.3 | BC44: =FORECAST($BC$39,AB45:AC45,$Q$38:$R$38) -> 1.3 | BD44: =FORECAST($BD$39,AB45:AC45,$Q$38:$R$38) -> 1.3 | BH44: 1 | BI44: 3.41 | BJ44: 3.96 | BK44: 4.93 | BL44: 110
J45: 110 | K45: 525.09165 | L45: 596.69505 | M45: 753.48 | N45: 833.04 | O45: 0 | Q45: 1115.8197 | R45: 1216.8 | S45: 0 | U45: 110 | V45: 1.5 | W45: 1.3 | X45: 1.3 | Y45: 1.3 | Z45: 1.3 | AB45: 1.3 | AC45: 1.3 | AD45: 1.3 | AF45: 1 | AG45: 3.41 | AH45: 3.96 | AI45: 4.93 | AJ45: 110 | AL45: 140-180 | AN45: 4ТК | AO45: 4ТК | AP45: 6ТП | AQ45: 8ТП | AR45: 8ТП | AS45: 10ТП | AW45: 140-180 | AY45: 4ТК | AZ45: 4ТК | BA45: 6ТП | BB45: 8ТП | BC45: 8ТП | BD45: 10ТП
J46: 140 | K46: =K47*0.965 -> 549.471 | L46: =L47*0.965 -> 690.9786 | M46: =M47*0.965 -> 1148.6202 | N46: 1190.7714 | O46: =O47*0.965 -> 1190.7714 | P46: =P47*0.965 -> 1375.7851 | Q46: =Q47*0.965 -> 1448.1948 | R46: =R47*0.965 -> 1424.274 | S46: =S47*0.965 -> 1556.5836 | U46: 140 | V46: 1.4 | W46: 1.35 | X46: 1.32 | Y46: 1.3 | Z46: 1.3 | AA46: 1.28 | AB46: 1.28 | AC46: 1.25 | AD46: 1.25 | AF46: 1 | AG46: 3.41 | AH46: 3.96 | AI46: 4.93 | AJ46: 140 | AL46: 140 | AN46: =FORECAST($AN$39,L46:M46,$L$38:$M$38) -> 996.073 | AO46: =FORECAST($AO$39,M46:N46,$M$38:$N$38) -> 1148.6202 | AP46: =FORECAST($AP$39,P63:Q63,$Q$38:$R$38) -> 1290.9294 | AQ46: =FORECAST($AQ$39,R63:S63,$R$61:$S$61) -> 1394.0004 | AR46: =FORECAST($AR$39,R63:S63,$R$61:$S$61) -> 1502.3892 | AS46: =FORECAST($AS$39,R63:S63,$Q$38:$R$38)*1.1 -> 1771.8558 | AW46: 140 | AY46: =FORECAST($AY$39,W46:X46,$L$38:$M$38) -> 1.33 | AZ46: =FORECAST($AZ$39,X46:Y46,$M$38:$N$38) -> 1.32 | BA46: =FORECAST($BA$39,X46:Y46,$X$38:$Y$38) -> 1.305 | BB46: =FORECAST($BB$39,AB46:AC46,$Q$38:$R$38) -> 1.295 | BC46: =FORECAST($BC$39,AB46:AC46,$Q$38:$R$38) -> 1.265 | BD46: =FORECAST($BD$39,AB46:AC46,$Q$38:$R$38) -> 1.235 | BH46: 1 | BI46: 3.41 | BJ46: 3.96 | BK46: 4.93 | BL46: 140
J47: 150 | K47: 569.4 | L47: 716.04 | M47: 1190.28 | N47: 1233.96 | O47: 1233.96 | P47: =Q47*0.95 -> 1425.684 | Q47: 1500.72 | R47: =S47*0.915 -> 1475.9316 | S47: 1613.04 | U47: 150 | V47: 1.4 | W47: 1.35 | X47: 1.32 | Y47: 1.3 | Z47: 1.3 | AA47: 1.28 | AB47: 1.28 | AC47: 1.25 | AD47: 1.25 | AF47: 1 | AG47: 3.41 | AH47: 3.96 | AI47: 4.93 | AJ47: 150 | AL47: 150 | AN47: =FORECAST($AN$39,L47:M47,$L$38:$M$38) -> 1032.2 | AO47: =FORECAST($AO$39,M47:N47,$M$38:$N$38) -> 1190.28 | AP47: =FORECAST($AP$39,P64:Q64,$Q$38:$R$38) -> 1337.7507 | AQ47: =FORECAST($AQ$39,R64:S64,$R$61:$S$61) -> 1444.56 | AR47: =FORECAST($AR$39,R64:S64,$R$61:$S$61) -> 1556.88 | AS47: =FORECAST($AS$39,R64:S64,$Q$38:$R$38)*1.1 -> 1836.12 | AW47: 150 | AY47: =FORECAST($AY$39,W47:X47,$L$38:$M$38) -> 1.33 | AZ47: =FORECAST($AZ$39,X47:Y47,$M$38:$N$38) -> 1.32 | BA47: =FORECAST($BA$39,X47:Y47,$X$38:$Y$38) -> 1.305 | BB47: =FORECAST($BB$39,AB47:AC47,$Q$38:$R$38) -> 1.295 | BC47: =FORECAST($BC$39,AB47:AC47,$Q$38:$R$38) -> 1.265 | BD47: =FORECAST($BD$39,AB47:AC47,$Q$38:$R$38) -> 1.235 | BH47: 1 | BI47: 3.41 | BJ47: 3.96 | BK47: 4.93 | BL47: 150
J48: 200 | K48: 790.21989 | L48: 897.97714 | M48: 1134.6176 | N48: 1215.3302 | O48: 1538.6891 | Q48: 1679.2173 | S48: 1755.9257 | U48: 200 | AF48: 1 | AG48: 2.73 | AH48: 3.11 | AI48: 3.89 | AJ48: 150.16 | AL48: 180 | AN48: =FORECAST($AL$48,AN46:AN47,$AL$46:$AL$47) -> 1140.581 | AO48: =FORECAST($AL$48,AO46:AO47,$AL$46:$AL$47) -> 1315.2594 | AP48: =FORECAST($AL$48,AP46:AP47,$AL$46:$AL$47) -> 1478.2145 | AQ48: =FORECAST($AL$48,AQ46:AQ47,$AL$46:$AL$47) -> 1596.2388 | AR48: =FORECAST($AL$48,AR46:AR47,$AL$46:$AL$47) -> 1720.3524 | AS48: =FORECAST($AL$48,AS46:AS47,$AL$46:$AL$47) -> 2028.9126 | AW48: 180 | AY48: =FORECAST($AW$48,AY46:AY47,$AW$46:$AW$47) -> 1.33 | AZ48: =FORECAST($AW$48,AZ46:AZ47,$AW$46:$AW$47) -> 1.32 | BA48: =FORECAST($AW$48,BA46:BA47,$AW$46:$AW$47) -> 1.305 | BB48: =FORECAST($AW$48,BB46:BB47,$AW$46:$AW$47) -> 1.295 | BC48: =FORECAST($AW$48,BC46:BC47,$AW$46:$AW$47) -> 1.265 | BD48: =FORECAST($AW$48,BD46:BD47,$AW$46:$AW$47) -> 1.235 | BH48: 1 | BI48: 2.73 | BJ48: 3.11 | BK48: 3.89 | BL48: 150.16
...

Sheet Быстрый подбор
B3: Бренд | C3: Модель | D3: Высота, мм | F3: Ширина, мм | H3: Длина, мм | J3: Исполнение ТО | L3: Масса изделия с упаковкой, кг | M3: Теплоотдача при (95/85/20), Вт | N3: Конвектор, руб | O3: Решетка с окантовкой серебро, руб | P3: Конвектор с решеткой и окантовкой серебро, руб
A5: 1 | L5: {=IF(B5="","",IFERROR(INDEX(БВ!$O$4:$O$302,MATCH(C5&D5&F5&H5&J5,БВ!$E$4:$E$302&БВ!$G$4:$G$302&БВ!$I$4:$I$302&БВ!$K$4:$K$302&БВ!$M$4:$M$302,0)),IFERROR(INDEX(БВ!$AF$4:$AF$302,MATCH(C5&D5&F5&H5&J5,БВ!$V$4:$V$302&БВ!$X$4:$X$302&БВ!$Z$4:$Z$302&БВ!$AB$4:$AB$302&БВ!$AD$4:$AD$302,0)),IFERROR(INDEX(БВ!$AW$4:$AW$302,MATCH(C5&D5&F5&H5&J5,БВ!$AM$4:$AM$302&БВ!$AO$4:$AO$302&БВ!$AQ$4:$AQ$302&БВ!$AS$4:$AS$302&БВ!$AU$4:$AU$302,0)),IFERROR(INDEX(БВ!$BN$4:$BN$302,MATCH(C5&D5&F5&H5&J5,БВ!$BD$4:$BD$302&БВ!$BF$4:$BF$302&БВ!$BH$4:$BH$302&БВ!$BJ$4:$BJ$302&БВ!$BL$4:$BL$302,0)),IFERROR(INDEX(БВ!$CE$4:$CE$302,MATCH(C5&D5&F5&H5&J5,БВ!$BU$4:$BU$302&БВ!$BW$4:$BW$302&БВ!$BY$4:$BY$302&БВ!$CA$4:$CA$302&БВ!$CC$4:$CC$302,0)),IFERROR(INDEX('24v'!$O$4:$O$302,MATCH(C5&D5&F5&H5&J5,'24v'!$E$4:$E$302&'24v'!$G$4:$G$302&'24v'!$I$4:$I$302&'24v'!$K$4:$K$302&'24v'!$M$4:$M$302,0)),IFERROR(INDEX('24v'!$AF$4:$AF$302,MATCH(C5&D5&F5&H5&J5,'24v'!$V$4:$V$302&'24v'!$X$4:$X$302&'24v'!$Z$4:$Z$302&'24v'!$AB$4:$AB$302&'24v'!$AD$4:$AD$302,0)),IFERROR(INDEX('24v'!$AW$4:$AW$302,MATCH(C5&D5&F5&H5&J5,'24v'!$AM$4:$AM$302&'24v'!$AO$4:$AO$302&'24v'!$AQ$4:$AQ$302&'24v'!$AS$4:$AS$302&'24v'!$AU$4:$AU$302,0)),IFERROR(INDEX('24v'!$BN$4:$BN$302,MATCH(C5&D5&F5&H5&J5,'24v'!$BD$4:$BD$302&'24v'!$BF$4:$BF$302&'24v'!$BH$4:$BH$302&'24v'!$BJ$4:$BJ$302&'24v'!$BL$4:$BL$302,0)),IFERROR(INDEX('24v'!$CE$4:$CE$302,MATCH(C5&D5&F5&H5&J5,'24v'!$BU$4:$BU$302&'24v'!$BW$4:$BW$302&'24v'!$BY$4:$BY$302&'24v'!$CA$4:$CA$302&'24v'!$CC$4:$CC$302,0)),"Модель отсутствует")))))))))))} | M5: {=IF(B5="","",IFERROR(INDEX(БВ!$P$4:$P$302,MATCH(C5&D5&F5&H5&J5,БВ!$E$4:$E$302&БВ!$G$4:$G$302&БВ!$I$4:$I$302&БВ!$K$4:$K$302&БВ!$M$4:$M$302,0)),IFERROR(INDEX(БВ!$AG$4:$AG$302,MATCH(C5&D5&F5&H5&J5,БВ!$V$4:$V$302&БВ!$X$4:$X$302&БВ!$Z$4:$Z$302&БВ!$AB$4:$AB$302&БВ!$AD$4:$AD$302,0)),IFERROR(INDEX(БВ!$AX$4:$AX$302,MATCH(C5&D5&F5&H5&J5,БВ!$AM$4:$AM$302&БВ!$AO$4:$AO$302&БВ!$AQ$4:$AQ$302&БВ!$AS$4:$AS$302&БВ!$AU$4:$AU$302,0)),IFERROR(INDEX(БВ!$BO$4:$BO$302,MATCH(C5&D5&F5&H5&J5,БВ!$BD$4:$BD$302&БВ!$BF$4:$BF$302&БВ!$BH$4:$BH$302&БВ!$BJ$4:$BJ$302&БВ!$BL$4:$BL$302,0)),IFERROR(INDEX(БВ!$CF$4:$CF$302,MATCH(C5&D5&F5&H5&J5,БВ!$BU$4:$BU$302&БВ!$BW$4:$BW$302&БВ!$BY$4:$BY$302&БВ!$CA$4:$CA$302&БВ!$CC$4:$CC$302,0)),IFERROR(INDEX('24v'!$P$4:$P$302,MATCH(C5&D5&F5&H5&J5,'24v'!$E$4:$E$302&'24v'!$G$4:$G$302&'24v'!$I$4:$I$302&'24v'!$K$4:$K$302&'24v'!$M$4:$M$302,0)),IFERROR(INDEX('24v'!$AG$4:$AG$302,MATCH(C5&D5&F5&H5&J5,'24v'!$V$4:$V$302&'24v'!$X$4:$X$302&'24v'!$Z$4:$Z$302&'24v'!$AB$4:$AB$302&'24v'!$AD$4:$AD$302,0)),IFERROR(INDEX('24v'!$AX$4:$AX$302,MATCH(C5&D5&F5&H5&J5,'24v'!$AM$4:$AM$302&'24v'!$AO$4:$AO$302&'24v'!$AQ$4:$AQ$302&'24v'!$AS$4:$AS$302&'24v'!$AU$4:$AU$302,0)),IFERROR(INDEX('24v'!$BO$4:$BO$302,MATCH(C5&D5&F5&H5&J5,'24v'!$BD$4:$BD$302&'24v'!$BF$4:$BF$302&'24v'!$BH$4:$BH$302&'24v'!$BJ$4:$BJ$302&'24v'!$BL$4:$BL$302,0)),IFERROR(INDEX('24v'!$CF$4:$CF$302,MATCH(C5&D5&F5&H5&J5,'24v'!$BU$4:$BU$302&'24v'!$BW$4:$BW$302&'24v'!$BY$4:$BY$302&'24v'!$CA$4:$CA$302&'24v'!$CC$4:$CC$302,0)),"Модель отсутствует")))))))))))} | N5: {=IF(B5="","",IFERROR(INDEX(БВ!$Q$4:$Q$302,MATCH(C5&D5&F5&H5&J5,БВ!$E$4:$E$302&БВ!$G$4:$G$302&БВ!$I$4:$I$302&БВ!$K$4:$K$302&БВ!$M$4:$M$302,0)),IFERROR(INDEX(БВ!$AH$4:$AH$302,MATCH(C5&D5&F5&H5&J5,БВ!$V$4:$V$302&БВ!$X$4:$X$302&БВ!$Z$4:$Z$302&БВ!$AB$4:$AB$302&БВ!$AD$4:$AD$302,0)),IFERROR(INDEX(БВ!$AY$4:$AY$302,MATCH(C5&D5&F5&H5&J5,БВ!$AM$4:$AM$302&БВ!$AO$4:$AO$302&БВ!$AQ$4:$AQ$302&БВ!$AS$4:$AS$302&БВ!$AU$4:$AU$302,0)),IFERROR(INDEX(БВ!$BP$4:$BP$302,MATCH(C5&D5&F5&H5&J5,БВ!$BD$4:$BD$302&БВ!$BF$4:$BF$302&БВ!$BH$4:$BH$302&БВ!$BJ$4:$BJ$302&БВ!$BL$4:$BL$302,0)),IFERROR(INDEX(БВ!$CG$4:$CG$302,MATCH(C5&D5&F5&H5&J5,БВ!$BU$4:$BU$302&БВ!$BW$4:$BW$302&БВ!$BY$4:$BY$302&БВ!$CA$4:$CA$302&БВ!$CC$4:$CC$302,0)),IFERROR(INDEX('24v'!$Q$4:$Q$302,MATCH(C5&D5&F5&H5&J5,'24v'!$E$4:$E$302&'24v'!$G$4:$G$302&'24v'!$I$4:$I$302&'24v'!$K$4:$K$302&'24v'!$M$4:$M$302,0)),IFERROR(INDEX('24v'!$AH$4:$AH$302,MATCH(C5&D5&F5&H5&J5,'24v'!$V$4:$V$302&'24v'!$X$4:$X$302&'24v'!$Z$4:$Z$302&'24v'!$AB$4:$AB$302&'24v'!$AD$4:$AD$302,0)),IFERROR(INDEX('24v'!$AY$4:$AY$302,MATCH(C5&D5&F5&H5&J5,'24v'!$AM$4:$AM$302&'24v'!$AO$4:$AO$302&'24v'!$AQ$4:$AQ$302&'24v'!$AS$4:$AS$302&'24v'!$AU$4:$AU$302,0)),IFERROR(INDEX('24v'!$BP$4:$BP$302,MATCH(C5&D5&F5&H5&J5,'24v'!$BD$4:$BD$302&'24v'!$BF$4:$BF$302&'24v'!$BH$4:$BH$302&'24v'!$BJ$4:$BJ$302&'24v'!$BL$4:$BL$302,0)),IFERROR(INDEX('24v'!$CG$4:$CG$302,MATCH(C5&D5&F5&H5&J5,'24v'!$BU$4:$BU$302&'24v'!$BW$4:$BW$302&'24v'!$BY$4:$BY$302&'24v'!$CA$4:$CA$302&'24v'!$CC$4:$CC$302,0)),"Модель отсутствует")))))))))))} | O5: {=IF(B5="","",IFERROR(INDEX(БВ!$R$4:$R$302,MATCH(F5&H5,БВ!$I$4:$I$302&БВ!$K$4:$K$302,0)),"Модель отсутствует"))} | P5: =IF(B5="","",(N5+O5)) | R5: Wtherm | S5: КР | T5: 75 | U5: 180 | V5: 600 | W5: 2 | X5: ТГ
A6: 2 | L6: {=IF(B6="","",IFERROR(INDEX(БВ!$O$4:$O$302,MATCH(C6&D6&F6&H6&J6,БВ!$E$4:$E$302&БВ!$G$4:$G$302&БВ!$I$4:$I$302&БВ!$K$4:$K$302&БВ!$M$4:$M$302,0)),IFERROR(INDEX(БВ!$AF$4:$AF$302,MATCH(C6&D6&F6&H6&J6,БВ!#REF!&БВ!$X$4:$X$302&БВ!$Z$4:$Z$302&БВ!$AB$4:$AB$302&БВ!$AD$4:$AD$302,0)),IFERROR(INDEX(БВ!$AW$4:$AW$302,MATCH(C6&D6&F6&H6&J6,БВ!$AM$4:$AM$302&БВ!$AO$4:$AO$302&БВ!$AQ$4:$AQ$302&БВ!$AS$4:$AS$302&БВ!$AU$4:$AU$302,0)),IFERROR(INDEX(БВ!$BN$4:$BN$302,MATCH(C6&D6&F6&H6&J6,БВ!$BD$4:$BD$302&БВ!$BF$4:$BF$302&БВ!$BH$4:$BH$302&БВ!$BJ$4:$BJ$302&БВ!$BL$4:$BL$302,0)),IFERROR(INDEX(БВ!$CE$4:$CE$302,MATCH(C6&D6&F6&H6&J6,БВ!$BU$4:$BU$302&БВ!$BW$4:$BW$302&БВ!$BY$4:$BY$302&БВ!$CA$4:$CA$302&БВ!$CC$4:$CC$302,0)),IFERROR(INDEX('24v'!$O$4:$O$302,MATCH(C6&D6&F6&H6&J6,'24v'!$E$4:$E$302&'24v'!$G$4:$G$302&'24v'!$I$4:$I$302&'24v'!$K$4:$K$302&'24v'!$M$4:$M$302,0)),IFERROR(INDEX('24v'!$AF$4:$AF$302,MATCH(C6&D6&F6&H6&J6,'24v'!$V$4:$V$302&'24v'!$X$4:$X$302&'24v'!$Z$4:$Z$302&'24v'!$AB$4:$AB$302&'24v'!$AD$4:$AD$302,0)),IFERROR(INDEX('24v'!$AW$4:$AW$302,MATCH(C6&D6&F6&H6&J6,'24v'!$AM$4:$AM$302&'24v'!$AO$4:$AO$302&'24v'!$AQ$4:$AQ$302&'24v'!$AS$4:$AS$302&'24v'!$AU$4:$AU$302,0)),IFERROR(INDEX('24v'!$BN$4:$BN$302,MATCH(C6&D6&F6&H6&J6,'24v'!$BD$4:$BD$302&'24v'!$BF$4:$BF$302&'24v'!$BH$4:$BH$302&'24v'!$BJ$4:$BJ$302&'24v'!$BL$4:$BL$302,0)),IFERROR(INDEX('24v'!$CE$4:$CE$302,MATCH(C6&D6&F6&H6&J6,'24v'!$BU$4:$BU$302&'24v'!$BW$4:$BW$302&'24v'!$BY$4:$BY$302&'24v'!$CA$4:$CA$302&'24v'!$CC$4:$CC$302,0)),"Модель отсутствует")))))))))))} | M6: {=IF(B6="","",IFERROR(INDEX(БВ!$P$4:$P$302,MATCH(C6&D6&F6&H6&J6,БВ!$E$4:$E$302&БВ!$G$4:$G$302&БВ!$I$4:$I$302&БВ!$K$4:$K$302&БВ!$M$4:$M$302,0)),IFERROR(INDEX(БВ!$AG$4:$AG$302,MATCH(C6&D6&F6&H6&J6,БВ!#REF!&БВ!$X$4:$X$302&БВ!$Z$4:$Z$302&БВ!$AB$4:$AB$302&БВ!$AD$4:$AD$302,0)),IFERROR(INDEX(БВ!$AX$4:$AX$302,MATCH(C6&D6&F6&H6&J6,БВ!$AM$4:$AM$302&БВ!$AO$4:$AO$302&БВ!$AQ$4:$AQ$302&БВ!$AS$4:$AS$302&БВ!$AU$4:$AU$302,0)),IFERROR(INDEX(БВ!$BO$4:$BO$302,MATCH(C6&D6&F6&H6&J6,БВ!$BD$4:$BD$302&БВ!$BF$4:$BF$302&БВ!$BH$4:$BH$302&БВ!$BJ$4:$BJ$302&БВ!$BL$4:$BL$302,0)),IFERROR(INDEX(БВ!$CF$4:$CF$302,MATCH(C6&D6&F6&H6&J6,БВ!$BU$4:$BU$302&БВ!$BW$4:$BW$302&БВ!$BY$4:$BY$302&БВ!$CA$4:$CA$302&БВ!$CC$4:$CC$302,0)),IFERROR(INDEX('24v'!$P$4:$P$302,MATCH(C6&D6&F6&H6&J6,'24v'!$E$4:$E$302&'24v'!$G$4:$G$302&'24v'!$I$4:$I$302&'24v'!$K$4:$K$302&'24v'!$M$4:$M$302,0)),IFERROR(INDEX('24v'!$AG$4:$AG$302,MATCH(C6&D6&F6&H6&J6,'24v'!$V$4:$V$302&'24v'!$X$4:$X$302&'24v'!$Z$4:$Z$302&'24v'!$AB$4:$AB$302&'24v'!$AD$4:$AD$302,0)),IFERROR(INDEX('24v'!$AX$4:$AX$302,MATCH(C6&D6&F6&H6&J6,'24v'!$AM$4:$AM$302&'24v'!$AO$4:$AO$302&'24v'!$AQ$4:$AQ$302&'24v'!$AS$4:$AS$302&'24v'!$AU$4:$AU$302,0)),IFERROR(INDEX('24v'!$BO$4:$BO$302,MATCH(C6&D6&F6&H6&J6,'24v'!$BD$4:$BD$302&'24v'!$BF$4:$BF$302&'24v'!$BH$4:$BH$302&'24v'!$BJ$4:$BJ$302&'24v'!$BL$4:$BL$302,0)),IFERROR(INDEX('24v'!$CF$4:$CF$302,MATCH(C6&D6&F6&H6&J6,'24v'!$BU$4:$BU$302&'24v'!$BW$4:$BW$302&'24v'!$BY$4:$BY$302&'24v'!$CA$4:$CA$302&'24v'!$CC$4:$CC$302,0)),"Модель отсутствует")))))))))))} | N6: {=IF(B6="","",IFERROR(INDEX(БВ!$Q$4:$Q$302,MATCH(C6&D6&F6&H6&J6,БВ!$E$4:$E$302&БВ!$G$4:$G$302&БВ!$I$4:$I$302&БВ!$K$4:$K$302&БВ!$M$4:$M$302,0)),IFERROR(INDEX(БВ!$AH$4:$AH$302,MATCH(C6&D6&F6&H6&J6,БВ!#REF!&БВ!$X$4:$X$302&БВ!$Z$4:$Z$302&БВ!$AB$4:$AB$302&БВ!$AD$4:$AD$302,0)),IFERROR(INDEX(БВ!$AY$4:$AY$302,MATCH(C6&D6&F6&H6&J6,БВ!$AM$4:$AM$302&БВ!$AO$4:$AO$302&БВ!$AQ$4:$AQ$302&БВ!$AS$4:$AS$302&БВ!$AU$4:$AU$302,0)),IFERROR(INDEX(БВ!$BP$4:$BP$302,MATCH(C6&D6&F6&H6&J6,БВ!$BD$4:$BD$302&БВ!$BF$4:$BF$302&БВ!$BH$4:$BH$302&БВ!$BJ$4:$BJ$302&БВ!$BL$4:$BL$302,0)),IFERROR(INDEX(БВ!$CG$4:$CG$302,MATCH(C6&D6&F6&H6&J6,БВ!$BU$4:$BU$302&БВ!$BW$4:$BW$302&БВ!$BY$4:$BY$302&БВ!$CA$4:$CA$302&БВ!$CC$4:$CC$302,0)),IFERROR(INDEX('24v'!$Q$4:$Q$302,MATCH(C6&D6&F6&H6&J6,'24v'!$E$4:$E$302&'24v'!$G$4:$G$302&'24v'!$I$4:$I$302&'24v'!$K$4:$K$302&'24v'!$M$4:$M$302,0)),IFERROR(INDEX('24v'!$AH$4:$AH$302,MATCH(C6&D6&F6&H6&J6,'24v'!$V$4:$V$302&'24v'!$X$4:$X$302&'24v'!$Z$4:$Z$302&'24v'!$AB$4:$AB$302&'24v'!$AD$4:$AD$302,0)),IFERROR(INDEX('24v'!$AY$4:$AY$302,MATCH(C6&D6&F6&H6&J6,'24v'!$AM$4:$AM$302&'24v'!$AO$4:$AO$302&'24v'!$AQ$4:$AQ$302&'24v'!$AS$4:$AS$302&'24v'!$AU$4:$AU$302,0)),IFERROR(INDEX('24v'!$BP$4:$BP$302,MATCH(C6&D6&F6&H6&J6,'24v'!$BD$4:$BD$302&'24v'!$BF$4:$BF$302&'24v'!$BH$4:$BH$302&'24v'!$BJ$4:$BJ$302&'24v'!$BL$4:$BL$302,0)),IFERROR(INDEX('24v'!$CG$4:$CG$302,MATCH(C6&D6&F6&H6&J6,'24v'!$BU$4:$BU$302&'24v'!$BW$4:$BW$302&'24v'!$BY$4:$BY$302&'24v'!$CA$4:$CA$302&'24v'!$CC$4:$CC$302,0)),"Модель отсутствует")))))))))))} | O6: {=IF(B6="","",IFERROR(INDEX(БВ!$R$4:$R$302,MATCH(F6&H6,БВ!$I$4:$I$302&БВ!$K$4:$K$302,0)),"Модель отсутствует"))} | P6: =IF(B6="","",(N6+O6)) | S6: КРВ | T6: 90 | U6: 240 | V6: 650 | W6: 3 | X6: ТК
A7: 3 | L7: {=IF(B7="","",IFERROR(INDEX(БВ!$O$4:$O$302,MATCH(C7&D7&F7&H7&J7,БВ!$E$4:$E$302&БВ!$G$4:$G$302&БВ!$I$4:$I$302&БВ!$K$4:$K$302&БВ!$M$4:$M$302,0)),IFERROR(INDEX(БВ!$AF$4:$AF$302,MATCH(C7&D7&F7&H7&J7,БВ!#REF!&БВ!$X$4:$X$302&БВ!$Z$4:$Z$302&БВ!$AB$4:$AB$302&БВ!$AD$4:$AD$302,0)),IFERROR(INDEX(БВ!$AW$4:$AW$302,MATCH(C7&D7&F7&H7&J7,БВ!$AM$4:$AM$302&БВ!$AO$4:$AO$302&БВ!$AQ$4:$AQ$302&БВ!$AS$4:$AS$302&БВ!$AU$4:$AU$302,0)),IFERROR(INDEX(БВ!$BN$4:$BN$302,MATCH(C7&D7&F7&H7&J7,БВ!$BD$4:$BD$302&БВ!$BF$4:$BF$302&БВ!$BH$4:$BH$302&БВ!$BJ$4:$BJ$302&БВ!$BL$4:$BL$302,0)),IFERROR(INDEX(БВ!$CE$4:$CE$302,MATCH(C7&D7&F7&H7&J7,БВ!$BU$4:$BU$302&БВ!$BW$4:$BW$302&БВ!$BY$4:$BY$302&БВ!$CA$4:$CA$302&БВ!$CC$4:$CC$302,0)),IFERROR(INDEX('24v'!$O$4:$O$302,MATCH(C7&D7&F7&H7&J7,'24v'!$E$4:$E$302&'24v'!$G$4:$G$302&'24v'!$I$4:$I$302&'24v'!$K$4:$K$302&'24v'!$M$4:$M$302,0)),IFERROR(INDEX('24v'!$AF$4:$AF$302,MATCH(C7&D7&F7&H7&J7,'24v'!$V$4:$V$302&'24v'!$X$4:$X$302&'24v'!$Z$4:$Z$302&'24v'!$AB$4:$AB$302&'24v'!$AD$4:$AD$302,0)),IFERROR(INDEX('24v'!$AW$4:$AW$302,MATCH(C7&D7&F7&H7&J7,'24v'!$AM$4:$AM$302&'24v'!$AO$4:$AO$302&'24v'!$AQ$4:$AQ$302&'24v'!$AS$4:$AS$302&'24v'!$AU$4:$AU$302,0)),IFERROR(INDEX('24v'!$BN$4:$BN$302,MATCH(C7&D7&F7&H7&J7,'24v'!$BD$4:$BD$302&'24v'!$BF$4:$BF$302&'24v'!$BH$4:$BH$302&'24v'!$BJ$4:$BJ$302&'24v'!$BL$4:$BL$302,0)),IFERROR(INDEX('24v'!$CE$4:$CE$302,MATCH(C7&D7&F7&H7&J7,'24v'!$BU$4:$BU$302&'24v'!$BW$4:$BW$302&'24v'!$BY$4:$BY$302&'24v'!$CA$4:$CA$302&'24v'!$CC$4:$CC$302,0)),"Модель отсутствует")))))))))))} | M7: {=IF(B7="","",IFERROR(INDEX(БВ!$P$4:$P$302,MATCH(C7&D7&F7&H7&J7,БВ!$E$4:$E$302&БВ!$G$4:$G$302&БВ!$I$4:$I$302&БВ!$K$4:$K$302&БВ!$M$4:$M$302,0)),IFERROR(INDEX(БВ!$AG$4:$AG$302,MATCH(C7&D7&F7&H7&J7,БВ!#REF!&БВ!$X$4:$X$302&БВ!$Z$4:$Z$302&БВ!$AB$4:$AB$302&БВ!$AD$4:$AD$302,0)),IFERROR(INDEX(БВ!$AX$4:$AX$302,MATCH(C7&D7&F7&H7&J7,БВ!$AM$4:$AM$302&БВ!$AO$4:$AO$302&БВ!$AQ$4:$AQ$302&БВ!$AS$4:$AS$302&БВ!$AU$4:$AU$302,0)),IFERROR(INDEX(БВ!$BO$4:$BO$302,MATCH(C7&D7&F7&H7&J7,БВ!$BD$4:$BD$302&БВ!$BF$4:$BF$302&БВ!$BH$4:$BH$302&БВ!$BJ$4:$BJ$302&БВ!$BL$4:$BL$302,0)),IFERROR(INDEX(БВ!$CF$4:$CF$302,MATCH(C7&D7&F7&H7&J7,БВ!$BU$4:$BU$302&БВ!$BW$4:$BW$302&БВ!$BY$4:$BY$302&БВ!$CA$4:$CA$302&БВ!$CC$4:$CC$302,0)),IFERROR(INDEX('24v'!$P$4:$P$302,MATCH(C7&D7&F7&H7&J7,'24v'!$E$4:$E$302&'24v'!$G$4:$G$302&'24v'!$I$4:$I$302&'24v'!$K$4:$K$302&'24v'!$M$4:$M$302,0)),IFERROR(INDEX('24v'!$AG$4:$AG$302,MATCH(C7&D7&F7&H7&J7,'24v'!$V$4:$V$302&'24v'!$X$4:$X$302&'24v'!$Z$4:$Z$302&'24v'!$AB$4:$AB$302&'24v'!$AD$4:$AD$302,0)),IFERROR(INDEX('24v'!$AX$4:$AX$302,MATCH(C7&D7&F7&H7&J7,'24v'!$AM$4:$AM$302&'24v'!$AO$4:$AO$302&'24v'!$AQ$4:$AQ$302&'24v'!$AS$4:$AS$302&'24v'!$AU$4:$AU$302,0)),IFERROR(INDEX('24v'!$BO$4:$BO$302,MATCH(C7&D7&F7&H7&J7,'24v'!$BD$4:$BD$302&'24v'!$BF$4:$BF$302&'24v'!$BH$4:$BH$302&'24v'!$BJ$4:$BJ$302&'24v'!$BL$4:$BL$302,0)),IFERROR(INDEX('24v'!$CF$4:$CF$302,MATCH(C7&D7&F7&H7&J7,'24v'!$BU$4:$BU$302&'24v'!$BW$4:$BW$302&'24v'!$BY$4:$BY$302&'24v'!$CA$4:$CA$302&'24v'!$CC$4:$CC$302,0)),"Модель отсутствует")))))))))))} | N7: {=IF(B7="","",IFERROR(INDEX(БВ!$Q$4:$Q$302,MATCH(C7&D7&F7&H7&J7,БВ!$E$4:$E$302&БВ!$G$4:$G$302&БВ!$I$4:$I$302&БВ!$K$4:$K$302&БВ!$M$4:$M$302,0)),IFERROR(INDEX(БВ!$AH$4:$AH$302,MATCH(C7&D7&F7&H7&J7,БВ!#REF!&БВ!$X$4:$X$302&БВ!$Z$4:$Z$302&БВ!$AB$4:$AB$302&БВ!$AD$4:$AD$302,0)),IFERROR(INDEX(БВ!$AY$4:$AY$302,MATCH(C7&D7&F7&H7&J7,БВ!$AM$4:$AM$302&БВ!$AO$4:$AO$302&БВ!$AQ$4:$AQ$302&БВ!$AS$4:$AS$302&БВ!$AU$4:$AU$302,0)),IFERROR(INDEX(БВ!$BP$4:$BP$302,MATCH(C7&D7&F7&H7&J7,БВ!$BD$4:$BD$302&БВ!$BF$4:$BF$302&БВ!$BH$4:$BH$302&БВ!$BJ$4:$BJ$302&БВ!$BL$4:$BL$302,0)),IFERROR(INDEX(БВ!$CG$4:$CG$302,MATCH(C7&D7&F7&H7&J7,БВ!$BU$4:$BU$302&БВ!$BW$4:$BW$302&БВ!$BY$4:$BY$302&БВ!$CA$4:$CA$302&БВ!$CC$4:$CC$302,0)),IFERROR(INDEX('24v'!$Q$4:$Q$302,MATCH(C7&D7&F7&H7&J7,'24v'!$E$4:$E$302&'24v'!$G$4:$G$302&'24v'!$I$4:$I$302&'24v'!$K$4:$K$302&'24v'!$M$4:$M$302,0)),IFERROR(INDEX('24v'!$AH$4:$AH$302,MATCH(C7&D7&F7&H7&J7,'24v'!$V$4:$V$302&'24v'!$X$4:$X$302&'24v'!$Z$4:$Z$302&'24v'!$AB$4:$AB$302&'24v'!$AD$4:$AD$302,0)),IFERROR(INDEX('24v'!$AY$4:$AY$302,MATCH(C7&D7&F7&H7&J7,'24v'!$AM$4:$AM$302&'24v'!$AO$4:$AO$302&'24v'!$AQ$4:$AQ$302&'24v'!$AS$4:$AS$302&'24v'!$AU$4:$AU$302,0)),IFERROR(INDEX('24v'!$BP$4:$BP$302,MATCH(C7&D7&F7&H7&J7,'24v'!$BD$4:$BD$302&'24v'!$BF$4:$BF$302&'24v'!$BH$4:$BH$302&'24v'!$BJ$4:$BJ$302&'24v'!$BL$4:$BL$302,0)),IFERROR(INDEX('24v'!$CG$4:$CG$302,MATCH(C7&D7&F7&H7&J7,'24v'!$BU$4:$BU$302&'24v'!$BW$4:$BW$302&'24v'!$BY$4:$BY$302&'24v'!$CA$4:$CA$302&'24v'!$CC$4:$CC$302,0)),"Модель отсутствует")))))))))))} | O7: {=IF(B7="","",IFERROR(INDEX(БВ!$R$4:$R$302,MATCH(F7&H7,БВ!$I$4:$I$302&БВ!$K$4:$K$302,0)),"Модель отсутствует"))} | P7: =IF(B7="","",(N7+O7)) | T7: 110 | U7: 290 | V7: 700 | W7: 4 | X7: ТП
