Workbook

Sheet Главная
A5: Для быстрого перехода в интересующий вас раздел нажмите на одну из ссылок ниже:
A6: Общее описание, особенности конструкции, комплектация
A7: Калькулятор теплоотдач БВ
A8: Калькулятор теплоотдач 24v
A9: Конвекторы встраиваемые в пол без вентиляторов (естественная конвекция):
A15: Конвекторы встраиваемые в пол с вентиляторами 24В DC (принудительная конвекция):
A21: Декоративная крышка

Sheet Описание
B1: Артикул
B2: 1 | D2: 2 | F2: 3 | H2: 4 | J2: 5 | L2: 6 | N2: 7 | P2: 8 | R2: 9
A4: Wtherm. | B4: КРВ. | D4: 90. | F4: 240. | H4: 3000. | J4: 2ТГ. | L4: 24. | N4: РПО. | P4: ААС. | R4: Л.
A6: 1. Наименование модели:
A7: • КР – Wtherm конвектор без вентилятора;
A8: • КРВ – Wtherm конвектор с вентилятором.
A10: 2. Высота модели, мм (выбирается из ряда):
A11: • 75, 90, 110, 140, 180
A13: 3. Ширина модели, мм (выбирается из ряда):
A14: • 180, 240, 290, 340, 380, 420.
A16: 4. Длина модели, мм:
A17: • в диапазоне 600…3000.
A19: 5. Количество труб (2, 4, 6, 8 …Т) теплообменника и исполнение:
A20: • Г – горизонтальный;
A21: • В – вертикальный;
... A38: • Л - левое.

Sheet Калькулятор
A1: Вернуться на главную страницу | J1: Калькулятор для подбора внутрипольного конвектора Wtherm.
B3: Коэффициенты
C4: Длина конвектора - Длина оребрения мм | H4: 350
B5: Температура на входе, ˚С | C5: 95
B6: Температура на выходе, ˚С | C6: 85
B7: Температура в помещении, ˚С | C7: 20
B8: ∆Т | C8: =(C5+C6)/2-C7 -> 70
B10: Требуемая мощность ВТ | C10: 1301 | D10: =C10*(1+C11%) -> 1431.1
B11: Погрешность + % | C11: 10 | D11: =C10*(1-C11%) -> 1170.9 | J11: =C10*(C11/100+1) -> 1431.1
B12: Погрешность - % | C12: 10 | J12: =C10*ABS(C12/100-1) -> 1170.9
J18: 15 труба | AG18: 15 труба
J19: Тепловая мощность, Вт/м | V19: Коэффициент n | AG19: Тепловая мощность, Вт/м | AS19: Коэффициент n
J20: Ширина | K20: 160 | L20: 200 | M20: 260 | N20: 300 | P20: 360 | Q20: 360 | R20: 400 | S20: 400 | V20: Ширина | W20: 160 | X20: 200 | Y20: 260 | Z20: 300 | AB20: 360 | AD20: 400 | AG20: Высота | AH20: Ширина | AS20: Высота | AT20: Ширина
J21: Высота | N21: 1 | O21: 2 | P21: 1 | Q21: 2 | R21: 1 | S21: 2 | V21: Высота | Z21: 1 | AA21: 2 | AB21: 1 | AC21: 2 | AD21: 1 | AE21: 2 | AH21: 180 | AI21: 240 | AJ21: 260 | AK21: 290 | AL21: 340 | AM21: 380 | AN21: 420 | AT21: 180 | AU21: 240 | AV21: 260 | AW21: 290 | AX21: 340 | AY21: 380 | AZ21: 420
J22: 65 | V22: 65 | AG22: 75-110 | AH22: 2ТГ | AI22: 2ТГ | AJ22: 2ТГ | AK22: 3ТГ | AL22: 3ТГ | AM22: 4ТГ | AN22: 4ТГ | AS22: 75-110 | AT22: 2ТГ | AU22: 2ТГ | AV22: 2ТГ | AW22: 3ТГ | AX22: 3ТГ | AY22: 4ТГ | AZ22: 4ТГ
J23: 70 | V23: 70 | AG23: 75 | AH23: =FORECAST($AH$21,K24:L24,$K$20:$L$20) -> 271.149 | AI23: =FORECAST($AI$21,L24:M24,$L$20:$M$20) -> 340.228 | AJ23: =FORECAST($AJ$21,L24:M24,$L$20:$M$20) -> 367.632 | AK23: =(N24+O24)/2 -> 461.96861 | AL23: =AK23*Q24/O24 -> 496.22744 | AM23: =FORECAST($AM$21,Q24:R24,$Q$20:$R$20) -> 576.77287 | AN23: =FORECAST($AN$21,Q24:R24,$Q$20:$R$20) -> 593.94502 | AS23: 75 | AT23: =FORECAST($AH$21,W24:X24,$K$20:$L$20) -> 1.675 | AU23: =FORECAST($AI$21,X24:Y24,$L$20:$M$20) -> 1.6166667 | AV23: =FORECAST($AJ$21,X24:Y24,$L$20:$M$20) -> 1.6 | AW23: =(Z24+AA24)/2 -> 1.55 | AX23: =AW23*AC24/AA24 -> 1.5 | AY23: =FORECAST($AM$21,AC24:AD24,$Q$20:$R$20) -> 1.475 | AZ23: =FORECAST($AN$21,AC24:AD24,$Q$20:$R$20) -> 1.425
J24: 75 | K24: =L24*0.9 -> 256.878 | L24: =L26*0.71 -> 285.42 | M24: =M26*0.69 -> 367.632 | N24: =N26*0.66 -> 394.97722 | O24: =O26*0.76 -> 528.96 | Q24: =Q26*0.74 -> 568.1868 | R24: =R26*0.72 -> 585.35895 | S24: =S26*0.76 -> 762.432 | V24: 75 | W24: 1.7 | X24: 1.65 | Y24: 1.6 | Z24: 1.55 | AA24: 1.55 | AC24: 1.5 | AD24: 1.45 | AE24: 1.45 | AG24: 90 | AH24: =FORECAST($AH$21,K26:L26,$K$20:$L$20) -> 379.89 | AI24: =FORECAST($AI$21,L26:M26,$L$20:$M$20) -> 489.2 | AJ24: =FORECAST($AJ$21,L26:M26,$L$20:$M$20) -> 532.8 | AK24: =(N26+O26)/2 -> 647.22517 | AL24: =AK24*Q26/O26 -> 714.01211 | AM24: =FORECAST($AM$21,Q26:R26,$Q$20:$R$20) -> 790.40927 | AN24: =FORECAST($AN$21,Q26:R26,$Q$20:$R$20) -> 835.58781 | AS24: 90 | AT24: =FORECAST($AH$21,W26:X26,$K$20:$L$20) -> 1.575 | AU24: =FORECAST($AI$21,X26:Y26,$L$20:$M$20) -> 1.5166667 | AV24: =FORECAST($AJ$21,X26:Y26,$L$20:$M$20) -> 1.5 | AW24: =(Z26+AA26)/2 -> 1.45 | AX24: =AW24*AC26/AA26 -> 1.4 | AY24: =FORECAST($AM$21,AC26:AD26,$Q$20:$R$20) -> 1.35 | AZ24: =FORECAST($AN$21,AC26:AD26,$Q$20:$R$20) -> 1.25
J25: 80 | V25: 80 | AG25: 110 | AH25: =FORECAST($AH$21,K27:L27,$K$20:$L$20) -> 473.89476 | AI25: =FORECAST($AI$21,L27:M27,$L$20:$M$20) -> 592.71333 | AJ25: =FORECAST($AJ$21,L27:M27,$L$20:$M$20) -> 636.99831 | AK25: =(N27+O27)/2 -> 775.09539 | AL25: =AK25*Q27/O27 -> 841.96063 | AM25: =FORECAST($AM$21,Q27:R27,$Q$20:$R$20) -> 964.28096 | AN25: =FORECAST($AN$21,Q27:R27,$Q$20:$R$20) -> 1007.3467 | AS25: 110 | AT25: =FORECAST($AH$21,W27:X27,$K$20:$L$20) -> 1.4 | AU25: =FORECAST($AI$21,X27:Y27,$L$20:$M$20) -> 1.3 | AV25: =FORECAST($AJ$21,X27:Y27,$L$20:$M$20) -> 1.3 | AW25: =(Z27+AA27)/2 -> 1.3 | AX25: =AW25*AC27/AA27 -> 1.3 | AY25: =FORECAST($AM$21,AC27:AD27,$Q$20:$R$20) -> 1.3 | AZ25: =FORECAST($AN$21,AC27:AD27,$Q$20:$R$20) -> 1.3
J26: 90 | K26: =L26*0.89 -> 357.78 | L26: =335*1.2 -> 402 | M26: =444*1.2 -> 532.8 | N26: =M26*1.12321759 -> 598.45033 | O26: =580*1.2 -> 696 | Q26: =L26*1.91 -> 767.82 | R26: =L26*2.02238442 -> 812.99854 | S26: =836*1.2 -> 1003.2 | V26: 90 | W26: 1.6 | X26: 1.55 | Y26: 1.5 | Z26: 1.45 | AA26: 1.45 | AC26: 1.4 | AD26: 1.3 | AE26: 1.3 | AG26: 140-180 | AH26: 4ТК | AI26: 4ТК | AJ26: 4ТК | AK26: 6ТП | AL26: 6ТП | AM26: 8ТП | AN26: 8ТП | AS26: 140-180 | AT26: 4ТК | AU26: 4ТК | AV26: 4ТК | AW26: 6ТП | AX26: 6ТП | AY26: 8ТП | AZ26: 8ТП
J27: 110 | K27: =L27*0.88 -> 443.64616 | L27: =L26*1.25408796 -> 504.14336 | M27: =L27*1.26352614 -> 636.99831 | N27: =M27*1.07113641 -> 682.31209 | O27: =O26*1.24695214 -> 867.87869 | Q27: =L27*1.87 -> 942.74808 | R27: =L27*1.95542361 -> 985.81383 | S27: =S26*1.12435712 -> 1127.9551 | V27: 110 | W27: 1.5 | X27: 1.3 | Y27: 1.3 | Z27: 1.3 | AA27: 1.3 | AC27: 1.3 | AD27: 1.3 | AE27: 1.3 | AG27: 140 | AH27: =FORECAST($AH$21,K28:L28,$K$20:$L$20) -> 700.52631 | AI27: =FORECAST($AI$21,L28:M28,$L$20:$M$20) -> 897.34403 | AJ27: =FORECAST($AJ$21,L28:M28,$L$20:$M$20) -> 971.40305 | AK27: =(N28+O28)/2 -> 1115.015 | AL27: =AK27*Q28/O28 -> 1174.8742 | AM27: =FORECAST($AM$21,Q28:R28,$Q$20:$R$20) -> 1270.8156 | AN27: =FORECAST($AN$21,Q28:R28,$Q$20:$R$20) -> 1364.7924 | AS27: 140 | AT27: =FORECAST($AH$21,W28:X28,$K$20:$L$20) -> 1.375 | AU27: =FORECAST($AI$21,X28:Y28,$L$20:$M$20) -> 1.3253333 | AV27: =FORECAST($AJ$21,X28:Y28,$L$20:$M$20) -> 1.318 | AW27: =(Z28+AA28)/2 -> 1.3 | AX27: =AW27*AC28/AA28 -> 1.28 | AY27: =FORECAST($AM$21,AC28:AD28,$Q$20:$R$20) -> 1.265 | AZ27: =FORECAST($AN$21,AC28:AD28,$Q$20:$R$20) -> 1.235
J28: 140 | K28: =K29*0.965 -> 651.82662 | L28: =L29*0.965 -> 749.226 | M28: =M29*0.965 -> 971.40305 | N28: =N29*0.965 -> 1068.5561 | O28: =O29*0.965 -> 1161.474 | P28: =P29*0.965 -> 1113.6828 | Q28: =Q29*0.965 -> 1223.8273 | R28: =R29*0.965 -> 1317.804 | S28: =S29*0.965 -> 1317.804 | V28: 140 | W28: 1.41 | X28: 1.34 | Y28: 1.318 | Z28: 1.3 | AA28: 1.3 | AB28: 1.28 | AC28: 1.28 | AD28: 1.25 | AE28: 1.25 | AG28: 150 | AH28: =FORECAST($AH$21,K29:L29,$K$20:$L$20) -> 725.934 | AI28: =FORECAST($AI$21,L29:M29,$L$20:$M$20) -> 929.89019 | AJ28: =FORECAST($AJ$21,L29:M29,$L$20:$M$20) -> 1006.6353 | AK28: =(N29+O29)/2 -> 1155.456 | AL28: =AK28*Q29/O29 -> 1217.4862 | AM28: =FORECAST($AM$21,Q29:R29,$Q$20:$R$20) -> 1316.9074 | AN28: =FORECAST($AN$21,Q29:R29,$Q$20:$R$20) -> 1414.2926 | AS28: 150 | AT28: =FORECAST($AH$21,W29:X29,$K$20:$L$20) -> 1.375 | AU28: =FORECAST($AI$21,X29:Y29,$L$20:$M$20) -> 1.33 | AV28: =FORECAST($AJ$21,X29:Y29,$L$20:$M$20) -> 1.32 | AW28: =(Z29+AA29)/2 -> 1.3 | AX28: =AW28*AC29/AA29 -> 1.28 | AY28: =FORECAST($AM$21,AC29:AD29,$Q$20:$R$20) -> 1.265 | AZ28: =FORECAST($AN$21,AC29:AD29,$Q$20:$R$20) -> 1.235
J29: 150 | K29: =L29*0.87 -> 675.468 | L29: =1.2*647 -> 776.4 | M29: =L29*1.2965421 -> 1006.6353 | N29: =O29*0.92 -> 1107.312 | O29: =1003*1.2 -> 1203.6 | P29: =Q29*0.91 -> 1154.0754 | Q29: =O29*1.05368459 -> 1268.2148 | R29: =1138*1.2 -> 1365.6 | S29: =1138*1.2 -> 1365.6 | V29: 150 | W29: 1.4 | X29: 1.35 | Y29: 1.32 | Z29: 1.3 | AA29: 1.3 | AB29: 1.28 | AC29: 1.28 | AD29: 1.25 | AE29: 1.25 | AG29: 180 | AH29: =FORECAST($AG$29,AH27:AH28,$AG$27:$AG$28) -> 802.15707 | AI29: =FORECAST($AG$29,AI27:AI28,$AG$27:$AG$28) -> 1027.5287 | AJ29: =FORECAST($AG$29,AJ27:AJ28,$AG$27:$AG$28) -> 1112.332 | AK29: =FORECAST($AG$29,AK27:AK28,$AG$27:$AG$28) -> 1276.7789 | AL29: =FORECAST($AG$29,AL27:AL28,$AG$27:$AG$28) -> 1345.3222 | AM29: =FORECAST($AG$29,AM27:AM28,$AG$27:$AG$28) -> 1455.1827 | AN29: =FORECAST($AG$29,AN27:AN28,$AG$27:$AG$28) -> 1562.7933 | AS29: 180 | AT29: =FORECAST($AS$29,AT27:AT28,$AS$27:$AS$28) -> 1.375 | AU29: =FORECAST($AS$29,AU27:AU28,$AS$27:$AS$28) -> 1.344 | AV29: =FORECAST($AS$29,AV27:AV28,$AS$27:$AS$28) -> 1.326 | AW29: =FORECAST($AS$29,AW27:AW28,$AS$27:$AS$28) -> 1.3 | AX29: =FORECAST($AS$29,AX27:AX28,$AS$27:$AS$28) -> 1.28 | AY29: =FORECAST($AS$29,AY27:AY28,$AS$27:$AS$28) -> 1.265 | AZ29: =FORECAST($AS$29,AZ27:AZ28,$AS$27:$AS$28) -> 1.235
J30: 200 | L30: =L29*1.15 -> 892.86 | M30: =M29*1.032 -> 1038.8476 | N30: =M30*1.07113641 -> 1112.7475 | Q30: =1874/1268*Q29 -> 1874.3174 | V30: 200 | W30: 1.3 | X30: 1.25 | Y30: 1.3 | Z30: 1.28 | AC30: 1.26
B36: *-голубым выделены ячейки для изменения параметров
B40: Модель | D40: Обозначение | E40: Высота | F40: Ширина | G40: ТО | H40: Длина, мм
H41: 500 | I41: 550 | J41: 600 | K41: 650 | L41: 700 | M41: 750 | N41: 800 | O41: 850 | P41: 900 | Q41: 950 | R41: 1000 | S41: 1050 | T41: 1100 | U41: 1150 | V41: 1200 | W41: 1250 | X41: 1300 | Y41: 1350 | Z41: 1400 | AA41: 1450 | AB41: 1500 | AC41: 1550 | AD41: 1600 | AE41: 1650 | AF41: 1700 | AG41: 1750 | AH41: 1800 | AI41: 1850 | AJ41: 1900 | AK41: 1950 | AL41: 2000 | AM41: 2050 | AN41: 2100 | AO41: 2150 | AP41: 2200 | AQ41: 2250 | AR41: 2300 | AS41: 2350 | AT41: 2400 | AU41: 2450 | AV41: 2500 | AW41: 2550 | AX41: 2600 | AY41: 2650 | AZ41: 2700 | BA41: 2750 | BB41: 2800 | BC41: 2850 | BD41: 2900 | BE41: 2950 | BF41: 3000
B42: =D42&"."&E42&"."&F42&"."&"ХХХ"&"."&G42 -> КР.75.180.ХХХ.2ТГ | D42: КР | E42: 75 | F42: 180 | G42: 2ТГ | H42: =((H$41-$H$4)/1000)*$AH$23*(($C$8/70)^$AT$23) -> 40.67235 | I42: =((I$41-$H$4)/1000)*$AH$23*(($C$8/70)^$AT$23) -> 54.2298 | J42: =((J$41-$H$4)/1000)*$AH$23*(($C$8/70)^$AT$23) -> 67.78725 | K42: =((K$41-$H$4)/1000)*$AH$23*(($C$8/70)^$AT$23) -> 81.3447 | L42: =((L$41-$H$4)/1000)*$AH$23*(($C$8/70)^$AT$23) -> 94.90215 | M42: =((M$41-$H$4)/1000)*$AH$23*(($C$8/70)^$AT$23) -> 108.4596 | N42: =((N$41-$H$4)/1000)*$AH$23*(($C$8/70)^$AT$23) -> 122.01705 | O42: =((O$41-$H$4)/1000)*$AH$23*(($C$8/70)^$AT$23) -> 135.5745 | ... BF42: =((BF$41-$H$4)/1000)*$AH$23*(($C$8/70)^$AT$23) -> 718.54485 | BG42: {=INDEX(E42:E42&"."&F42:F42&"."&$J$41:$BF$41&"."&G42:G42,MATCH($C$10,$J42:$BF42,1))} -> 75.180.3000.2ТГ
B43: =D43&"."&E43&"."&F43&"."&"ХХХ"&"."&G43 -> КР.75.240.ХХХ.2ТГ | D43: КР | E43: 75 | F43: 240 | G43: 2ТГ | H43: =((H$41-$H$4)/1000)*$AI$23*(($C$8/70)^$AU$23) -> 51.0342 | I43: =((I$41-$H$4)/1000)*$AI$23*(($C$8/70)^$AU$23) -> 68.0456 | J43: =((J$41-$H$4)/1000)*$AI$23*(($C$8/70)^$AU$23) -> 85.057 | K43: =((K$41-$H$4)/1000)*$AI$23*(($C$8/70)^$AU$23) -> 102.0684 | L43: =((L$41-$H$4)/1000)*$AI$23*(($C$8/70)^$AU$23) -> 119.0798 | M43: =((M$41-$H$4)/1000)*$AI$23*(($C$8/70)^$AU$23) -> 136.0912 | N43: =((N$41-$H$4)/1000)*$AI$23*(($C$8/70)^$AU$23) -> 153.1026 | O43: =((O$41-$H$4)/1000)*$AI$23*(($C$8/70)^$AU$23) -> 170.114 | ... BF43: =((BF$41-$H$4)/1000)*$AI$23*(($C$8/70)^$AU$23) -> 901.6042 | BG43: {=INDEX(E43:E43&"."&F43:F43&"."&$J$41:$BF$41&"."&G43:G43,MATCH($C$10,$J43:$BF43,1))} -> 75.240.3000.2ТГ
B44: =D44&"."&E44&"."&F44&"."&"ХХХ"&"."&G44 -> КР.75.260.ХХХ.2ТГ | D44: КР | E44: 75 | F44: 260 | G44: 2ТГ | H44: =((H$41-$H$4)/1000)*$AJ$23*(($C$8/70)^$AV$23) -> 55.1448 | I44: =((I$41-$H$4)/1000)*$AJ$23*(($C$8/70)^$AV$23) -> 73.5264 | J44: =((J$41-$H$4)/1000)*$AJ$23*(($C$8/70)^$AV$23) -> 91.908 | K44: =((K$41-$H$4)/1000)*$AJ$23*(($C$8/70)^$AV$23) -> 110.2896 | L44: =((L$41-$H$4)/1000)*$AJ$23*(($C$8/70)^$AV$23) -> 128.6712 | M44: =((M$41-$H$4)/1000)*$AJ$23*(($C$8/70)^$AV$23) -> 147.0528 | N44: =((N$41-$H$4)/1000)*$AJ$23*(($C$8/70)^$AV$23) -> 165.4344 | O44: =((O$41-$H$4)/1000)*$AJ$23*(($C$8/70)^$AV$23) -> 183.816 | ... BF44: =((BF$41-$H$4)/1000)*$AJ$23*(($C$8/70)^$AV$23) -> 974.2248 | BG44: {=INDEX(E44:E44&"."&F44:F44&"."&$J$41:$BF$41&"."&G44:G44,MATCH($C$10,$J44:$BF44,1))} -> 75.260.3000.2ТГ
B45: =D45&"."&E45&"."&F45&"."&"ХХХ"&"."&G45 -> КР.75.290.ХХХ.3ТГ | D45: КР | E45: 75 | F45: 290 | G45: 3ТГ | H45: =((H$41-$H$4)/1000)*$AK$23*(($C$8/70)^$AW$23) -> 69.295291 | I45: =((I$41-$H$4)/1000)*$AK$23*(($C$8/70)^$AW$23) -> 92.393722 | J45: =((J$41-$H$4)/1000)*$AK$23*(($C$8/70)^$AW$23) -> 115.49215 | K45: =((K$41-$H$4)/1000)*$AK$23*(($C$8/70)^$AW$23) -> 138.59058 | L45: =((L$41-$H$4)/1000)*$AK$23*(($C$8/70)^$AW$23) -> 161.68901 | M45: =((M$41-$H$4)/1000)*$AK$23*(($C$8/70)^$AW$23) -> 184.78744 | N45: =((N$41-$H$4)/1000)*$AK$23*(($C$8/70)^$AW$23) -> 207.88587 | O45: =((O$41-$H$4)/1000)*$AK$23*(($C$8/70)^$AW$23) -> 230.9843 | ... BF45: =((BF$41-$H$4)/1000)*$AK$23*(($C$8/70)^$AW$23) -> 1224.2168 | BG45: {=INDEX(E45:E45&"."&F45:F45&"."&$J$41:$BF$41&"."&G45:G45,MATCH($C$10,$J45:$BF45,1))} -> 75.290.3000.3ТГ
B46: =D46&"."&E46&"."&F46&"."&"ХХХ"&"."&G46 -> КР.75.340.ХХХ.3ТГ | D46: КР | E46: 75 | F46: 340 | G46: 3ТГ | H46: =((H$41-$H$4)/1000)*$AL$23*(($C$8/70)^$AX$23) -> 74.434116 | I46: =((I$41-$H$4)/1000)*$AL$23*(($C$8/70)^$AX$23) -> 99.245488 | J46: =((J$41-$H$4)/1000)*$AL$23*(($C$8/70)^$AX$23) -> 124.05686 | K46: =((K$41-$H$4)/1000)*$AL$23*(($C$8/70)^$AX$23) -> 148.86823 | L46: =((L$41-$H$4)/1000)*$AL$23*(($C$8/70)^$AX$23) -> 173.6796 | M46: =((M$41-$H$4)/1000)*$AL$23*(($C$8/70)^$AX$23) -> 198.49098 | N46: =((N$41-$H$4)/1000)*$AL$23*(($C$8/70)^$AX$23) -> 223.30235 | O46: =((O$41-$H$4)/1000)*$AL$23*(($C$8/70)^$AX$23) -> 248.11372 | ... BF46: =((BF$41-$H$4)/1000)*$AL$23*(($C$8/70)^$AX$23) -> 1315.0027 | BG46: {=INDEX(E46:E46&"."&F46:F46&"."&$J$41:$BF$41&"."&G46:G46,MATCH($C$10,$J46:$BF46,1))} -> 75.340.2950.3ТГ
B47: =D47&"."&E47&"."&F47&"."&"ХХХ"&"."&G47 -> КР.75.380.ХХХ.4ТГ | D47: КР | E47: 75 | F47: 380 | G47: 4ТГ | H47: =((H$41-$H$4)/1000)*$AM$23*(($C$8/70)^$AY$23) -> 86.515931 | I47: =((I$41-$H$4)/1000)*$AM$23*(($C$8/70)^$AY$23) -> 115.35457 | J47: =((J$41-$H$4)/1000)*$AM$23*(($C$8/70)^$AY$23) -> 144.19322 | K47: =((K$41-$H$4)/1000)*$AM$23*(($C$8/70)^$AY$23) -> 173.03186 | L47: =((L$41-$H$4)/1000)*$AM$23*(($C$8/70)^$AY$23) -> 201.87051 | M47: =((M$41-$H$4)/1000)*$AM$23*(($C$8/70)^$AY$23) -> 230.70915 | N47: =((N$41-$H$4)/1000)*$AM$23*(($C$8/70)^$AY$23) -> 259.54779 | O47: =((O$41-$H$4)/1000)*$AM$23*(($C$8/70)^$AY$23) -> 288.38644 | ... BF47: =((BF$41-$H$4)/1000)*$AM$23*(($C$8/70)^$AY$23) -> 1528.4481 | BG47: {=INDEX(E47:E47&"."&F47:F47&"."&$J$41:$BF$41&"."&G47:G47,MATCH($C$10,$J47:$BF47,1))} -> 75.380.2600.4ТГ
B48: =D48&"."&E48&"."&F48&"."&"ХХХ"&"."&G48 -> КР.75.420.ХХХ.4ТГ | D48: КР | E48: 75 | F48: 420 | G48: 4ТГ | H48: =((H$41-$H$4)/1000)*$AN$23*(($C$8/70)^$AZ$23) -> 89.091753 | I48: =((I$41-$H$4)/1000)*$AN$23*(($C$8/70)^$AZ$23) -> 118.789 | J48: =((J$41-$H$4)/1000)*$AN$23*(($C$8/70)^$AZ$23) -> 148.48625 | K48: =((K$41-$H$4)/1000)*$AN$23*(($C$8/70)^$AZ$23) -> 178.18351 | L48: =((L$41-$H$4)/1000)*$AN$23*(($C$8/70)^$AZ$23) -> 207.88076 | M48: =((M$41-$H$4)/1000)*$AN$23*(($C$8/70)^$AZ$23) -> 237.57801 | N48: =((N$41-$H$4)/1000)*$AN$23*(($C$8/70)^$AZ$23) -> 267.27526 | O48: =((O$41-$H$4)/1000)*$AN$23*(($C$8/70)^$AZ$23) -> 296.97251 | ... BF48: =((BF$41-$H$4)/1000)*$AN$23*(($C$8/70)^$AZ$23) -> 1573.9543 | BG48: {=INDEX(E48:E48&"."&F48:F48&"."&$J$41:$BF$41&"."&G48:G48,MATCH($C$10,$J48:$BF48,1))} -> 75.420.2500.4ТГ
B49: =D49&"."&E49&"."&F49&"."&"ХХХ"&"."&G49 -> КР.90.180.ХХХ.2ТГ | D49: КР | E49: 90 | F49: 180 | G49: 2ТГ | H49: =((H$41-$H$4)/1000)*$AH$24*(($C$8/70)^$AT$24) -> 56.9835 | I49: =((I$41-$H$4)/1000)*$AH$24*(($C$8/70)^$AT$24) -> 75.978 | J49: =((J$41-$H$4)/1000)*$AH$24*(($C$8/70)^$AT$24) -> 94.9725 | K49: =((K$41-$H$4)/1000)*$AH$24*(($C$8/70)^$AT$24) -> 113.967 | L49: =((L$41-$H$4)/1000)*$AH$24*(($C$8/70)^$AT$24) -> 132.9615 | M49: =((M$41-$H$4)/1000)*$AH$24*(($C$8/70)^$AT$24) -> 151.956 | N49: =((N$41-$H$4)/1000)*$AH$24*(($C$8/70)^$AT$24) -> 170.9505 | O49: =((O$41-$H$4)/1000)*$AH$24*(($C$8/70)^$AT$24) -> 189.945 | ... BF49: =((BF$41-$H$4)/1000)*$AH$24*(($C$8/70)^$AT$24) -> 1006.7085 | BG49: {=INDEX(E49:E49&"."&F49:F49&"."&$J$41:$BF$41&"."&G49:G49,IFERROR(MATCH($C$10,$J49:$BF49),0))} -> 90.180.3000.2ТГ
B50: =D50&"."&E50&"."&F50&"."&"ХХХ"&"."&G50 -> КР.90.240.ХХХ.2ТГ | D50: КР | E50: 90 | F50: 240 | G50: 2ТГ | H50: =((H$41-$H$4)/1000)*$AI$24*(($C$8/70)^$AU$24) -> 73.38 | I50: =((I$41-$H$4)/1000)*$AI$24*(($C$8/70)^$AU$24) -> 97.84 | J50: =((J$41-$H$4)/1000)*$AI$24*(($C$8/70)^$AU$24) -> 122.3 | K50: =((K$41-$H$4)/1000)*$AI$24*(($C$8/70)^$AU$24) -> 146.76 | L50: =((L$41-$H$4)/1000)*$AI$24*(($C$8/70)^$AU$24) -> 171.22 | M50: =((M$41-$H$4)/1000)*$AI$24*(($C$8/70)^$AU$24) -> 195.68 | N50: =((N$41-$H$4)/1000)*$AI$24*(($C$8/70)^$AU$24) -> 220.14 | O50: =((O$41-$H$4)/1000)*$AI$24*(($C$8/70)^$AU$24) -> 244.6 | ... BF50: =((BF$41-$H$4)/1000)*$AI$24*(($C$8/70)^$AU$24) -> 1296.38 | BG50: {=INDEX(E50:E50&"."&F50:F50&"."&$J$41:$BF$41&"."&G50:G50,IFERROR(MATCH($C$10,$J50:$BF50),0))} -> 90.240.3000.2ТГ
B51: =D51&"."&E51&"."&F51&"."&"ХХХ"&"."&G51 -> КР.90.260.ХХХ.2ТГ | D51: КР | E51: 90 | F51: 260 | G51: 2ТГ | H51: =((H$41-$H$4)/1000)*$AJ$24*(($C$8/70)^$AV$24) -> 79.92 | I51: =((I$41-$H$4)/1000)*$AJ$24*(($C$8/70)^$AV$24) -> 106.56 | J51: =((J$41-$H$4)/1000)*$AJ$24*(($C$8/70)^$AV$24) -> 133.2 | K51: =((K$41-$H$4)/1000)*$AJ$24*(($C$8/70)^$AV$24) -> 159.84 | L51: =((L$41-$H$4)/1000)*$AJ$24*(($C$8/70)^$AV$24) -> 186.48 | M51: =((M$41-$H$4)/1000)*$AJ$24*(($C$8/70)^$AV$24) -> 213.12 | N51: =((N$41-$H$4)/1000)*$AJ$24*(($C$8/70)^$AV$24) -> 239.76 | O51: =((O$41-$H$4)/1000)*$AJ$24*(($C$8/70)^$AV$24) -> 266.4 | ... BF51: =((BF$41-$H$4)/1000)*$AJ$24*(($C$8/70)^$AV$24) -> 1411.92 | BG51: {=INDEX(E51:E51&"."&F51:F51&"."&$J$41:$BF$41&"."&G51:G51,IFERROR(MATCH($C$10,$J51:$BF51),0))} -> 90.260.2750.2ТГ
B52: =D52&"."&E52&"."&F52&"."&"ХХХ"&"."&G52 -> КР.90.290.ХХХ.3ТГ | D52: КР | E52: 90 | F52: 290 | G52: 3ТГ | H52: =((H$41-$H$4)/1000)*$AK$24*(($C$8/70)^$AW$24) -> 97.083775 | I52: =((I$41-$H$4)/1000)*$AK$24*(($C$8/70)^$AW$24) -> 129.44503 | J52: =((J$41-$H$4)/1000)*$AK$24*(($C$8/70)^$AW$24) -> 161.80629 | K52: =((K$41-$H$4)/1000)*$AK$24*(($C$8/70)^$AW$24) -> 194.16755 | L52: =((L$41-$H$4)/1000)*$AK$24*(($C$8/70)^$AW$24) -> 226.52881 | M52: =((M$41-$H$4)/1000)*$AK$24*(($C$8/70)^$AW$24) -> 258.89007 | N52: =((N$41-$H$4)/1000)*$AK$24*(($C$8/70)^$AW$24) -> 291.25132 | O52: =((O$41-$H$4)/1000)*$AK$24*(($C$8/70)^$AW$24) -> 323.61258 | ... BF52: =((BF$41-$H$4)/1000)*$AK$24*(($C$8/70)^$AW$24) -> 1715.1467 | BG52: {=INDEX(E52:E52&"."&F52:F52&"."&$J$41:$BF$41&"."&G52:G52,IFERROR(MATCH($C$10,$J52:$BF52),0))} -> 90.290.2350.3ТГ
B53: =D53&"."&E53&"."&F53&"."&"ХХХ"&"."&G53 -> КР.90.340.ХХХ.3ТГ | D53: КР | E53: 90 | F53: 340 | G53: 3ТГ | H53: =((H$41-$H$4)/1000)*$AL$24*(($C$8/70)^$AX$24) -> 107.10182 | I53: =((I$41-$H$4)/1000)*$AL$24*(($C$8/70)^$AX$24) -> 142.80242 | J53: =((J$41-$H$4)/1000)*$AL$24*(($C$8/70)^$AX$24) -> 178.50303 | K53: =((K$41-$H$4)/1000)*$AL$24*(($C$8/70)^$AX$24) -> 214.20363 | L53: =((L$41-$H$4)/1000)*$AL$24*(($C$8/70)^$AX$24) -> 249.90424 | M53: =((M$41-$H$4)/1000)*$AL$24*(($C$8/70)^$AX$24) -> 285.60484 | N53: =((N$41-$H$4)/1000)*$AL$24*(($C$8/70)^$AX$24) -> 321.30545 | O53: =((O$41-$H$4)/1000)*$AL$24*(($C$8/70)^$AX$24) -> 357.00605 | ... BF53: =((BF$41-$H$4)/1000)*$AL$24*(($C$8/70)^$AX$24) -> 1892.1321 | BG53: {=INDEX(E53:E53&"."&F53:F53&"."&$J$41:$BF$41&"."&G53:G53,IFERROR(MATCH($C$10,$J53:$BF53),0))} -> 90.340.2150.3ТГ
B54: =D54&"."&E54&"."&F54&"."&"ХХХ"&"."&G54 -> КР.90.380.ХХХ.4ТГ | D54: КР | E54: 90 | F54: 380 | G54: 4ТГ | H54: =((H$41-$H$4)/1000)*$AM$24*(($C$8/70)^$AY$24) -> 118.56139 | I54: =((I$41-$H$4)/1000)*$AM$24*(($C$8/70)^$AY$24) -> 158.08185 | J54: =((J$41-$H$4)/1000)*$AM$24*(($C$8/70)^$AY$24) -> 197.60232 | K54: =((K$41-$H$4)/1000)*$AM$24*(($C$8/70)^$AY$24) -> 237.12278 | L54: =((L$41-$H$4)/1000)*$AM$24*(($C$8/70)^$AY$24) -> 276.64324 | M54: =((M$41-$H$4)/1000)*$AM$24*(($C$8/70)^$AY$24) -> 316.16371 | N54: =((N$41-$H$4)/1000)*$AM$24*(($C$8/70)^$AY$24) -> 355.68417 | O54: =((O$41-$H$4)/1000)*$AM$24*(($C$8/70)^$AY$24) -> 395.20463 | ... BF54: =((BF$41-$H$4)/1000)*$AM$24*(($C$8/70)^$AY$24) -> 2094.5846 | BG54: {=INDEX(E54:E54&"."&F54:F54&"."&$J$41:$BF$41&"."&G54:G54,IFERROR(MATCH($C$10,$J54:$BF54),0))} -> 90.380.1950.4ТГ
B55: =D55&"."&E55&"."&F55&"."&"ХХХ"&"."&G55 -> КР.90.420.ХХХ.4ТГ | D55: КР | E55: 90 | F55: 420 | G55: 4ТГ | H55: =((H$41-$H$4)/1000)*$AN$24*(($C$8/70)^$AZ$24) -> 125.33817 | I55: =((I$41-$H$4)/1000)*$AN$24*(($C$8/70)^$AZ$24) -> 167.11756 | J55: =((J$41-$H$4)/1000)*$AN$24*(($C$8/70)^$AZ$24) -> 208.89695 | K55: =((K$41-$H$4)/1000)*$AN$24*(($C$8/70)^$AZ$24) -> 250.67634 | L55: =((L$41-$H$4)/1000)*$AN$24*(($C$8/70)^$AZ$24) -> 292.45573 | M55: =((M$41-$H$4)/1000)*$AN$24*(($C$8/70)^$AZ$24) -> 334.23512 | N55: =((N$41-$H$4)/1000)*$AN$24*(($C$8/70)^$AZ$24) -> 376.01451 | O55: =((O$41-$H$4)/1000)*$AN$24*(($C$8/70)^$AZ$24) -> 417.7939 | ... BF55: =((BF$41-$H$4)/1000)*$AN$24*(($C$8/70)^$AZ$24) -> 2214.3077 | BG55: {=INDEX(E55:E55&"."&F55:F55&"."&$J$41:$BF$41&"."&G55:G55,IFERROR(MATCH($C$10,$J55:$BF55),0))} -> 90.420.1900.4ТГ
B56: =D56&"."&E56&"."&F56&"."&"ХХХ"&"."&G56 -> КР.110.180.ХХХ.2ТГ | D56: КР | E56: 110 | F56: 180 | G56: 2ТГ | H56: =((H$41-$H$4)/1000)*$AH$25*(($C$8/70)^$AT$25) -> 71.084214 | I56: =((I$41-$H$4)/1000)*$AH$25*(($C$8/70)^$AT$25) -> 94.778952 | J56: =((J$41-$H$4)/1000)*$AH$25*(($C$8/70)^$AT$25) -> 118.47369 | K56: =((K$41-$H$4)/1000)*$AH$25*(($C$8/70)^$AT$25) -> 142.16843 | L56: =((L$41-$H$4)/1000)*$AH$25*(($C$8/70)^$AT$25) -> 165.86317 | M56: =((M$41-$H$4)/1000)*$AH$25*(($C$8/70)^$AT$25) -> 189.5579 | N56: =((N$41-$H$4)/1000)*$AH$25*(($C$8/70)^$AT$25) -> 213.25264 | O56: =((O$41-$H$4)/1000)*$AH$25*(($C$8/70)^$AT$25) -> 236.94738 | ... BF56: =((BF$41-$H$4)/1000)*$AH$25*(($C$8/70)^$AT$25) -> 1255.8211 | BG56: {=INDEX(E56:E56&"."&F56:F56&"."&$J$41:$BF$41&"."&G56:G56,IFERROR(MATCH($C$10,$J56:$BF56),0))} -> 110.180.3000.2ТГ
B57: =D57&"."&E57&"."&F57&"."&"ХХХ"&"."&G57 -> КР.110.240.ХХХ.2ТГ | D57: КР | E57: 110 | F57: 240 | G57: 2ТГ | H57: =((H$41-$H$4)/1000)*$AI$25*(($C$8/70)^$AU$25) -> 88.906999 | I57: =((I$41-$H$4)/1000)*$AI$25*(($C$8/70)^$AU$25) -> 118.54267 | J57: =((J$41-$H$4)/1000)*$AI$25*(($C$8/70)^$AU$25) -> 148.17833 | K57: =((K$41-$H$4)/1000)*$AI$25*(($C$8/70)^$AU$25) -> 177.814 | L57: =((L$41-$H$4)/1000)*$AI$25*(($C$8/70)^$AU$25) -> 207.44967 | M57: =((M$41-$H$4)/1000)*$AI$25*(($C$8/70)^$AU$25) -> 237.08533 | N57: =((N$41-$H$4)/1000)*$AI$25*(($C$8/70)^$AU$25) -> 266.721 | O57: =((O$41-$H$4)/1000)*$AI$25*(($C$8/70)^$AU$25) -> 296.35666 | ... BF57: =((BF$41-$H$4)/1000)*$AI$25*(($C$8/70)^$AU$25) -> 1570.6903 | BG57: {=INDEX(E57:E57&"."&F57:F57&"."&$J$41:$BF$41&"."&G57:G57,IFERROR(MATCH($C$10,$J57:$BF57),0))} -> 110.240.2500.2ТГ
B58: =D58&"."&E58&"."&F58&"."&"ХХХ"&"."&G58 -> КР.110.260.ХХХ.2ТГ | D58: КР | E58: 110 | F58: 260 | G58: 2ТГ | H58: =((H$41-$H$4)/1000)*$AJ$25*(($C$8/70)^$AV$25) -> 95.549747 | I58: =((I$41-$H$4)/1000)*$AJ$25*(($C$8/70)^$AV$25) -> 127.39966 | J58: =((J$41-$H$4)/1000)*$AJ$25*(($C$8/70)^$AV$25) -> 159.24958 | K58: =((K$41-$H$4)/1000)*$AJ$25*(($C$8/70)^$AV$25) -> 191.09949 | L58: =((L$41-$H$4)/1000)*$AJ$25*(($C$8/70)^$AV$25) -> 222.94941 | M58: =((M$41-$H$4)/1000)*$AJ$25*(($C$8/70)^$AV$25) -> 254.79933 | N58: =((N$41-$H$4)/1000)*$AJ$25*(($C$8/70)^$AV$25) -> 286.64924 | O58: =((O$41-$H$4)/1000)*$AJ$25*(($C$8/70)^$AV$25) -> 318.49916 | ... BF58: =((BF$41-$H$4)/1000)*$AJ$25*(($C$8/70)^$AV$25) -> 1688.0455 | BG58: {=INDEX(E58:E58&"."&F58:F58&"."&$J$41:$BF$41&"."&G58:G58,IFERROR(MATCH($C$10,$J58:$BF58),0))} -> 110.260.2350.2ТГ
B59: =D59&"."&E59&"."&F59&"."&"ХХХ"&"."&G59 -> КР.110.290.ХХХ.3ТГ | D59: КР | E59: 110 | F59: 290 | G59: 3ТГ | H59: =((H$41-$H$4)/1000)*$AK$25*(($C$8/70)^$AW$25) -> 116.26431 | I59: =((I$41-$H$4)/1000)*$AK$25*(($C$8/70)^$AW$25) -> 155.01908 | J59: =((J$41-$H$4)/1000)*$AK$25*(($C$8/70)^$AW$25) -> 193.77385 | K59: =((K$41-$H$4)/1000)*$AK$25*(($C$8/70)^$AW$25) -> 232.52862 | L59: =((L$41-$H$4)/1000)*$AK$25*(($C$8/70)^$AW$25) -> 271.28339 | M59: =((M$41-$H$4)/1000)*$AK$25*(($C$8/70)^$AW$25) -> 310.03816 | N59: =((N$41-$H$4)/1000)*$AK$25*(($C$8/70)^$AW$25) -> 348.79292 | O59: =((O$41-$H$4)/1000)*$AK$25*(($C$8/70)^$AW$25) -> 387.54769 | ... BF59: =((BF$41-$H$4)/1000)*$AK$25*(($C$8/70)^$AW$25) -> 2054.0028 | BG59: {=INDEX(E59:E59&"."&F59:F59&"."&$J$41:$BF$41&"."&G59:G59,IFERROR(MATCH($C$10,$J59:$BF59),0))} -> 110.290.2000.3ТГ
B60: =D60&"."&E60&"."&F60&"."&"ХХХ"&"."&G60 -> КР.110.340.ХХХ.3ТГ | D60: КР | E60: 110 | F60: 340 | G60: 3ТГ | H60: =((H$41-$H$4)/1000)*$AL$25*(($C$8/70)^$AX$25) -> 126.2941 | I60: =((I$41-$H$4)/1000)*$AL$25*(($C$8/70)^$AX$25) -> 168.39213 | J60: =((J$41-$H$4)/1000)*$AL$25*(($C$8/70)^$AX$25) -> 210.49016 | K60: =((K$41-$H$4)/1000)*$AL$25*(($C$8/70)^$AX$25) -> 252.58819 | L60: =((L$41-$H$4)/1000)*$AL$25*(($C$8/70)^$AX$25) -> 294.68622 | M60: =((M$41-$H$4)/1000)*$AL$25*(($C$8/70)^$AX$25) -> 336.78425 | N60: =((N$41-$H$4)/1000)*$AL$25*(($C$8/70)^$AX$25) -> 378.88229 | O60: =((O$41-$H$4)/1000)*$AL$25*(($C$8/70)^$AX$25) -> 420.98032 | ... BF60: =((BF$41-$H$4)/1000)*$AL$25*(($C$8/70)^$AX$25) -> 2231.1957 | BG60: {=INDEX(E60:E60&"."&F60:F60&"."&$J$41:$BF$41&"."&G60:G60,IFERROR(MATCH($C$10,$J60:$BF60),0))} -> 110.340.1850.3ТГ
B61: =D61&"."&E61&"."&F61&"."&"ХХХ"&"."&G61 -> КР.110.380.ХХХ.4ТГ | D61: КР | E61: 110 | F61: 380 | G61: 4ТГ | H61: =((H$41-$H$4)/1000)*$AM$25*(($C$8/70)^$AY$25) -> 144.64214 | I61: =((I$41-$H$4)/1000)*$AM$25*(($C$8/70)^$AY$25) -> 192.85619 | J61: =((J$41-$H$4)/1000)*$AM$25*(($C$8/70)^$AY$25) -> 241.07024 | K61: =((K$41-$H$4)/1000)*$AM$25*(($C$8/70)^$AY$25) -> 289.28429 | L61: =((L$41-$H$4)/1000)*$AM$25*(($C$8/70)^$AY$25) -> 337.49833 | M61: =((M$41-$H$4)/1000)*$AM$25*(($C$8/70)^$AY$25) -> 385.71238 | N61: =((N$41-$H$4)/1000)*$AM$25*(($C$8/70)^$AY$25) -> 433.92643 | O61: =((O$41-$H$4)/1000)*$AM$25*(($C$8/70)^$AY$25) -> 482.14048 | ... BF61: =((BF$41-$H$4)/1000)*$AM$25*(($C$8/70)^$AY$25) -> 2555.3445 | BG61: {=INDEX(E61:E61&"."&F61:F61&"."&$J$41:$BF$41&"."&G61:G61,IFERROR(MATCH($C$10,$J61:$BF61),0))} -> 110.380.1650.4ТГ
B62: =D62&"."&E62&"."&F62&"."&"ХХХ"&"."&G62 -> КР.110.420.ХХХ.4ТГ | D62: КР | E62: 110 | F62: 420 | G62: 4ТГ | H62: =((H$41-$H$4)/1000)*$AN$25*(($C$8/70)^$AZ$25) -> 151.10201 | I62: =((I$41-$H$4)/1000)*$AN$25*(($C$8/70)^$AZ$25) -> 201.46934 | J62: =((J$41-$H$4)/1000)*$AN$25*(($C$8/70)^$AZ$25) -> 251.83668 | K62: =((K$41-$H$4)/1000)*$AN$25*(($C$8/70)^$AZ$25) -> 302.20401 | L62: =((L$41-$H$4)/1000)*$AN$25*(($C$8/70)^$AZ$25) -> 352.57135 | M62: =((M$41-$H$4)/1000)*$AN$25*(($C$8/70)^$AZ$25) -> 402.93868 | N62: =((N$41-$H$4)/1000)*$AN$25*(($C$8/70)^$AZ$25) -> 453.30602 | O62: =((O$41-$H$4)/1000)*$AN$25*(($C$8/70)^$AZ$25) -> 503.67335 | ... BF62: =((BF$41-$H$4)/1000)*$AN$25*(($C$8/70)^$AZ$25) -> 2669.4688 | BG62: {=INDEX(E62:E62&"."&F62:F62&"."&$J$41:$BF$41&"."&G62:G62,IFERROR(MATCH($C$10,$J62:$BF62),0))} -> 110.420.1600.4ТГ
B63: =D63&"."&E63&"."&F63&"."&"ХХХ"&"."&G63 -> КР.140.180.ХХХ.4ТК | D63: КР | E63: 140 | F63: 180 | G63: 4ТК | H63: =((H$41-$H$4)/1000)*$AH$27*(($C$8/70)^$AT$27) -> 105.07895 | I63: =((I$41-$H$4)/1000)*$AH$27*(($C$8/70)^$AT$27) -> 140.10526 | J63: =((J$41-$H$4)/1000)*$AH$27*(($C$8/70)^$AT$27) -> 175.13158 | K63: =((K$41-$H$4)/1000)*$AH$27*(($C$8/70)^$AT$27) -> 210.15789 | L63: =((L$41-$H$4)/1000)*$AH$27*(($C$8/70)^$AT$27) -> 245.18421 | M63: =((M$41-$H$4)/1000)*$AH$27*(($C$8/70)^$AT$27) -> 280.21052 | N63: =((N$41-$H$4)/1000)*$AH$27*(($C$8/70)^$AT$27) -> 315.23684 | O63: =((O$41-$H$4)/1000)*$AH$27*(($C$8/70)^$AT$27) -> 350.26315 | ... BF63: =((BF$41-$H$4)/1000)*$AH$27*(($C$8/70)^$AT$27) -> 1856.3947 | BG63: {=INDEX(E63:E63&"."&F63:F63&"."&$J$41:$BF$41&"."&G63:G63,IFERROR(MATCH($C$10,$J63:$BF63),0))} -> 140.180.2200.4ТК
B64: =D64&"."&E64&"."&F64&"."&"ХХХ"&"."&G64 -> КР.140.240.ХХХ.4ТК | D64: КР | E64: 140 | F64: 240 | G64: 4ТК | H64: =((H$41-$H$4)/1000)*$AI$27*(($C$8/70)^$AU$27) -> 134.60161 | I64: =((I$41-$H$4)/1000)*$AI$27*(($C$8/70)^$AU$27) -> 179.46881 | J64: =((J$41-$H$4)/1000)*$AI$27*(($C$8/70)^$AU$27) -> 224.33601 | K64: =((K$41-$H$4)/1000)*$AI$27*(($C$8/70)^$AU$27) -> 269.20321 | L64: =((L$41-$H$4)/1000)*$AI$27*(($C$8/70)^$AU$27) -> 314.07041 | M64: =((M$41-$H$4)/1000)*$AI$27*(($C$8/70)^$AU$27) -> 358.93761 | N64: =((N$41-$H$4)/1000)*$AI$27*(($C$8/70)^$AU$27) -> 403.80482 | O64: =((O$41-$H$4)/1000)*$AI$27*(($C$8/70)^$AU$27) -> 448.67202 | ... BF64: =((BF$41-$H$4)/1000)*$AI$27*(($C$8/70)^$AU$27) -> 2377.9617 | BG64: {=INDEX(E64:E64&"."&F64:F64&"."&$J$41:$BF$41&"."&G64:G64,IFERROR(MATCH($C$10,$J64:$BF64),0))} -> 140.240.1750.4ТК
B65: =D65&"."&E65&"."&F65&"."&"ХХХ"&"."&G65 -> КР.140.260.ХХХ.4ТК | D65: КР | E65: 140 | F65: 260 | G65: 4ТК | H65: =((H$41-$H$4)/1000)*$AJ$27*(($C$8/70)^$AV$27) -> 145.71046 | I65: =((I$41-$H$4)/1000)*$AJ$27*(($C$8/70)^$AV$27) -> 194.28061 | J65: =((J$41-$H$4)/1000)*$AJ$27*(($C$8/70)^$AV$27) -> 242.85076 | K65: =((K$41-$H$4)/1000)*$AJ$27*(($C$8/70)^$AV$27) -> 291.42092 | L65: =((L$41-$H$4)/1000)*$AJ$27*(($C$8/70)^$AV$27) -> 339.99107 | M65: =((M$41-$H$4)/1000)*$AJ$27*(($C$8/70)^$AV$27) -> 388.56122 | N65: =((N$41-$H$4)/1000)*$AJ$27*(($C$8/70)^$AV$27) -> 437.13137 | O65: =((O$41-$H$4)/1000)*$AJ$27*(($C$8/70)^$AV$27) -> 485.70153 | ... BF65: =((BF$41-$H$4)/1000)*$AJ$27*(($C$8/70)^$AV$27) -> 2574.2181 | BG65: {=INDEX(E65:E65&"."&F65:F65&"."&$J$41:$BF$41&"."&G65:G65,IFERROR(MATCH($C$10,$J65:$BF65),0))} -> 140.260.1650.4ТК
B66: =D66&"."&E66&"."&F66&"."&"ХХХ"&"."&G66 -> КР.140.290.ХХХ.6ТП | D66: КР | E66: 140 | F66: 290 | G66: 6ТП | H66: =((H$41-$H$4)/1000)*$AK$27*(($C$8/70)^$AW$27) -> 167.25226 | I66: =((I$41-$H$4)/1000)*$AK$27*(($C$8/70)^$AW$27) -> 223.00301 | J66: =((J$41-$H$4)/1000)*$AK$27*(($C$8/70)^$AW$27) -> 278.75376 | K66: =((K$41-$H$4)/1000)*$AK$27*(($C$8/70)^$AW$27) -> 334.50451 | L66: =((L$41-$H$4)/1000)*$AK$27*(($C$8/70)^$AW$27) -> 390.25526 | M66: =((M$41-$H$4)/1000)*$AK$27*(($C$8/70)^$AW$27) -> 446.00602 | N66: =((N$41-$H$4)/1000)*$AK$27*(($C$8/70)^$AW$27) -> 501.75677 | O66: =((O$41-$H$4)/1000)*$AK$27*(($C$8/70)^$AW$27) -> 557.50752 | ... BF66: =((BF$41-$H$4)/1000)*$AK$27*(($C$8/70)^$AW$27) -> 2954.7899 | BG66: {=INDEX(E66:E66&"."&F66:F66&"."&$J$41:$BF$41&"."&G66:G66,IFERROR(MATCH($C$10,$J66:$BF66),0))} -> 140.290.1500.6ТП
B67: =D67&"."&E67&"."&F67&"."&"ХХХ"&"."&G67 -> КР.140.340.ХХХ.6ТП | D67: КР | E67: 140 | F67: 340 | G67: 6ТП | H67: =((H$41-$H$4)/1000)*$AL$27*(($C$8/70)^$AX$27) -> 176.23112 | I67: =((I$41-$H$4)/1000)*$AL$27*(($C$8/70)^$AX$27) -> 234.97483 | J67: =((J$41-$H$4)/1000)*$AL$27*(($C$8/70)^$AX$27) -> 293.71854 | K67: =((K$41-$H$4)/1000)*$AL$27*(($C$8/70)^$AX$27) -> 352.46225 | L67: =((L$41-$H$4)/1000)*$AL$27*(($C$8/70)^$AX$27) -> 411.20596 | M67: =((M$41-$H$4)/1000)*$AL$27*(($C$8/70)^$AX$27) -> 469.94967 | N67: =((N$41-$H$4)/1000)*$AL$27*(($C$8/70)^$AX$27) -> 528.69337 | O67: =((O$41-$H$4)/1000)*$AL$27*(($C$8/70)^$AX$27) -> 587.43708 | ... BF67: =((BF$41-$H$4)/1000)*$AL$27*(($C$8/70)^$AX$27) -> 3113.4165 | BG67: {=INDEX(E67:E67&"."&F67:F67&"."&$J$41:$BF$41&"."&G67:G67,IFERROR(MATCH($C$10,$J67:$BF67),0))} -> 140.340.1450.6ТП
B68: =D68&"."&E68&"."&F68&"."&"ХХХ"&"."&G68 -> КР.140.380.ХХХ.8ТП | D68: КР | E68: 140 | F68: 380 | G68: 8ТП | H68: =((H$41-$H$4)/1000)*$AM$27*(($C$8/70)^$AY$27) -> 190.62234 | I68: =((I$41-$H$4)/1000)*$AM$27*(($C$8/70)^$AY$27) -> 254.16313 | J68: =((J$41-$H$4)/1000)*$AM$27*(($C$8/70)^$AY$27) -> 317.70391 | K68: =((K$41-$H$4)/1000)*$AM$27*(($C$8/70)^$AY$27) -> 381.24469 | L68: =((L$41-$H$4)/1000)*$AM$27*(($C$8/70)^$AY$27) -> 444.78547 | M68: =((M$41-$H$4)/1000)*$AM$27*(($C$8/70)^$AY$27) -> 508.32625 | N68: =((N$41-$H$4)/1000)*$AM$27*(($C$8/70)^$AY$27) -> 571.86703 | O68: =((O$41-$H$4)/1000)*$AM$27*(($C$8/70)^$AY$27) -> 635.40781 | ... BF68: =((BF$41-$H$4)/1000)*$AM$27*(($C$8/70)^$AY$27) -> 3367.6614 | BG68: {=INDEX(E68:E68&"."&F68:F68&"."&$J$41:$BF$41&"."&G68:G68,IFERROR(MATCH($C$10,$J68:$BF68),0))} -> 140.380.1350.8ТП
B69: =D69&"."&E69&"."&F69&"."&"ХХХ"&"."&G69 -> КР.140.420.ХХХ.8ТП | D69: КР | E69: 140 | F69: 420 | G69: 8ТП | H69: =((H$41-$H$4)/1000)*$AN$27*(($C$8/70)^$AZ$27) -> 204.71886 | I69: =((I$41-$H$4)/1000)*$AN$27*(($C$8/70)^$AZ$27) -> 272.95847 | J69: =((J$41-$H$4)/1000)*$AN$27*(($C$8/70)^$AZ$27) -> 341.19809 | K69: =((K$41-$H$4)/1000)*$AN$27*(($C$8/70)^$AZ$27) -> 409.43771 | L69: =((L$41-$H$4)/1000)*$AN$27*(($C$8/70)^$AZ$27) -> 477.67733 | M69: =((M$41-$H$4)/1000)*$AN$27*(($C$8/70)^$AZ$27) -> 545.91695 | N69: =((N$41-$H$4)/1000)*$AN$27*(($C$8/70)^$AZ$27) -> 614.15657 | O69: =((O$41-$H$4)/1000)*$AN$27*(($C$8/70)^$AZ$27) -> 682.39619 | ... BF69: =((BF$41-$H$4)/1000)*$AN$27*(($C$8/70)^$AZ$27) -> 3616.6998 | BG69: {=INDEX(E69:E69&"."&F69:F69&"."&$J$41:$BF$41&"."&G69:G69,IFERROR(MATCH($C$10,$J69:$BF69),0))} -> 140.420.1300.8ТП
B70: =D70&"."&E70&"."&F70&"."&"ХХХ"&"."&G70 -> КР.150.180.ХХХ.4ТК | D70: КР | E70: 150 | F70: 180 | G70: 4ТК | H70: =((H$41-$H$4)/1000)*$AH$28*(($C$8/70)^$AT$28) -> 108.8901 | I70: =((I$41-$H$4)/1000)*$AH$28*(($C$8/70)^$AT$28) -> 145.1868 | J70: =((J$41-$H$4)/1000)*$AH$28*(($C$8/70)^$AT$28) -> 181.4835 | K70: =((K$41-$H$4)/1000)*$AH$28*(($C$8/70)^$AT$28) -> 217.7802 | L70: =((L$41-$H$4)/1000)*$AH$28*(($C$8/70)^$AT$28) -> 254.0769 | M70: =((M$41-$H$4)/1000)*$AH$28*(($C$8/70)^$AT$28) -> 290.3736 | N70: =((N$41-$H$4)/1000)*$AH$28*(($C$8/70)^$AT$28) -> 326.6703 | O70: =((O$41-$H$4)/1000)*$AH$28*(($C$8/70)^$AT$28) -> 362.967 | ... BF70: =((BF$41-$H$4)/1000)*$AH$28*(($C$8/70)^$AT$28) -> 1923.7251 | BG70: {=INDEX(E70:E70&"."&F70:F70&"."&$J$41:$BF$41&"."&G70:G70,IFERROR(MATCH($C$10,$J70:$BF70),0))} -> 150.180.2100.4ТК
B71: =D71&"."&E71&"."&F71&"."&"ХХХ"&"."&G71 -> КР.150.240.ХХХ.4ТК | D71: КР | E71: 150 | F71: 240 | G71: 4ТК | H71: =((H$41-$H$4)/1000)*$AI$28*(($C$8/70)^$AU$28) -> 139.48353 | I71: =((I$41-$H$4)/1000)*$AI$28*(($C$8/70)^$AU$28) -> 185.97804 | J71: =((J$41-$H$4)/1000)*$AI$28*(($C$8/70)^$AU$28) -> 232.47255 | K71: =((K$41-$H$4)/1000)*$AI$28*(($C$8/70)^$AU$28) -> 278.96706 | L71: =((L$41-$H$4)/1000)*$AI$28*(($C$8/70)^$AU$28) -> 325.46157 | M71: =((M$41-$H$4)/1000)*$AI$28*(($C$8/70)^$AU$28) -> 371.95608 | N71: =((N$41-$H$4)/1000)*$AI$28*(($C$8/70)^$AU$28) -> 418.45059 | O71: =((O$41-$H$4)/1000)*$AI$28*(($C$8/70)^$AU$28) -> 464.9451 | ... BF71: =((BF$41-$H$4)/1000)*$AI$28*(($C$8/70)^$AU$28) -> 2464.209 | BG71: {=INDEX(E71:E71&"."&F71:F71&"."&$J$41:$BF$41&"."&G71:G71,IFERROR(MATCH($C$10,$J71:$BF71),0))} -> 150.240.1700.4ТК
B72: =D72&"."&E72&"."&F72&"."&"ХХХ"&"."&G72 -> КР.150.260.ХХХ.4ТК | D72: КР | E72: 150 | F72: 260 | G72: 4ТК | H72: =((H$41-$H$4)/1000)*$AJ$28*(($C$8/70)^$AV$28) -> 150.99529 | I72: =((I$41-$H$4)/1000)*$AJ$28*(($C$8/70)^$AV$28) -> 201.32706 | J72: =((J$41-$H$4)/1000)*$AJ$28*(($C$8/70)^$AV$28) -> 251.65882 | K72: =((K$41-$H$4)/1000)*$AJ$28*(($C$8/70)^$AV$28) -> 301.99059 | L72: =((L$41-$H$4)/1000)*$AJ$28*(($C$8/70)^$AV$28) -> 352.32235 | M72: =((M$41-$H$4)/1000)*$AJ$28*(($C$8/70)^$AV$28) -> 402.65411 | N72: =((N$41-$H$4)/1000)*$AJ$28*(($C$8/70)^$AV$28) -> 452.98588 | O72: =((O$41-$H$4)/1000)*$AJ$28*(($C$8/70)^$AV$28) -> 503.31764 | ... BF72: =((BF$41-$H$4)/1000)*$AJ$28*(($C$8/70)^$AV$28) -> 2667.5835 | BG72: {=INDEX(E72:E72&"."&F72:F72&"."&$J$41:$BF$41&"."&G72:G72,IFERROR(MATCH($C$10,$J72:$BF72),0))} -> 150.260.1600.4ТК
B73: =D73&"."&E73&"."&F73&"."&"ХХХ"&"."&G73 -> КР.150.290.ХХХ.6ТП | D73: КР | E73: 150 | F73: 290 | G73: 6ТП | H73: =((H$41-$H$4)/1000)*$AK$28*(($C$8/70)^$AW$28) -> 173.3184 | I73: =((I$41-$H$4)/1000)*$AK$28*(($C$8/70)^$AW$28) -> 231.0912 | J73: =((J$41-$H$4)/1000)*$AK$28*(($C$8/70)^$AW$28) -> 288.864 | K73: =((K$41-$H$4)/1000)*$AK$28*(($C$8/70)^$AW$28) -> 346.6368 | L73: =((L$41-$H$4)/1000)*$AK$28*(($C$8/70)^$AW$28) -> 404.4096 | M73: =((M$41-$H$4)/1000)*$AK$28*(($C$8/70)^$AW$28) -> 462.1824 | N73: =((N$41-$H$4)/1000)*$AK$28*(($C$8/70)^$AW$28) -> 519.9552 | O73: =((O$41-$H$4)/1000)*$AK$28*(($C$8/70)^$AW$28) -> 577.728 | ... BF73: =((BF$41-$H$4)/1000)*$AK$28*(($C$8/70)^$AW$28) -> 3061.9584 | BG73: {=INDEX(E73:E73&"."&F73:F73&"."&$J$41:$BF$41&"."&G73:G73,IFERROR(MATCH($C$10,$J73:$BF73),0))} -> 150.290.1450.6ТП
B74: =D74&"."&E74&"."&F74&"."&"ХХХ"&"."&G74 -> КР.150.340.ХХХ.6ТП | D74: КР | E74: 150 | F74: 340 | G74: 6ТП | H74: =((H$41-$H$4)/1000)*$AL$28*(($C$8/70)^$AX$28) -> 182.62293 | I74: =((I$41-$H$4)/1000)*$AL$28*(($C$8/70)^$AX$28) -> 243.49724 | J74: =((J$41-$H$4)/1000)*$AL$28*(($C$8/70)^$AX$28) -> 304.37155 | K74: =((K$41-$H$4)/1000)*$AL$28*(($C$8/70)^$AX$28) -> 365.24585 | L74: =((L$41-$H$4)/1000)*$AL$28*(($C$8/70)^$AX$28) -> 426.12016 | M74: =((M$41-$H$4)/1000)*$AL$28*(($C$8/70)^$AX$28) -> 486.99447 | N74: =((N$41-$H$4)/1000)*$AL$28*(($C$8/70)^$AX$28) -> 547.86878 | O74: =((O$41-$H$4)/1000)*$AL$28*(($C$8/70)^$AX$28) -> 608.74309 | ... BF74: =((BF$41-$H$4)/1000)*$AL$28*(($C$8/70)^$AX$28) -> 3226.3384 | BG74: {=INDEX(E74:E74&"."&F74:F74&"."&$J$41:$BF$41&"."&G74:G74,IFERROR(MATCH($C$10,$J74:$BF74),0))} -> 150.340.1400.6ТП
B75: =D75&"."&E75&"."&F75&"."&"ХХХ"&"."&G75 -> КР.150.380.ХХХ.8ТП | D75: КР | E75: 150 | F75: 380 | G75: 8ТП | H75: =((H$41-$H$4)/1000)*$AM$28*(($C$8/70)^$AY$28) -> 197.53611 | I75: =((I$41-$H$4)/1000)*$AM$28*(($C$8/70)^$AY$28) -> 263.38148 | J75: =((J$41-$H$4)/1000)*$AM$28*(($C$8/70)^$AY$28) -> 329.22685 | K75: =((K$41-$H$4)/1000)*$AM$28*(($C$8/70)^$AY$28) -> 395.07222 | L75: =((L$41-$H$4)/1000)*$AM$28*(($C$8/70)^$AY$28) -> 460.91759 | M75: =((M$41-$H$4)/1000)*$AM$28*(($C$8/70)^$AY$28) -> 526.76295 | N75: =((N$41-$H$4)/1000)*$AM$28*(($C$8/70)^$AY$28) -> 592.60832 | O75: =((O$41-$H$4)/1000)*$AM$28*(($C$8/70)^$AY$28) -> 658.45369 | ... BF75: =((BF$41-$H$4)/1000)*$AM$28*(($C$8/70)^$AY$28) -> 3489.8046 | BG75: {=INDEX(E75:E75&"."&F75:F75&"."&$J$41:$BF$41&"."&G75:G75,IFERROR(MATCH($C$10,$J75:$BF75),0))} -> 150.380.1300.8ТП
B76: =D76&"."&E76&"."&F76&"."&"ХХХ"&"."&G76 -> КР.150.420.ХХХ.8ТП | D76: КР | E76: 150 | F76: 420 | G76: 8ТП | H76: =((H$41-$H$4)/1000)*$AN$28*(($C$8/70)^$AZ$28) -> 212.14389 | I76: =((I$41-$H$4)/1000)*$AN$28*(($C$8/70)^$AZ$28) -> 282.85852 | J76: =((J$41-$H$4)/1000)*$AN$28*(($C$8/70)^$AZ$28) -> 353.57315 | K76: =((K$41-$H$4)/1000)*$AN$28*(($C$8/70)^$AZ$28) -> 424.28778 | L76: =((L$41-$H$4)/1000)*$AN$28*(($C$8/70)^$AZ$28) -> 495.00241 | M76: =((M$41-$H$4)/1000)*$AN$28*(($C$8/70)^$AZ$28) -> 565.71705 | N76: =((N$41-$H$4)/1000)*$AN$28*(($C$8/70)^$AZ$28) -> 636.43168 | O76: =((O$41-$H$4)/1000)*$AN$28*(($C$8/70)^$AZ$28) -> 707.14631 | ... BF76: =((BF$41-$H$4)/1000)*$AN$28*(($C$8/70)^$AZ$28) -> 3747.8754 | BG76: {=INDEX(E76:E76&"."&F76:F76&"."&$J$41:$BF$41&"."&G76:G76,IFERROR(MATCH($C$10,$J76:$BF76),0))} -> 150.420.1250.8ТП
B77: =D77&"."&E77&"."&F77&"."&"ХХХ"&"."&G77 -> КР.180.180.ХХХ.4ТК | D77: КР | E77: 180 | F77: 180 | G77: 4ТК | H77: =((H$41-$H$4)/1000)*$AH$29*(($C$8/70)^$AT$29) -> 120.32356 | I77: =((I$41-$H$4)/1000)*$AH$29*(($C$8/70)^$AT$29) -> 160.43141 | J77: =((J$41-$H$4)/1000)*$AH$29*(($C$8/70)^$AT$29) -> 200.53927 | K77: =((K$41-$H$4)/1000)*$AH$29*(($C$8/70)^$AT$29) -> 240.64712 | L77: =((L$41-$H$4)/1000)*$AH$29*(($C$8/70)^$AT$29) -> 280.75497 | M77: =((M$41-$H$4)/1000)*$AH$29*(($C$8/70)^$AT$29) -> 320.86283 | N77: =((N$41-$H$4)/1000)*$AH$29*(($C$8/70)^$AT$29) -> 360.97068 | O77: =((O$41-$H$4)/1000)*$AH$29*(($C$8/70)^$AT$29) -> 401.07853 | ... BF77: =((BF$41-$H$4)/1000)*$AH$29*(($C$8/70)^$AT$29) -> 2125.7162 | BG77: {=INDEX(E77:E77&"."&F77:F77&"."&$J$41:$BF$41&"."&G77:G77,IFERROR(MATCH($C$10,$J77:$BF77),0))} -> 180.180.1950.4ТК
B78: =D78&"."&E78&"."&F78&"."&"ХХХ"&"."&G78 -> КР.180.240.ХХХ.4ТК | D78: КР | E78: 180 | F78: 240 | G78: 4ТК | H78: =((H$41-$H$4)/1000)*$AI$29*(($C$8/70)^$AU$29) -> 154.1293 | I78: =((I$41-$H$4)/1000)*$AI$29*(($C$8/70)^$AU$29) -> 205.50573 | J78: =((J$41-$H$4)/1000)*$AI$29*(($C$8/70)^$AU$29) -> 256.88217 | K78: =((K$41-$H$4)/1000)*$AI$29*(($C$8/70)^$AU$29) -> 308.2586 | L78: =((L$41-$H$4)/1000)*$AI$29*(($C$8/70)^$AU$29) -> 359.63503 | M78: =((M$41-$H$4)/1000)*$AI$29*(($C$8/70)^$AU$29) -> 411.01146 | N78: =((N$41-$H$4)/1000)*$AI$29*(($C$8/70)^$AU$29) -> 462.3879 | O78: =((O$41-$H$4)/1000)*$AI$29*(($C$8/70)^$AU$29) -> 513.76433 | ... BF78: =((BF$41-$H$4)/1000)*$AI$29*(($C$8/70)^$AU$29) -> 2722.951 | BG78: {=INDEX(E78:E78&"."&F78:F78&"."&$J$41:$BF$41&"."&G78:G78,IFERROR(MATCH($C$10,$J78:$BF78),0))} -> 180.240.1600.4ТК
B79: =D79&"."&E79&"."&F79&"."&"ХХХ"&"."&G79 -> КР.180.260.ХХХ.4ТК | D79: КР | E79: 180 | F79: 260 | G79: 4ТК | H79: =((H$41-$H$4)/1000)*$AJ$29*(($C$8/70)^$AV$29) -> 166.8498 | I79: =((I$41-$H$4)/1000)*$AJ$29*(($C$8/70)^$AV$29) -> 222.4664 | J79: =((J$41-$H$4)/1000)*$AJ$29*(($C$8/70)^$AV$29) -> 278.083 | K79: =((K$41-$H$4)/1000)*$AJ$29*(($C$8/70)^$AV$29) -> 333.6996 | L79: =((L$41-$H$4)/1000)*$AJ$29*(($C$8/70)^$AV$29) -> 389.3162 | M79: =((M$41-$H$4)/1000)*$AJ$29*(($C$8/70)^$AV$29) -> 444.9328 | N79: =((N$41-$H$4)/1000)*$AJ$29*(($C$8/70)^$AV$29) -> 500.5494 | O79: =((O$41-$H$4)/1000)*$AJ$29*(($C$8/70)^$AV$29) -> 556.166 | ... BF79: =((BF$41-$H$4)/1000)*$AJ$29*(($C$8/70)^$AV$29) -> 2947.6798 | BG79: {=INDEX(E79:E79&"."&F79:F79&"."&$J$41:$BF$41&"."&G79:G79,IFERROR(MATCH($C$10,$J79:$BF79),0))} -> 180.260.1500.4ТК
B80: =D80&"."&E80&"."&F80&"."&"ХХХ"&"."&G80 -> КР.180.290.ХХХ.6ТП | D80: КР | E80: 180 | F80: 290 | G80: 6ТП | H80: =((H$41-$H$4)/1000)*$AK$29*(($C$8/70)^$AW$29) -> 191.51683 | I80: =((I$41-$H$4)/1000)*$AK$29*(($C$8/70)^$AW$29) -> 255.35578 | J80: =((J$41-$H$4)/1000)*$AK$29*(($C$8/70)^$AW$29) -> 319.19472 | K80: =((K$41-$H$4)/1000)*$AK$29*(($C$8/70)^$AW$29) -> 383.03366 | L80: =((L$41-$H$4)/1000)*$AK$29*(($C$8/70)^$AW$29) -> 446.87261 | M80: =((M$41-$H$4)/1000)*$AK$29*(($C$8/70)^$AW$29) -> 510.71155 | N80: =((N$41-$H$4)/1000)*$AK$29*(($C$8/70)^$AW$29) -> 574.5505 | O80: =((O$41-$H$4)/1000)*$AK$29*(($C$8/70)^$AW$29) -> 638.38944 | ... BF80: =((BF$41-$H$4)/1000)*$AK$29*(($C$8/70)^$AW$29) -> 3383.464 | BG80: {=INDEX(E80:E80&"."&F80:F80&"."&$J$41:$BF$41&"."&G80:G80,IFERROR(MATCH($C$10,$J80:$BF80),0))} -> 180.290.1350.6ТП
B81: =D81&"."&E81&"."&F81&"."&"ХХХ"&"."&G81 -> КР.180.340.ХХХ.6ТП | D81: КР | E81: 180 | F81: 340 | G81: 6ТП | H81: =((H$41-$H$4)/1000)*$AL$29*(($C$8/70)^$AX$29) -> 201.79833 | I81: =((I$41-$H$4)/1000)*$AL$29*(($C$8/70)^$AX$29) -> 269.06445 | J81: =((J$41-$H$4)/1000)*$AL$29*(($C$8/70)^$AX$29) -> 336.33056 | K81: =((K$41-$H$4)/1000)*$AL$29*(($C$8/70)^$AX$29) -> 403.59667 | L81: =((L$41-$H$4)/1000)*$AL$29*(($C$8/70)^$AX$29) -> 470.86278 | M81: =((M$41-$H$4)/1000)*$AL$29*(($C$8/70)^$AX$29) -> 538.12889 | N81: =((N$41-$H$4)/1000)*$AL$29*(($C$8/70)^$AX$29) -> 605.395 | O81: =((O$41-$H$4)/1000)*$AL$29*(($C$8/70)^$AX$29) -> 672.66112 | ... BF81: =((BF$41-$H$4)/1000)*$AL$29*(($C$8/70)^$AX$29) -> 3565.1039 | BG81: {=INDEX(E81:E81&"."&F81:F81&"."&$J$41:$BF$41&"."&G81:G81,IFERROR(MATCH($C$10,$J81:$BF81),0))} -> 180.340.1300.6ТП
B82: =D82&"."&E82&"."&F82&"."&"ХХХ"&"."&G82 -> КР.180.380.ХХХ.8ТП | D82: КР | E82: 180 | F82: 380 | G82: 8ТП | H82: =((H$41-$H$4)/1000)*$AM$29*(($C$8/70)^$AY$29) -> 218.2774 | I82: =((I$41-$H$4)/1000)*$AM$29*(($C$8/70)^$AY$29) -> 291.03653 | J82: =((J$41-$H$4)/1000)*$AM$29*(($C$8/70)^$AY$29) -> 363.79567 | K82: =((K$41-$H$4)/1000)*$AM$29*(($C$8/70)^$AY$29) -> 436.5548 | L82: =((L$41-$H$4)/1000)*$AM$29*(($C$8/70)^$AY$29) -> 509.31393 | M82: =((M$41-$H$4)/1000)*$AM$29*(($C$8/70)^$AY$29) -> 582.07306 | N82: =((N$41-$H$4)/1000)*$AM$29*(($C$8/70)^$AY$29) -> 654.8322 | O82: =((O$41-$H$4)/1000)*$AM$29*(($C$8/70)^$AY$29) -> 727.59133 | ... BF82: =((BF$41-$H$4)/1000)*$AM$29*(($C$8/70)^$AY$29) -> 3856.2341 | BG82: {=INDEX(E82:E82&"."&F82:F82&"."&$J$41:$BF$41&"."&G82:G82,IFERROR(MATCH($C$10,$J82:$BF82),0))} -> 180.380.1200.8ТП
B83: =D83&"."&E83&"."&F83&"."&"ХХХ"&"."&G83 -> КР.180.420.ХХХ.8ТП | D83: КР | E83: 180 | F83: 420 | G83: 8ТП | H83: =((H$41-$H$4)/1000)*$AN$29*(($C$8/70)^$AZ$29) -> 234.419 | I83: =((I$41-$H$4)/1000)*$AN$29*(($C$8/70)^$AZ$29) -> 312.55867 | J83: =((J$41-$H$4)/1000)*$AN$29*(($C$8/70)^$AZ$29) -> 390.69833 | K83: =((K$41-$H$4)/1000)*$AN$29*(($C$8/70)^$AZ$29) -> 468.838 | L83: =((L$41-$H$4)/1000)*$AN$29*(($C$8/70)^$AZ$29) -> 546.97767 | M83: =((M$41-$H$4)/1000)*$AN$29*(($C$8/70)^$AZ$29) -> 625.11734 | N83: =((N$41-$H$4)/1000)*$AN$29*(($C$8/70)^$AZ$29) -> 703.257 | O83: =((O$41-$H$4)/1000)*$AN$29*(($C$8/70)^$AZ$29) -> 781.39667 | ... BF83: =((BF$41-$H$4)/1000)*$AN$29*(($C$8/70)^$AZ$29) -> 4141.4023 | BG83: {=INDEX(E83:E83&"."&F83:F83&"."&$J$41:$BF$41&"."&G83:G83,IFERROR(MATCH($C$10,$J83:$BF83),0))} -> 180.420.1150.8ТП

Sheet Калькулятор 24v
A1: Вернуться на главную страницу | J1: Калькулятор для подбора внутрипольного конвектора Wtherm.
B3: Коэффициенты
C4: Длина конвектора - Длина оребрения мм | H4: 350
B5: Температура на входе, ˚С | C5: 95
B6: Температура на выходе, ˚С | C6: 85
B7: Температура в помещении, ˚С | C7: 20
B8: ∆Т | C8: =ABS((C5+C6)/2-C7) -> 70
B10: Требуемая мощность, ВТ | C10: 1800
B11: Погрешность + % | C11: 5 | J11: =C10*(C11/100+1) -> 1890
B12: Погрешность - % | C12: 2 | J12: =C10*ABS(C12/100-1) -> 1764
B13: Скорость работы вентилятора 1,2,3 | C13: 3
J20: Тепловая мощность, Вт/м | U20: Коэффициент n | AL20: Тепловая мощность, Вт/м | AW20: Коэффициент n
J21: Ширина | K21: 160 | L21: 200 | M21: 260 | N21: 300 | O21: 300 | P21: 360 | Q21: 360 | R21: 400 | S21: 400 | U21: Ширина | V21: 160 | W21: 200 | X21: 260 | Y21: 300 | Z21: 300 | AA21: 360 | AB21: 360 | AC21: 400 | AD21: 400 | AF21: Коэффициент вент. | AJ21: Высота | AL21: Высота | AM21: Ширина | AW21: Высота | AX21: Ширина | BH21: Коэффициент вент. | BL21: Высота
J22: Высота | N22: 2 | O22: 4 | P22: 6ТП | Q22: 8ТП | R22: 6ТП | S22: 8ТП | U22: Высота | Y22: 2 | Z22: 4 | AA22: 6ТП | AB22: 8ТП | AC22: 6ТП | AD22: 8ТП | AF22: 0 | AG22: 1 | AH22: 2 | AI22: 3 | AJ22: мм | AM22: 180 | AN22: 240 | AO22: 260 | AP22: 290 | AQ22: 340 | AR22: 380 | AS22: 420 | AX22: 180 | AY22: 240 | AZ22: 260 | BA22: 290 | BB22: 340 | BC22: 380 | BD22: 420 | BH22: 0 | BI22: 1 | BJ22: 2 | BK22: 3 | BL22: мм
J23: 65 | K23: нет | L23: нет | M23: =M25*0.71 -> 237.708 | N23: =N25*0.71 -> 263.268 | O23: нет | Q23: =Q25*0.71 -> 367.212 | R23: =R25*0.71 -> 394.476 | S23: нет | U23: 65 | V23: нет | W23: нет | X23: 1.7 | Y23: 1.65 | AA23: 1.6 | AB23: 1.6 | AC23: 1.55 | AD23: 1.55 | AF23: 1 | AG23: 5.12 | AH23: 5.66 | AI23: 6.53 | AJ23: 65 | AL23: 75-110 | AM23: 2ТГ | AN23: 2ТГ | AO23: 2ТГ | AP23: 3ТГ | AQ23: 4ТГ | AR23: 4ТГ | AS23: 5ТГ | AW23: 75-110 | AX23: 2ТГ | AY23: 2ТГ | AZ23: 2ТГ | BA23: 3ТГ | BB23: 4ТГ | BC23: 4ТГ | BD23: 5ТГ
J24: 70 | K24: нет | L24: нет | M24: =M26*0.71 -> 292.17636 | N24: =N26*0.71 -> 323.02728 | O24: нет | Q24: =Q26*0.71 -> 432.68056 | R24: =R26*0.71 -> 471.8376 | S24: нет | U24: 70 | V24: нет | W24: нет | X24: 1.65 | Y24: 1.6 | AA24: 1.55 | AB24: 1.55 | AC24: 1.5 | AD24: 1.5 | AF24: 1 | AG24: 5.12 | AH24: 5.66 | AI24: 6.53 | AJ24: 70 | AW24: 70
J25: 75 | K25: =L25*0.9 -> 233.874 | L25: =L27*0.71 -> 259.86 | M25: =279*1.2 -> 334.8 | N25: =309*1.2 -> 370.8 | O25: 0 | Q25: =431*1.2 -> 517.2 | R25: =463*1.2 -> 555.6 | S25: 0 | U25: 75 | V25: 1.7 | W25: 1.65 | X25: 1.6 | Y25: 1.55 | AA25: 1.55 | AB25: 1.5 | AC25: 1.45 | AD25: 1.45 | AF25: 1 | AG25: 4.6 | AH25: 5 | AI25: 6.53 | AJ25: 75 | AL25: 75 | AM25: нет | AN25: =FORECAST($AN$22,L25:M25,$L$21:$M$21) -> 309.82 | AO25: =FORECAST($AO$22,L25:M25,$L$21:$M$21) -> 334.8 | AP25: =(V56+W56)/2 -> 429.9 | AQ25: =FORECAST($AQ$22,Q25:R25,$Q$21:$R$21) -> 498 | AR25: =FORECAST($AR$22,Q25:R25,$Q$21:$R$21) -> 536.4 | AS25: =FORECAST($AS$22,Q25:R25,$Q$21:$R$21)*1.1 -> 632.28 | AW25: 75 | AX25: нет | AY25: =FORECAST($AY$22,W25:X25,$L$21:$M$21) -> 1.6166667 | AZ25: =FORECAST($AZ$22,W25:X25,$L$21:$M$21) -> 1.6 | BA25: =FORECAST($BA$22,X25:Y25,$X$21:$Y$21) -> 1.5625 | BB25: =FORECAST($BB$22,AB25:AC25,$AB$21:$AC$21) -> 1.525 | BC25: =FORECAST($BC$22,AB25:AC25,$AB$21:$AC$21) -> 1.475 | BD25: =FORECAST($BD$22,AB25:AC25,$AB$21:$AC$21) -> 1.425 | BH25: 1 | BI25: 4.6 | BJ25: 5 | BK25: 6.53 | BL25: 75
J26: 80 | K26: нет | L26: нет | M26: =M28*0.71 -> 411.516 | N26: =N28*0.71 -> 454.968 | O26: нет | Q26: =Q28*0.71 -> 609.40925 | R26: =R28*0.71 -> 664.56 | S26: нет | U26: 80 | V26: нет | W26: нет | X26: 1.55 | Y26: 1.5 | AA26: нет | AB26: 1.45 | AC26: 1.4 | AD26: 1.4 | AF26: 1 | AG26: 3.92 | AH26: 4.5 | AI26: 5.6 | AJ26: 80 | AL26: 90 | AM26: нет | AN26: =FORECAST($AN$22,L27:M27,$L$21:$M$21) -> 445.2 | AO26: =FORECAST($AO$22,L27:M27,$L$21:$M$21) -> 484.8 | AP26: =(V57+W57)/2 -> 602.25 | AQ26: =FORECAST($AQ$22,Q27:R27,$Q$21:$R$21) -> 661.2 | AR26: =FORECAST($AR$22,Q27:R27,$Q$21:$R$21) -> 735.6 | AS26: =FORECAST($AS$22,Q27:R27,$Q$21:$R$21)*1.1 -> 891 | AW26: 90 | AX26: нет | AY26: =FORECAST($AY$22,W27:X27,$L$21:$M$21) -> 1.5166667 | AZ26: =FORECAST($AZ$22,W27:X27,$L$21:$M$21) -> 1.5 | BA26: =FORECAST($BA$22,X27:Y27,$X$21:$Y$21) -> 1.4625 | BB26: =FORECAST($BB$22,AB27:AC27,$AB$21:$AC$21) -> 1.45 | BC26: =FORECAST($BC$22,AB27:AC27,$AB$21:$AC$21) -> 1.35 | BD26: =FORECAST($BD$22,AB27:AC27,$AB$21:$AC$21) -> 1.25 | BH26: 1 | BI26: 3.51 | BJ26: 3.96 | BK26: 4.93 | BL26: 90
J27: 90 | K27: =L27*0.89 -> 325.74 | L27: =305*1.2 -> 366 | M27: =404*1.2 -> 484.8 | N27: =469*1.2 -> 562.8 | O27: 0 | Q27: =582*1.2 -> 698.4 | R27: =644*1.2 -> 772.8 | S27: 0 | U27: 90 | V27: 1.6 | W27: 1.55 | X27: 1.5 | Y27: 1.45 | AA27: 1.45 | AB27: 1.4 | AC27: 1.3 | AD27: 1.3 | AF27: 1 | AG27: 3.51 | AH27: 3.96 | AI27: 4.93 | AJ27: 90 | AL27: 110 | AM27: нет | AN27: =FORECAST($AN$22,L28:M28,$L$21:$M$21) -> 539.39873 | AO27: =FORECAST($AO$22,L28:M28,$L$21:$M$21) -> 579.6 | AP27: =(V58+W58)/2 -> 722.49216 | AQ27: =FORECAST($AQ$22,Q28:R28,$Q$21:$R$21) -> 819.48432 | AR27: =FORECAST($AR$22,Q28:R28,$Q$21:$R$21) -> 897.16144 | AS27: =FORECAST($AS$22,Q28:R28,$Q$21:$R$21)*1.1 -> 1072.3224 | AW27: 110 | AX27: нет | AY27: =FORECAST($AY$22,W28:X28,$L$21:$M$21) -> 1.3 | AZ27: =FORECAST($AZ$22,W28:X28,$L$21:$M$21) -> 1.3 | BA27: =FORECAST($BA$22,X28:Y28,$X$21:$Y$21) -> 1.3 | BB27: =FORECAST($BB$22,AB28:AC28,$AB$21:$AC$21) -> 1.3 | BC27: =FORECAST($BC$22,AB28:AC28,$AB$21:$AC$21) -> 1.3 | BD27: =FORECAST($BD$22,AB28:AC28,$AB$21:$AC$21) -> 1.3 | BH27: 1 | BI27: 3.41 | BJ27: 3.96 | BK27: 4.93 | BL27: 110
J28: 110 | K28: =L28*0.88 -> 403.91665 | L28: =L27*1.25408796 -> 458.99619 | M28: =483*1.2 -> 579.6 | N28: =534*1.2 -> 640.8 | O28: 0 | Q28: =L28*1.87 -> 858.32288 | R28: =780*1.2 -> 936 | S28: 0 | U28: 110 | V28: 1.5 | W28: 1.3 | X28: 1.3 | Y28: 1.3 | AA28: 1.3 | AB28: 1.3 | AC28: 1.3 | AD28: 1.3 | AF28: 1 | AG28: 3.41 | AH28: 3.96 | AI28: 4.93 | AJ28: 110 | AL28: 140-180 | AM28: 4ТК | AN28: 4ТК | AO28: 4ТК | AP28: 6ТП | AQ28: 8ТП | AR28: 8ТП | AS28: 10ТП | AW28: 140-180 | AX28: 4ТК | AY28: 4ТК | AZ28: 4ТК | BA28: 6ТП | BB28: 8ТП | BC28: 8ТП | BD28: 10ТП
J29: 140 | K29: =K30*0.965 -> 422.67 | L29: =L30*0.965 -> 531.522 | M29: =M30*0.965 -> 883.554 | N29: 915.978 | O29: =O30*0.965 -> 915.978 | P29: =P30*0.965 -> 1058.2962 | Q29: =Q30*0.965 -> 1113.996 | R29: =R30*0.965 -> 1095.5954 | S29: =S30*0.965 -> 1197.372 | U29: 140 | V29: 1.4 | W29: 1.35 | X29: 1.32 | Y29: 1.31 | AA29: 1.3 | AB29: 1.28 | AC29: 1.25 | AD29: 1.25 | AF29: 1 | AG29: 3.41 | AH29: 3.96 | AI29: 4.93 | AJ29: 140 | AL29: 140 | AM29: нет | AN29: =FORECAST($AN$22,L29:M29,$L$21:$M$21) -> 766.21 | AO29: =FORECAST($AO$22,L29:M29,$L$21:$M$21) -> 883.554 | AP29: =FORECAST($AP$22,P56:Q56,$AB$21:$AC$21) -> 993.02263 | AQ29: =FORECAST($AQ$22,R56:S56,$Q$21:$R$21) -> 1072.308 | AR29: =FORECAST($AR$22,R56:S56,$Q$21:$R$21) -> 1155.684 | AS29: =FORECAST($AS$22,R56:S56,$Q$21:$R$21)*1.1 -> 1362.966 | AW29: 140 | AX29: нет | AY29: =FORECAST($AY$22,W29:X29,$L$21:$M$21) -> 1.33 | AZ29: =FORECAST($AZ$22,W29:X29,$L$21:$M$21) -> 1.32 | BA29: =FORECAST($BA$22,X29:Y29,$X$21:$Y$21) -> 1.3125 | BB29: =FORECAST($BB$22,AB29:AC29,$AB$21:$AC$21) -> 1.295 | BC29: =FORECAST($BC$22,AB29:AC29,$AB$21:$AC$21) -> 1.265 | BD29: =FORECAST($BD$22,AB29:AC29,$AB$21:$AC$21) -> 1.235 | BH29: 1 | BI29: 3.41 | BJ29: 3.96 | BK29: 4.93 | BL29: 140
J30: 150 | K30: =365*1.2 -> 438 | L30: =1.2*459 -> 550.8 | M30: =763*1.2 -> 915.6 | N30: 949.2 | O30: =791*1.2 -> 949.2 | P30: =Q30*0.95 -> 1096.68 | Q30: =962*1.2 -> 1154.4 | R30: =S30*0.915 -> 1135.332 | S30: =1034*1.2 -> 1240.8 | U30: 150 | V30: 1.4 | W30: 1.35 | X30: 1.32 | Y30: 1.31 | AA30: 1.3 | AB30: 1.28 | AC30: 1.25 | AD30: 1.25 | AF30: 1 | AG30: 3.41 | AH30: 3.96 | AI30: 4.93 | AJ30: 150 | AL30: 150 | AM30: нет | AN30: =FORECAST($AN$22,L30:M30,$L$21:$M$21) -> 794 | AO30: =FORECAST($AO$22,L30:M30,$L$21:$M$21) -> 915.6 | AP30: =FORECAST($AP$22,P57:Q57,$AB$21:$AC$21) -> 1029.039 | AQ30: =FORECAST($AQ$22,R57:S57,$Q$21:$R$21) -> 1111.2 | AR30: =FORECAST($AR$22,R57:S57,$Q$21:$R$21) -> 1197.6 | AS30: =FORECAST($AS$22,R57:S57,$Q$21:$R$21)*1.1 -> 1412.4 | AW30: 150 | AX30: нет | AY30: =FORECAST($AY$22,W30:X30,$L$21:$M$21) -> 1.33 | AZ30: =FORECAST($AZ$22,W30:X30,$L$21:$M$21) -> 1.32 | BA30: =FORECAST($BA$22,X30:Y30,$X$21:$Y$21) -> 1.3125 | BB30: =FORECAST($BB$22,AB30:AC30,$AB$21:$AC$21) -> 1.295 | BC30: =FORECAST($BC$22,AB30:AC30,$AB$21:$AC$21) -> 1.265 | BD30: =FORECAST($BD$22,AB30:AC30,$AB$21:$AC$21) -> 1.235 | BH30: 1 | BI30: 3.41 | BJ30: 3.96 | BK30: 4.93 | BL30: 150
J31: 200 | K31: =L31*0.88 -> 607.86145 | L31: =L30*1.25408796 -> 690.75165 | M31: =L31*1.26352614 -> 872.78276 | N31: =M31*1.07113641 -> 934.8694 | O31: =O30*1.24695214 -> 1183.607 | Q31: =L31*1.87 -> 1291.7056 | S31: =L31*1.95542361 -> 1350.7121 | U31: 200 | AF31: 1 | AG31: 2.73 | AH31: 3.11 | AI31: 3.89 | AJ31: 150.16 | AL31: 180 | AM31: нет | AN31: =FORECAST($AL$31,AN29:AN30,$AL$29:$AL$30) -> 877.37 | AO31: =FORECAST($AL$31,AO29:AO30,$AL$29:$AL$30) -> 1011.738 | AP31: =FORECAST($AL$31,AP29:AP30,$AL$29:$AL$30) -> 1137.0881 | AQ31: =FORECAST($AL$31,AQ29:AQ30,$AL$29:$AL$30) -> 1227.876 | AR31: =FORECAST($AL$31,AR29:AR30,$AL$29:$AL$30) -> 1323.348 | AS31: =FORECAST($AL$31,AS29:AS30,$AL$29:$AL$30) -> 1560.702 | AW31: 180 | AX31: нет | AY31: =FORECAST($AW$31,AY29:AY30,$AW$29:$AW$30) -> 1.33 | AZ31: =FORECAST($AW$31,AZ29:AZ30,$AW$29:$AW$30) -> 1.32 | BA31: =FORECAST($AW$31,BA29:BA30,$AW$29:$AW$30) -> 1.3125 | BB31: =FORECAST($AW$31,BB29:BB30,$AW$29:$AW$30) -> 1.295 | BC31: =FORECAST($AW$31,BC29:BC30,$AW$29:$AW$30) -> 1.265 | BD31: =FORECAST($AW$31,BD29:BD30,$AW$29:$AW$30) -> 1.235 | BH31: 1 | BI31: 2.73 | BJ31: 3.11 | BK31: 3.89 | BL31: 150.16
J32: 300 | K32: =L32*0.88 -> 762.31173 | L32: =L31*1.25408796 -> 866.26333 | M32: =L32*1.26352614 -> 1094.5464 | N32: =M32*1.07113641 -> 1172.4085 | O32: =O31*1.24695214 -> 1475.9012 | Q32: =L32*1.87 -> 1619.9124 | S32: =L32*1.95542361 -> 1693.9118 | U32: 300 | AF32: 1 | AG32: 2.73 | AH32: 2.83 | AI32: 3.66 | AJ32: 150.200 | BH32: 1 | BI32: 2.73 | BJ32: 2.83 | BK32: 3.66 | BL32: 150.200
J33: 400 | K33: =L33*0.88 -> 956.00596 | L33: =L32*1.25408796 -> 1086.3704 | M33: =L33*1.26352614 -> 1372.6574 | N33: =M33*1.07113641 -> 1470.3033 | O33: =O32*1.24695214 -> 1840.3782 | Q33: =L33*1.87 -> 2031.5127 | S33: =L33*1.95542361 -> 2124.3143 | U33: 400 | AF33: 1 | AG33: 3.41 | AH33: 3.86 | AI33: 4.63 | AJ33: 150.300 | BH33: 1 | BI33: 3.41 | BJ33: 3.86 | BK33: 4.63 | BL33: 150.300
J34: 500 | K34: =L34*0.88 -> 1198.9156 | L34: =L33*1.25408796 -> 1362.404 | M34: =L34*1.26352614 -> 1721.4331 | N34: =M34*1.07113641 -> 1843.8897 | O34: =O33*1.24695214 -> 2294.8636 | Q34: =L34*1.87 -> 2547.6956 | S34: =L34*1.95542361 -> 2664.077 | U34: 500
J35: 600 | K35: =L35*0.88 -> 1503.5456 | L35: =L34*1.25408796 -> 1708.5745 | M35: =L35*1.26352614 -> 2158.8286 | N35: =M35*1.07113641 -> 2312.3999 | O35: =O34*1.24695214 -> 2861.585 | Q35: =L35*1.87 -> 3195.0343 | S35: =L35*1.95542361 -> 3340.9869 | U35: 600
J36: 24В | AL36: 24В
J37: Тепловая мощность, Вт/м | U37: Коэффициент n | AL37: Тепловая мощность, Вт/м | AW37: Коэффициент n
J38: Ширина | K38: 160 | L38: 200 | M38: 260 | N38: 300 | O38: 300 | P38: 360 | Q38: 360 | R38: 400 | S38: 400 | U38: Ширина | V38: 160 | W38: 200 | X38: 260 | Y38: 300 | Z38: 300 | AA38: 360 | AB38: 360 | AC38: 400 | AD38: 400 | AF38: Коэффициент вент. | AJ38: Высота | AL38: Высота | AM38: Ширина | AW38: Высота | AX38: Ширина | BH38: Коэффициент вент. | BL38: Высота
J39: Высота | N39: 2 | O39: 4 | P39: 6ТП | Q39: 8ТП | R39: 6ТП | S39: 8ТП | U39: Высота | Y39: 2 | Z39: 4 | AA39: 6ТП | AB39: 8ТП | AC39: 6ТП | AD39: 8ТП | AF39: 0 | AG39: 1 | AH39: 2 | AI39: 3 | AJ39: мм | AM39: 180 | AN39: 240 | AO39: 260 | AP39: 290 | AQ39: 340 | AR39: 380 | AS39: 420 | AX39: 180 | AY39: 240 | AZ39: 260 | BA39: 290 | BB39: 340 | BC39: 380 | BD39: 420 | BH39: 0 | BI39: 1 | BJ39: 2 | BK39: 3 | BL39: мм
J40: 65 | M40: 309.0204 | N40: 342.2484 | O40: 342.2484 | Q40: 477.3756 | R40: 512.8188 | S40: 512.8188 | U40: 65 | V40: нет | W40: нет | X40: 1.7 | Y40: 1.65 | Z40: нет | AB40: 1.6 | AC40: 1.55 | AD40: нет | AF40: 1 | AG40: 5.12 | AH40: 5.66 | AI40: 6.53 | AJ40: 65 | AL40: 75-110 | AM40: 2ТГ | AN40: 2ТГ | AO40: 2ТГ | AP40: 3ТГ | AQ40: 4ТГ | AR40: 4ТГ | AS40: 5ТГ | AW40: 75-110 | AY40: 2ТГ | AZ40: 2ТГ | BA40: 3ТГ | BB40: 4ТГ | BC40: 4ТГ | BD40: 5ТГ
J41: 70 | K41: 512.8188 | L41: 512.8188 | M41: 379.82927 | N41: 419.93546 | O41: 419.93546 | Q41: 562.48473 | R41: 613.38888 | S41: 613.38888 | U41: 70 | V41: нет | W41: нет | X41: 1.65 | Y41: 1.6 | Z41: нет | AB41: 1.55 | AC41: 1.5 | AD41: нет | AF41: 1 | AG41: 5.12 | AH41: 5.66 | AI41: 6.53 | AJ41: 70 | AL41: 70 | AW41: 70 | BL41: 75-110
J42: 75 | K42: 304.0362 | L42: 337.818 | M42: 435.24 | N42: 482.04 | O42: 0 | Q42: 672.36 | R42: 722.28 | S42: 0 | U42: 75 | V42: 1.7 | W42: 1.65 | X42: 1.6 | Y42: 1.55 | Z42: 1.55 | AB42: 1.5 | AC42: 1.45 | AD42: 1.45 | AF42: 1 | AG42: 4.6 | AH42: 5 | AI42: 6.53 | AJ42: 75 | AL42: 75 | AN42: =FORECAST($AN$39,L42:M42,$L$38:$M$38) -> 402.766 | AO42: =FORECAST($AO$39,M42:N42,$M$38:$N$38) -> 435.24 | AP42: =(V63+W63)/2 -> 558.87 | AQ42: =FORECAST($AQ$39,Q42:R42,$Q$38:$R$38) -> 647.4 | AR42: =FORECAST($AR$39,Q42:R42,$Q$38:$R$38) -> 697.32 | AS42: =FORECAST($AS$39,Q42:R42,$Q$38:$R$38)*1.1 -> 821.964 | AW42: 75 | AY42: =FORECAST($AY$39,W42:X42,$L$38:$M$38) -> 1.6166667 | AZ42: =FORECAST($AZ$39,X42:Y42,$X$38:$Y$38) -> 1.6 | BA42: =FORECAST($BA$39,X42:Y42,$X$38:$Y$38) -> 1.5625 | BB42: =FORECAST($BB$39,AB42:AC42,$Q$38:$R$38) -> 1.525 | BC42: =FORECAST($BC$39,AB42:AC42,$Q$38:$R$38) -> 1.475 | BD42: =FORECAST($BD$39,AB42:AC42,$Q$38:$R$38) -> 1.425 | BH42: 1 | BI42: 4.6 | BJ42: 5 | BK42: 6.53 | BL42: 75
J43: 80 | K43: 0 | L43: 0 | M43: 534.9708 | N43: 591.4584 | O43: 591.4584 | Q43: 792.23202 | R43: 863.928 | S43: 863.928 | U43: 80 | V43: нет | W43: нет | X43: 1.55 | Y43: 1.5 | Z43: нет | AB43: 1.45 | AC43: 1.4 | AD43: нет | AF43: 1 | AG43: 3.92 | AH43: 4.5 | AI43: 5.6 | AJ43: 80 | AL43: 90 | AN43: =FORECAST($AN$39,L44:M44,$L$38:$M$38) -> 578.76 | AO43: =FORECAST($AO$39,M44:N44,$M$38:$N$38) -> 630.24 | AP43: =(V64+W64)/2 -> 782.925 | AQ43: =FORECAST($AQ$39,Q44:R44,$Q$38:$R$38) -> 859.56 | AR43: =FORECAST($AR$39,Q44:R44,$Q$38:$R$38) -> 956.28 | AS43: =FORECAST($AS$39,Q44:R44,$Q$38:$R$38)*1.1 -> 1158.3 | AW43: 90 | AY43: =FORECAST($AY$39,W44:X44,$L$38:$M$38) -> 1.5166667 | AZ43: =FORECAST($AZ$39,X44:Y44,$M$38:$N$38) -> 1.5 | BA43: =FORECAST($BA$39,X44:Y44,$X$38:$Y$38) -> 1.4625 | BB43: =FORECAST($BB$39,AB44:AC44,$Q$38:$R$38) -> 1.45 | BC43: =FORECAST($BC$39,AB44:AC44,$Q$38:$R$38) -> 1.35 | BD43: =FORECAST($BD$39,AB44:AC44,$Q$38:$R$38) -> 1.25 | BH43: 1 | BI43: 3.51 | BJ43: 3.96 | BK43: 4.93 | BL43: 90
J44: 90 | K44: 423.462 | L44: 475.8 | M44: 630.24 | N44: 731.64 | O44: 0 | Q44: 907.92 | R44: 1004.64 | S44: 0 | U44: 90 | V44: 1.6 | W44: 1.55 | X44: 1.5 | Y44: 1.45 | Z44: 1.45 | AB44: 1.4 | AC44: 1.3 | AD44: 1.3 | AF44: 1 | AG44: 3.51 | AH44: 3.96 | AI44: 4.93 | AJ44: 90 | AL44: 110 | AN44: =FORECAST($AN$39,L45:M45,$L$38:$M$38) -> 701.21835 | AO44: =FORECAST($AO$39,M45:N45,$M$38:$N$38) -> 753.48 | AP44: =(V65+W65)/2 -> 939.23981 | AQ44: =FORECAST($AQ$39,Q45:R45,$Q$38:$R$38) -> 1065.3296 | AR44: =FORECAST($AR$39,Q45:R45,$Q$38:$R$38) -> 1166.3099 | AS44: =FORECAST($AS$39,Q45:R45,$Q$38:$R$38)*1.1 -> 1394.0191 | AW44: 110 | AY44: =FORECAST($AY$39,W45:X45,$L$38:$M$38) -> 1.3 | AZ44: =FORECAST($AZ$39,X45:Y45,$M$38:$N$38) -> 1.3 | BA44: =FORECAST($BA$39,X45:Y45,$X$38:$Y$38) -> 1.3 | BB44: =FORECAST($BB$39,AB45:AC45,$Q$38:$R$38) -> 1.3 | BC44: =FORECAST($BC$39,AB45:AC45,$Q$38:$R$38) -> 1.3 | BD44: =FORECAST($BD$39,AB45:AC45,$Q$38:$R$38) -> 1.3 | BH44: 1 | BI44: 3.41 | BJ44: 3.96 | BK44: 4.93 | BL44: 110
J45: 110 | K45: 525.09165 | L45: 596.69505 | M45: 753.48 | N45: 833.04 | O45: 0 | Q45: 1115.8197 | R45: 1216.8 | S45: 0 | U45: 110 | V45: 1.5 | W45: 1.3 | X45: 1.3 | Y45: 1.3 | Z45: 1.3 | AB45: 1.3 | AC45: 1.3 | AD45: 1.3 | AF45: 1 | AG45: 3.41 | AH45: 3.96 | AI45: 4.93 | AJ45: 110 | AL45: 140-180 | AN45: 4ТК | AO45: 4ТК | AP45: 6ТП | AQ45: 8ТП | AR45: 8ТП | AS45: 10ТП | AW45: 140-180 | AY45: 4ТК | AZ45: 4ТК | BA45: 6ТП | BB45: 8ТП | BC45: 8ТП | BD45: 10ТП
J46: 140 | K46: =K47*0.965 -> 549.471 | L46: =L47*0.965 -> 690.9786 | M46: =M47*0.965 -> 1148.6202 | N46: 1190.7714 | O46: =O47*0.965 -> 1190.7714 | P46: =P47*0.965 -> 1375.7851 | Q46: =Q47*0.965 -> 1448.1948 | R46: =R47*0.965 -> 1424.274 | S46: =S47*0.965 -> 1556.5836 | U46: 140 | V46: 1.4 | W46: 1.35 | X46: 1.32 | Y46: 1.3 | Z46: 1.3 | AA46: 1.28 | AB46: 1.28 | AC46: 1.25 | AD46: 1.25 | AF46: 1 | AG46: 3.41 | AH46: 3.96 | AI46: 4.93 | AJ46: 140 | AL46: 140 | AN46: =FORECAST($AN$39,L46:M46,$L$38:$M$38) -> 996.073 | AO46: =FORECAST($AO$39,M46:N46,$M$38:$N$38) -> 1148.6202 | AP46: =FORECAST($AP$39,P63:Q63,$Q$38:$R$38) -> 1290.9294 | AQ46: =FORECAST($AQ$39,R63:S63,$R$61:$S$61) -> 1394.0004 | AR46: =FORECAST($AR$39,R63:S63,$R$61:$S$61) -> 1502.3892 | AS46: =FORECAST($AS$39,R63:S63,$Q$38:$R$38)*1.1 -> 1771.8558 | AW46: 140 | AY46: =FORECAST($AY$39,W46:X46,$L$38:$M$38) -> 1.33 | AZ46: =FORECAST($AZ$39,X46:Y46,$M$38:$N$38) -> 1.32 | BA46: =FORECAST($BA$39,X46:Y46,$X$38:$Y$38) -> 1.305 | BB46: =FORECAST($BB$39,AB46:AC46,$Q$38:$R$38) -> 1.295 | BC46: =FORECAST($BC$39,AB46:AC46,$Q$38:$R$38) -> 1.265 | BD46: =FORECAST($BD$39,AB46:AC46,$Q$38:$R$38) -> 1.235 | BH46: 1 | BI46: 3.41 | BJ46: 3.96 | BK46: 4.93 | BL46: 140
J47: 150 | K47: 569.4 | L47: 716.04 | M47: 1190.28 | N47: 1233.96 | O47: 1233.96 | P47: =Q47*0.95 -> 1425.684 | Q47: 1500.72 | R47: =S47*0.915 -> 1475.9316 | S47: 1613.04 | U47: 150 | V47: 1.4 | W47: 1.35 | X47: 1.32 | Y47: 1.3 | Z47: 1.3 | AA47: 1.28 | AB47: 1.28 | AC47: 1.25 | AD47: 1.25 | AF47: 1 | AG47: 3.41 | AH47: 3.96 | AI47: 4.93 | AJ47: 150 | AL47: 150 | AN47: =FORECAST($AN$39,L47:M47,$L$38:$M$38) -> 1032.2 | AO47: =FORECAST($AO$39,M47:N47,$M$38:$N$38) -> 1190.28 | AP47: =FORECAST($AP$39,P64:Q64,$Q$38:$R$38) -> 1337.7507 | AQ47: =FORECAST($AQ$39,R64:S64,$R$61:$S$61) -> 1444.56 | AR47: =FORECAST($AR$39,R64:S64,$R$61:$S$61) -> 1556.88 | AS47: =FORECAST($AS$39,R64:S64,$Q$38:$R$38)*1.1 -> 1836.12 | AW47: 150 | AY47: =FORECAST($AY$39,W47:X47,$L$38:$M$38) -> 1.33 | AZ47: =FORECAST($AZ$39,X47:Y47,$M$38:$N$38) -> 1.32 | BA47: =FORECAST($BA$39,X47:Y47,$X$38:$Y$38) -> 1.305 | BB47: =FORECAST($BB$39,AB47:AC47,$Q$38:$R$38) -> 1.295 | BC47: =FORECAST($BC$39,AB47:AC47,$Q$38:$R$38) -> 1.265 | BD47: =FORECAST($BD$39,AB47:AC47,$Q$38:$R$38) -> 1.235 | BH47: 1 | BI47: 3.41 | BJ47: 3.96 | BK47: 4.93 | BL47: 150
J48: 200 | K48: 790.21989 | L48: 897.97714 | M48: 1134.6176 | N48: 1215.3302 | O48: 1538.6891 | Q48: 1679.2173 | S48: 1755.9257 | U48: 200 | AF48: 1 | AG48: 2.73 | AH48: 3.11 | AI48: 3.89 | AJ48: 150.16 | AL48: 180 | AN48: =FORECAST($AL$48,AN46:AN47,$AL$46:$AL$47) -> 1140.581 | AO48: =FORECAST($AL$48,AO46:AO47,$AL$46:$AL$47) -> 1315.2594 | AP48: =FORECAST($AL$48,AP46:AP47,$AL$46:$AL$47) -> 1478.2145 | AQ48: =FORECAST($AL$48,AQ46:AQ47,$AL$46:$AL$47) -> 1596.2388 | AR48: =FORECAST($AL$48,AR46:AR47,$AL$46:$AL$47) -> 1720.3524 | AS48: =FORECAST($AL$48,AS46:AS47,$AL$46:$AL$47) -> 2028.9126 | AW48: 180 | AY48: =FORECAST($AW$48,AY46:AY47,$AW$46:$AW$47) -> 1.33 | AZ48: =FORECAST($AW$48,AZ46:AZ47,$AW$46:$AW$47) -> 1.32 | BA48: =FORECAST($AW$48,BA46:BA47,$AW$46:$AW$47) -> 1.305 | BB48: =FORECAST($AW$48,BB46:BB47,$AW$46:$AW$47) -> 1.295 | BC48: =FORECAST($AW$48,BC46:BC47,$AW$46:$AW$47) -> 1.265 | BD48: =FORECAST($AW$48,BD46:BD47,$AW$46:$AW$47) -> 1.235 | BH48: 1 | BI48: 2.73 | BJ48: 3.11 | BK48: 3.89 | BL48: 150.16
J49: 300 | K49: 991.00524 | L49: 1126.1423 | M49: 1422.9103 | N49: 1524.131 | O49: 1918.6716 | Q49: 2105.8861 | S49: 2202.0853 | U49: 300 | AF49: 1 | AG49: 2.73 | AH49: 2.83 | AI49: 3.66 | AJ49: 150.200 | AL49: 300 | BH49: 1 | BI49: 2.73 | BJ49: 2.83 | BK49: 3.66 | BL49: 150.200
J50: 400 | K50: 1242.8077 | L50: 1412.2815 | M50: 1784.4546 | N50: 1911.3943 | O50: 2392.4917 | Q50: 2640.9665 | S50: 2761.6086 | U50: 400 | AF50: 1 | AG50: 3.41 | AH50: 3.86 | AI50: 4.63 | AJ50: 150.300 | AL50: 400 | BH50: 1 | BI50: 3.41 | BJ50: 3.86 | BK50: 4.63 | BL50: 150.300
J51: 500 | K51: 1558.5902 | L51: 1771.1253 | M51: 2237.8631 | N51: 2397.0566 | O51: 2983.3226 | Q51: 3312.0042 | S51: 3463.3002 | U51: 500 | AF51: 1 | AG51: 3.05 | AH51: 3.25 | AI51: 4.1 | AJ51: 110.200 | AL51: 500 | BH51: 1 | BI51: 3.05 | BJ51: 3.25 | BK51: 4.1 | BL51: 110.200
J52: 600 | K52: 1954.6092 | L52: 2221.1469 | M52: 2806.4771 | N52: 3006.1198 | O52: 3720.0605 | Q52: 4153.5446 | S52: 4343.283 | U52: 600 | AL52: 600
K54: Таблица для удобства расчета средних значений | N54: 360 | O54: 400 | P54: 360 | Q54: 400 | R54: 360 | S54: 400 | V54: 290 | W54: 340
N55: 4 | O55: 4 | P55: 6 | Q55: 6 | R55: 8 | S55: 8 | V55: 2ТГ | W55: 4ТГ
N56: 517.2 | O56: 555.6 | P56: 1058.2962 | Q56: 1095.5954 | R56: =R57*0.965 -> 1113.996 | S56: =S57*0.965 -> 1197.372 | U56: 75 | V56: =FORECAST($AP$22,M25:N25,$M$21:$N$21) -> 361.8 | W56: =FORECAST($AQ$22,N56:O56,$Q$21:$R$21) -> 498
N57: 609.40925 | O57: 664.56 | P57: 1096.68 | Q57: 1135.332 | R57: =962*1.2 -> 1154.4 | S57: =1034*1.2 -> 1240.8 | U57: 90 | V57: =FORECAST($AP$22,M27:N27,$M$21:$N$21) -> 543.3 | W57: =FORECAST($AQ$22,N58:O58,$Q$21:$R$21) -> 661.2
N58: 698.4 | O58: 772.8 | U58: 110 | V58: =FORECAST($AP$22,M28:N28,$M$21:$N$21) -> 625.5 | W58: =FORECAST($AQ$22,N59:O59,$Q$21:$R$21) -> 819.48432
N59: 858.32288 | O59: 936
N61: 360 | O61: 400 | P61: 360 | Q61: 400 | R61: 360 | S61: 400 | V61: 290 | W61: 340
N62: 4 | O62: 4 | P62: 6 | Q62: 6 | R62: 8 | S62: 8 | V62: 2ТГ | W62: 4ТГ
N63: 672.36 | O63: 722.28 | P63: 1375.7851 | Q63: 1424.274 | R63: =R64*0.965 -> 1448.1948 | S63: =S64*0.965 -> 1556.5836 | U63: 75 | V63: =FORECAST($AP$39,M42:N42,$M$38:$N$38) -> 470.34 | W63: =FORECAST($AQ$39,N63:O63,$Q$38:$R$38) -> 647.4
N64: 792.23202 | O64: 863.928 | P64: 1425.684 | Q64: 1475.9316 | R64: 1500.72 | S64: 1613.04 | U64: 90 | V64: =FORECAST($AP$39,M44:N44,$M$38:$N$38) -> 706.29 | W64: =FORECAST($AQ$39,N65:O65,$Q$38:$R$38) -> 859.56
B65: *-голубым выделены ячейки для изменения параметров | N65: 907.92 | O65: 1004.64 | U65: 110 | V65: =FORECAST($AP$39,M45:N45,$M$38:$N$38) -> 813.15 | W65: =FORECAST($AQ$39,N66:O66,$Q$38:$R$38) -> 1065.3296
N66: 1115.8197 | O66: 1216.8
B69: Модель | D69: Обозначение | E69: Высота | F69: Ширина | G69: ТО | H69: Длина, мм
H70: 500 | I70: 550 | J70: 600 | K70: 650 | L70: 700 | M70: 750 | N70: 800 | O70: 850 | P70: 900 | Q70: 950 | R70: 1000 | S70: 1050 | T70: 1100 | U70: 1150 | V70: 1200 | W70: 1250 | X70: 1300 | Y70: 1350 | Z70: 1400 | AA70: 1450 | AB70: 1500 | AC70: 1550 | AD70: 1600 | AE70: 1650 | AF70: 1700 | AG70: 1750 | AH70: 1800 | AI70: 1850 | AJ70: 1900 | AK70: 1950 | AL70: 2000 | AM70: 2050 | AN70: 2100 | AO70: 2150 | AP70: 2200 | AQ70: 2250 | AR70: 2300 | AS70: 2350 | AT70: 2400 | AU70: 2450 | AV70: 2500 | AW70: 2550 | AX70: 2600 | AY70: 2650 | AZ70: 2700 | BA70: 2750 | BB70: 2800 | BC70: 2850 | BD70: 2900 | BE70: 2950 | BF70: 3000
B71: КРВ.070.360.ХХХ.4ТГ | L71: =((L$70-$H$4)/1000)*IF($C$13=0,$Q$24,$Q$41)*(($C$8/70)^$AB$41)*IF($C$13=1,$AG$41,IF($C$13=2,$AH$41,IF($C$13=3,$AI$41,1))) -> 1285.5589 | M71: =((M$70-$H$4)/1000)*IF($C$13=0,$Q$24,$Q$41)*(($C$8/70)^$AB$41)*IF($C$13=1,$AG$41,IF($C$13=2,$AH$41,IF($C$13=3,$AI$41,1))) -> 1469.2101 | N71: =((N$70-$H$4)/1000)*IF($C$13=0,$Q$24,$Q$41)*(($C$8/70)^$AB$41)*IF($C$13=1,$AG$41,IF($C$13=2,$AH$41,IF($C$13=3,$AI$41,1))) -> 1652.8614 | O71: =((O$70-$H$4)/1000)*IF($C$13=0,$Q$24,$Q$41)*(($C$8/70)^$AB$41)*IF($C$13=1,$AG$41,IF($C$13=2,$AH$41,IF($C$13=3,$AI$41,1))) -> 1836.5127 | P71: =((P$70-$H$4)/1000)*IF($C$13=0,$Q$24,$Q$41)*(($C$8/70)^$AB$41)*IF($C$13=1,$AG$41,IF($C$13=2,$AH$41,IF($C$13=3,$AI$41,1))) -> 2020.1639 | Q71: =((Q$70-$H$4)/1000)*IF($C$13=0,$Q$24,$Q$41)*(($C$8/70)^$AB$41)*IF($C$13=1,$AG$41,IF($C$13=2,$AH$41,IF($C$13=3,$AI$41,1))) -> 2203.8152 | R71: =((R$70-$H$4)/1000)*IF($C$13=0,$Q$24,$Q$41)*(($C$8/70)^$AB$41)*IF($C$13=1,$AG$41,IF($C$13=2,$AH$41,IF($C$13=3,$AI$41,1))) -> 2387.4665 | S71: =((S$70-$H$4)/1000)*IF($C$13=0,$Q$24,$Q$41)*(($C$8/70)^$AB$41)*IF($C$13=1,$AG$41,IF($C$13=2,$AH$41,IF($C$13=3,$AI$41,1))) -> 2571.1177 | ... BF71: =((BF$70-$H$4)/1000)*IF($C$13=0,$Q$24,$Q$41)*(($C$8/70)^$AB$41)*IF($C$13=1,$AG$41,IF($C$13=2,$AH$41,IF($C$13=3,$AI$41,1))) -> 9733.5171
B72: КРВ.070.400.ХХХ.4ТГ | L72: =((L$70-$H$4)/1000)*IF($C$13=0,$R$24,$R$41)*(($C$8/70)^$AC$41)*IF($C$13=1,$AG$41,IF($C$13=2,$AH$41,IF($C$13=3,$AI$41,1))) -> 1401.9003 | M72: =((M$70-$H$4)/1000)*IF($C$13=0,$R$24,$R$41)*(($C$8/70)^$AC$41)*IF($C$13=1,$AG$41,IF($C$13=2,$AH$41,IF($C$13=3,$AI$41,1))) -> 1602.1718 | N72: =((N$70-$H$4)/1000)*IF($C$13=0,$R$24,$R$41)*(($C$8/70)^$AC$41)*IF($C$13=1,$AG$41,IF($C$13=2,$AH$41,IF($C$13=3,$AI$41,1))) -> 1802.4432 | O72: =((O$70-$H$4)/1000)*IF($C$13=0,$R$24,$R$41)*(($C$8/70)^$AC$41)*IF($C$13=1,$AG$41,IF($C$13=2,$AH$41,IF($C$13=3,$AI$41,1))) -> 2002.7147 | P72: =((P$70-$H$4)/1000)*IF($C$13=0,$R$24,$R$41)*(($C$8/70)^$AC$41)*IF($C$13=1,$AG$41,IF($C$13=2,$AH$41,IF($C$13=3,$AI$41,1))) -> 2202.9862 | Q72: =((Q$70-$H$4)/1000)*IF($C$13=0,$R$24,$R$41)*(($C$8/70)^$AC$41)*IF($C$13=1,$AG$41,IF($C$13=2,$AH$41,IF($C$13=3,$AI$41,1))) -> 2403.2576 | R72: =((R$70-$H$4)/1000)*IF($C$13=0,$R$24,$R$41)*(($C$8/70)^$AC$41)*IF($C$13=1,$AG$41,IF($C$13=2,$AH$41,IF($C$13=3,$AI$41,1))) -> 2603.5291 | S72: =((S$70-$H$4)/1000)*IF($C$13=0,$R$24,$R$41)*(($C$8/70)^$AC$41)*IF($C$13=1,$AG$41,IF($C$13=2,$AH$41,IF($C$13=3,$AI$41,1))) -> 2803.8006 | ... BF72: =((BF$70-$H$4)/1000)*IF($C$13=0,$R$24,$R$41)*(($C$8/70)^$AC$41)*IF($C$13=1,$AG$41,IF($C$13=2,$AH$41,IF($C$13=3,$AI$41,1))) -> 10614.388
B73: =D73&"."&E73&"."&F73&"."&"ХХХ"&"."&G73&"."&"24v" -> КРВ.75.240.ХХХ.2ТГ.24v | D73: КРВ | E73: 75 | F73: 240 | G73: 2ТГ | L73: =((L$70-$H$4)/1000)*IF($C$13=0,$AN$25,$AN$42)*(($C$8/70)^$AY$42)*IF($C$13=1,$AG$42,IF($C$13=2,$AH$42,IF($C$13=3,$AI$42,1))) -> 920.52169 | M73: =((M$70-$H$4)/1000)*IF($C$13=0,$AN$25,$AN$42)*(($C$8/70)^$AY$42)*IF($C$13=1,$AG$42,IF($C$13=2,$AH$42,IF($C$13=3,$AI$42,1))) -> 1052.0248 | N73: =((N$70-$H$4)/1000)*IF($C$13=0,$AN$25,$AN$42)*(($C$8/70)^$AY$42)*IF($C$13=1,$AG$42,IF($C$13=2,$AH$42,IF($C$13=3,$AI$42,1))) -> 1183.5279 | O73: =((O$70-$H$4)/1000)*IF($C$13=0,$AN$25,$AN$42)*(($C$8/70)^$AY$42)*IF($C$13=1,$AG$42,IF($C$13=2,$AH$42,IF($C$13=3,$AI$42,1))) -> 1315.031 | P73: =((P$70-$H$4)/1000)*IF($C$13=0,$AN$25,$AN$42)*(($C$8/70)^$AY$42)*IF($C$13=1,$AG$42,IF($C$13=2,$AH$42,IF($C$13=3,$AI$42,1))) -> 1446.5341 | Q73: =((Q$70-$H$4)/1000)*IF($C$13=0,$AN$25,$AN$42)*(($C$8/70)^$AY$42)*IF($C$13=1,$AG$42,IF($C$13=2,$AH$42,IF($C$13=3,$AI$42,1))) -> 1578.0372 | R73: =((R$70-$H$4)/1000)*IF($C$13=0,$AN$25,$AN$42)*(($C$8/70)^$AY$42)*IF($C$13=1,$AG$42,IF($C$13=2,$AH$42,IF($C$13=3,$AI$42,1))) -> 1709.5403 | S73: =((S$70-$H$4)/1000)*IF($C$13=0,$AN$25,$AN$42)*(($C$8/70)^$AY$42)*IF($C$13=1,$AG$42,IF($C$13=2,$AH$42,IF($C$13=3,$AI$42,1))) -> 1841.0434 | ... BF73: =((BF$70-$H$4)/1000)*IF($C$13=0,$AN$25,$AN$42)*(($C$8/70)^$AY$42)*IF($C$13=1,$AG$42,IF($C$13=2,$AH$42,IF($C$13=3,$AI$42,1))) -> 6969.6642
B74: =D74&"."&E74&"."&F74&"."&"ХХХ"&"."&G74&"."&"24v" -> КРВ.75.260.ХХХ.2ТГ.24v | D74: КРВ | E74: 75 | F74: 260 | G74: 2ТГ | L74: =((L$70-$H$4)/1000)*IF($C$13=0,$AO$25,$AO$42)*(($C$8/70)^$AZ$42)*IF($C$13=1,$AG$42,IF($C$13=2,$AH$42,IF($C$13=3,$AI$42,1))) -> 994.74102 | M74: =((M$70-$H$4)/1000)*IF($C$13=0,$AO$25,$AO$42)*(($C$8/70)^$AZ$42)*IF($C$13=1,$AG$42,IF($C$13=2,$AH$42,IF($C$13=3,$AI$42,1))) -> 1136.8469 | N74: =((N$70-$H$4)/1000)*IF($C$13=0,$AO$25,$AO$42)*(($C$8/70)^$AZ$42)*IF($C$13=1,$AG$42,IF($C$13=2,$AH$42,IF($C$13=3,$AI$42,1))) -> 1278.9527 | O74: =((O$70-$H$4)/1000)*IF($C$13=0,$AO$25,$AO$42)*(($C$8/70)^$AZ$42)*IF($C$13=1,$AG$42,IF($C$13=2,$AH$42,IF($C$13=3,$AI$42,1))) -> 1421.0586 | P74: =((P$70-$H$4)/1000)*IF($C$13=0,$AO$25,$AO$42)*(($C$8/70)^$AZ$42)*IF($C$13=1,$AG$42,IF($C$13=2,$AH$42,IF($C$13=3,$AI$42,1))) -> 1563.1645 | Q74: =((Q$70-$H$4)/1000)*IF($C$13=0,$AO$25,$AO$42)*(($C$8/70)^$AZ$42)*IF($C$13=1,$AG$42,IF($C$13=2,$AH$42,IF($C$13=3,$AI$42,1))) -> 1705.2703 | R74: =((R$70-$H$4)/1000)*IF($C$13=0,$AO$25,$AO$42)*(($C$8/70)^$AZ$42)*IF($C$13=1,$AG$42,IF($C$13=2,$AH$42,IF($C$13=3,$AI$42,1))) -> 1847.3762 | S74: =((S$70-$H$4)/1000)*IF($C$13=0,$AO$25,$AO$42)*(($C$8/70)^$AZ$42)*IF($C$13=1,$AG$42,IF($C$13=2,$AH$42,IF($C$13=3,$AI$42,1))) -> 1989.482 | ... BF74: =((BF$70-$H$4)/1000)*IF($C$13=0,$AO$25,$AO$42)*(($C$8/70)^$AZ$42)*IF($C$13=1,$AG$42,IF($C$13=2,$AH$42,IF($C$13=3,$AI$42,1))) -> 7531.6106
B75: =D75&"."&E75&"."&F75&"."&"ХХХ"&"."&G75&"."&"24v" -> КРВ.75.290.ХХХ.3ТГ.24v | D75: КРВ | E75: 75 | F75: 290 | G75: 3ТГ | L75: =((L$70-$H$4)/1000)*IF($C$13=0,$AP$25,$AP$42)*(($C$8/70)^$BA$42)*IF($C$13=1,$AG$42,IF($C$13=2,$AH$42,IF($C$13=3,$AI$42,1))) -> 1277.2974 | M75: =((M$70-$H$4)/1000)*IF($C$13=0,$AP$25,$AP$42)*(($C$8/70)^$BA$42)*IF($C$13=1,$AG$42,IF($C$13=2,$AH$42,IF($C$13=3,$AI$42,1))) -> 1459.7684 | N75: =((N$70-$H$4)/1000)*IF($C$13=0,$AP$25,$AP$42)*(($C$8/70)^$BA$42)*IF($C$13=1,$AG$42,IF($C$13=2,$AH$42,IF($C$13=3,$AI$42,1))) -> 1642.2395 | O75: =((O$70-$H$4)/1000)*IF($C$13=0,$AP$25,$AP$42)*(($C$8/70)^$BA$42)*IF($C$13=1,$AG$42,IF($C$13=2,$AH$42,IF($C$13=3,$AI$42,1))) -> 1824.7106 | P75: =((P$70-$H$4)/1000)*IF($C$13=0,$AP$25,$AP$42)*(($C$8/70)^$BA$42)*IF($C$13=1,$AG$42,IF($C$13=2,$AH$42,IF($C$13=3,$AI$42,1))) -> 2007.1816 | Q75: =((Q$70-$H$4)/1000)*IF($C$13=0,$AP$25,$AP$42)*(($C$8/70)^$BA$42)*IF($C$13=1,$AG$42,IF($C$13=2,$AH$42,IF($C$13=3,$AI$42,1))) -> 2189.6527 | R75: =((R$70-$H$4)/1000)*IF($C$13=0,$AP$25,$AP$42)*(($C$8/70)^$BA$42)*IF($C$13=1,$AG$42,IF($C$13=2,$AH$42,IF($C$13=3,$AI$42,1))) -> 2372.1237 | S75: =((S$70-$H$4)/1000)*IF($C$13=0,$AP$25,$AP$42)*(($C$8/70)^$BA$42)*IF($C$13=1,$AG$42,IF($C$13=2,$AH$42,IF($C$13=3,$AI$42,1))) -> 2554.5948 | ... BF75: =((BF$70-$H$4)/1000)*IF($C$13=0,$AP$25,$AP$42)*(($C$8/70)^$BA$42)*IF($C$13=1,$AG$42,IF($C$13=2,$AH$42,IF($C$13=3,$AI$42,1))) -> 9670.9659
B76: =D76&"."&E76&"."&F76&"."&"ХХХ"&"."&G76&"."&"24v" -> КРВ.75.340.ХХХ.4ТГ.24v | D76: КРВ | E76: 75 | F76: 340 | G76: 4ТГ | L76: =((L$70-$H$4)/1000)*IF($C$13=0,$AQ$25,$AQ$42)*(($C$8/70)^$BB$42)*IF($C$13=1,$AG$42,IF($C$13=2,$AH$42,IF($C$13=3,$AI$42,1))) -> 1479.6327 | M76: =((M$70-$H$4)/1000)*IF($C$13=0,$AQ$25,$AQ$42)*(($C$8/70)^$BB$42)*IF($C$13=1,$AG$42,IF($C$13=2,$AH$42,IF($C$13=3,$AI$42,1))) -> 1691.0088 | N76: =((N$70-$H$4)/1000)*IF($C$13=0,$AQ$25,$AQ$42)*(($C$8/70)^$BB$42)*IF($C$13=1,$AG$42,IF($C$13=2,$AH$42,IF($C$13=3,$AI$42,1))) -> 1902.3849 | O76: =((O$70-$H$4)/1000)*IF($C$13=0,$AQ$25,$AQ$42)*(($C$8/70)^$BB$42)*IF($C$13=1,$AG$42,IF($C$13=2,$AH$42,IF($C$13=3,$AI$42,1))) -> 2113.761 | P76: =((P$70-$H$4)/1000)*IF($C$13=0,$AQ$25,$AQ$42)*(($C$8/70)^$BB$42)*IF($C$13=1,$AG$42,IF($C$13=2,$AH$42,IF($C$13=3,$AI$42,1))) -> 2325.1371 | Q76: =((Q$70-$H$4)/1000)*IF($C$13=0,$AQ$25,$AQ$42)*(($C$8/70)^$BB$42)*IF($C$13=1,$AG$42,IF($C$13=2,$AH$42,IF($C$13=3,$AI$42,1))) -> 2536.5132 | R76: =((R$70-$H$4)/1000)*IF($C$13=0,$AQ$25,$AQ$42)*(($C$8/70)^$BB$42)*IF($C$13=1,$AG$42,IF($C$13=2,$AH$42,IF($C$13=3,$AI$42,1))) -> 2747.8893 | S76: =((S$70-$H$4)/1000)*IF($C$13=0,$AQ$25,$AQ$42)*(($C$8/70)^$BB$42)*IF($C$13=1,$AG$42,IF($C$13=2,$AH$42,IF($C$13=3,$AI$42,1))) -> 2959.2654 | ... BF76: =((BF$70-$H$4)/1000)*IF($C$13=0,$AQ$25,$AQ$42)*(($C$8/70)^$BB$42)*IF($C$13=1,$AG$42,IF($C$13=2,$AH$42,IF($C$13=3,$AI$42,1))) -> 11202.933
B77: =D77&"."&E77&"."&F77&"."&"ХХХ"&"."&G77&"."&"24v" -> КРВ.75.380.ХХХ.4ТГ.24v | D77: КРВ | E77: 75 | F77: 380 | G77: 4ТГ | L77: =((L$70-$H$4)/1000)*IF($C$13=0,$AR$25,$AR$42)*(($C$8/70)^$BC$42)*IF($C$13=1,$AG$42,IF($C$13=2,$AH$42,IF($C$13=3,$AI$42,1))) -> 1593.7249 | M77: =((M$70-$H$4)/1000)*IF($C$13=0,$AR$25,$AR$42)*(($C$8/70)^$BC$42)*IF($C$13=1,$AG$42,IF($C$13=2,$AH$42,IF($C$13=3,$AI$42,1))) -> 1821.3998 | N77: =((N$70-$H$4)/1000)*IF($C$13=0,$AR$25,$AR$42)*(($C$8/70)^$BC$42)*IF($C$13=1,$AG$42,IF($C$13=2,$AH$42,IF($C$13=3,$AI$42,1))) -> 2049.0748 | O77: =((O$70-$H$4)/1000)*IF($C$13=0,$AR$25,$AR$42)*(($C$8/70)^$BC$42)*IF($C$13=1,$AG$42,IF($C$13=2,$AH$42,IF($C$13=3,$AI$42,1))) -> 2276.7498 | P77: =((P$70-$H$4)/1000)*IF($C$13=0,$AR$25,$AR$42)*(($C$8/70)^$BC$42)*IF($C$13=1,$AG$42,IF($C$13=2,$AH$42,IF($C$13=3,$AI$42,1))) -> 2504.4248 | Q77: =((Q$70-$H$4)/1000)*IF($C$13=0,$AR$25,$AR$42)*(($C$8/70)^$BC$42)*IF($C$13=1,$AG$42,IF($C$13=2,$AH$42,IF($C$13=3,$AI$42,1))) -> 2732.0998 | R77: =((R$70-$H$4)/1000)*IF($C$13=0,$AR$25,$AR$42)*(($C$8/70)^$BC$42)*IF($C$13=1,$AG$42,IF($C$13=2,$AH$42,IF($C$13=3,$AI$42,1))) -> 2959.7747 | S77: =((S$70-$H$4)/1000)*IF($C$13=0,$AR$25,$AR$42)*(($C$8/70)^$BC$42)*IF($C$13=1,$AG$42,IF($C$13=2,$AH$42,IF($C$13=3,$AI$42,1))) -> 3187.4497 | ... BF77: =((BF$70-$H$4)/1000)*IF($C$13=0,$AR$25,$AR$42)*(($C$8/70)^$BC$42)*IF($C$13=1,$AG$42,IF($C$13=2,$AH$42,IF($C$13=3,$AI$42,1))) -> 12066.774
B78: =D78&"."&E78&"."&F78&"."&"ХХХ"&"."&G78&"."&"24v" -> КРВ.75.420.ХХХ.5ТГ.24v | D78: КРВ | E78: 75 | F78: 420 | G78: 5ТГ | L78: =((L$70-$H$4)/1000)*IF($C$13=0,$AS$25,$AS$42)*(($C$8/70)^$BD$42)*IF($C$13=1,$AG$42,IF($C$13=2,$AH$42,IF($C$13=3,$AI$42,1))) -> 1878.5987 | M78: =((M$70-$H$4)/1000)*IF($C$13=0,$AS$25,$AS$42)*(($C$8/70)^$BD$42)*IF($C$13=1,$AG$42,IF($C$13=2,$AH$42,IF($C$13=3,$AI$42,1))) -> 2146.97 | N78: =((N$70-$H$4)/1000)*IF($C$13=0,$AS$25,$AS$42)*(($C$8/70)^$BD$42)*IF($C$13=1,$AG$42,IF($C$13=2,$AH$42,IF($C$13=3,$AI$42,1))) -> 2415.3412 | O78: =((O$70-$H$4)/1000)*IF($C$13=0,$AS$25,$AS$42)*(($C$8/70)^$BD$42)*IF($C$13=1,$AG$42,IF($C$13=2,$AH$42,IF($C$13=3,$AI$42,1))) -> 2683.7125 | P78: =((P$70-$H$4)/1000)*IF($C$13=0,$AS$25,$AS$42)*(($C$8/70)^$BD$42)*IF($C$13=1,$AG$42,IF($C$13=2,$AH$42,IF($C$13=3,$AI$42,1))) -> 2952.0837 | Q78: =((Q$70-$H$4)/1000)*IF($C$13=0,$AS$25,$AS$42)*(($C$8/70)^$BD$42)*IF($C$13=1,$AG$42,IF($C$13=2,$AH$42,IF($C$13=3,$AI$42,1))) -> 3220.455 | R78: =((R$70-$H$4)/1000)*IF($C$13=0,$AS$25,$AS$42)*(($C$8/70)^$BD$42)*IF($C$13=1,$AG$42,IF($C$13=2,$AH$42,IF($C$13=3,$AI$42,1))) -> 3488.8262 | S78: =((S$70-$H$4)/1000)*IF($C$13=0,$AS$25,$AS$42)*(($C$8/70)^$BD$42)*IF($C$13=1,$AG$42,IF($C$13=2,$AH$42,IF($C$13=3,$AI$42,1))) -> 3757.1974 | ... BF78: =((BF$70-$H$4)/1000)*IF($C$13=0,$AS$25,$AS$42)*(($C$8/70)^$BD$42)*IF($C$13=1,$AG$42,IF($C$13=2,$AH$42,IF($C$13=3,$AI$42,1))) -> 14223.676
B79: =D79&"."&E79&"."&F79&"."&"ХХХ"&"."&G79&"."&"24v" -> КРВ.90.240.ХХХ.2ТГ.24v | D79: КРВ | E79: 90 | F79: 240 | G79: 2ТГ | L79: =((L$70-$H$4)/1000)*IF($C$13=0,$AN$26,$AN$43)*(($C$8/70)^$AY$43)*IF($C$13=1,$AG$44,IF($C$13=2,$AH$44,IF($C$13=3,$AI$44,1))) -> 998.65038 | M79: =((M$70-$H$4)/1000)*IF($C$13=0,$AN$26,$AN$43)*(($C$8/70)^$AY$43)*IF($C$13=1,$AG$44,IF($C$13=2,$AH$44,IF($C$13=3,$AI$44,1))) -> 1141.3147 | N79: =((N$70-$H$4)/1000)*IF($C$13=0,$AN$26,$AN$43)*(($C$8/70)^$AY$43)*IF($C$13=1,$AG$44,IF($C$13=2,$AH$44,IF($C$13=3,$AI$44,1))) -> 1283.9791 | O79: =((O$70-$H$4)/1000)*IF($C$13=0,$AN$26,$AN$43)*(($C$8/70)^$AY$43)*IF($C$13=1,$AG$44,IF($C$13=2,$AH$44,IF($C$13=3,$AI$44,1))) -> 1426.6434 | P79: =((P$70-$H$4)/1000)*IF($C$13=0,$AN$26,$AN$43)*(($C$8/70)^$AY$43)*IF($C$13=1,$AG$44,IF($C$13=2,$AH$44,IF($C$13=3,$AI$44,1))) -> 1569.3077 | Q79: =((Q$70-$H$4)/1000)*IF($C$13=0,$AN$26,$AN$43)*(($C$8/70)^$AY$43)*IF($C$13=1,$AG$44,IF($C$13=2,$AH$44,IF($C$13=3,$AI$44,1))) -> 1711.9721 | R79: =((R$70-$H$4)/1000)*IF($C$13=0,$AN$26,$AN$43)*(($C$8/70)^$AY$43)*IF($C$13=1,$AG$44,IF($C$13=2,$AH$44,IF($C$13=3,$AI$44,1))) -> 1854.6364 | S79: =((S$70-$H$4)/1000)*IF($C$13=0,$AN$26,$AN$43)*(($C$8/70)^$AY$43)*IF($C$13=1,$AG$44,IF($C$13=2,$AH$44,IF($C$13=3,$AI$44,1))) -> 1997.3008 | ... BF79: =((BF$70-$H$4)/1000)*IF($C$13=0,$AN$26,$AN$43)*(($C$8/70)^$AY$43)*IF($C$13=1,$AG$44,IF($C$13=2,$AH$44,IF($C$13=3,$AI$44,1))) -> 7561.21
B80: =D80&"."&E80&"."&F80&"."&"ХХХ"&"."&G80&"."&"24v" -> КРВ.90.260.ХХХ.2ТГ.24v | D80: КРВ | E80: 90 | F80: 260 | G80: 2ТГ | L80: =((L$70-$H$4)/1000)*IF($C$13=0,$AO$26,$AO$43)*(($C$8/70)^$AZ$43)*IF($C$13=1,$AG$44,IF($C$13=2,$AH$44,IF($C$13=3,$AI$44,1))) -> 1087.4791 | M80: =((M$70-$H$4)/1000)*IF($C$13=0,$AO$26,$AO$43)*(($C$8/70)^$AZ$43)*IF($C$13=1,$AG$44,IF($C$13=2,$AH$44,IF($C$13=3,$AI$44,1))) -> 1242.8333 | N80: =((N$70-$H$4)/1000)*IF($C$13=0,$AO$26,$AO$43)*(($C$8/70)^$AZ$43)*IF($C$13=1,$AG$44,IF($C$13=2,$AH$44,IF($C$13=3,$AI$44,1))) -> 1398.1874 | O80: =((O$70-$H$4)/1000)*IF($C$13=0,$AO$26,$AO$43)*(($C$8/70)^$AZ$43)*IF($C$13=1,$AG$44,IF($C$13=2,$AH$44,IF($C$13=3,$AI$44,1))) -> 1553.5416 | P80: =((P$70-$H$4)/1000)*IF($C$13=0,$AO$26,$AO$43)*(($C$8/70)^$AZ$43)*IF($C$13=1,$AG$44,IF($C$13=2,$AH$44,IF($C$13=3,$AI$44,1))) -> 1708.8958 | Q80: =((Q$70-$H$4)/1000)*IF($C$13=0,$AO$26,$AO$43)*(($C$8/70)^$AZ$43)*IF($C$13=1,$AG$44,IF($C$13=2,$AH$44,IF($C$13=3,$AI$44,1))) -> 1864.2499 | R80: =((R$70-$H$4)/1000)*IF($C$13=0,$AO$26,$AO$43)*(($C$8/70)^$AZ$43)*IF($C$13=1,$AG$44,IF($C$13=2,$AH$44,IF($C$13=3,$AI$44,1))) -> 2019.6041 | S80: =((S$70-$H$4)/1000)*IF($C$13=0,$AO$26,$AO$43)*(($C$8/70)^$AZ$43)*IF($C$13=1,$AG$44,IF($C$13=2,$AH$44,IF($C$13=3,$AI$44,1))) -> 2174.9582 | ... BF80: =((BF$70-$H$4)/1000)*IF($C$13=0,$AO$26,$AO$43)*(($C$8/70)^$AZ$43)*IF($C$13=1,$AG$44,IF($C$13=2,$AH$44,IF($C$13=3,$AI$44,1))) -> 8233.7705
B81: =D81&"."&E81&"."&F81&"."&"ХХХ"&"."&G81&"."&"24v" -> КРВ.90.290.ХХХ.3ТГ.24v | D81: КРВ | E81: 90 | F81: 290 | G81: 3ТГ | L81: =((L$70-$H$4)/1000)*IF($C$13=0,$AP$26,$AP$43)*(($C$8/70)^$BA$43)*IF($C$13=1,$AG$44,IF($C$13=2,$AH$44,IF($C$13=3,$AI$44,1))) -> 1350.9371 | M81: =((M$70-$H$4)/1000)*IF($C$13=0,$AP$26,$AP$43)*(($C$8/70)^$BA$43)*IF($C$13=1,$AG$44,IF($C$13=2,$AH$44,IF($C$13=3,$AI$44,1))) -> 1543.9281 | N81: =((N$70-$H$4)/1000)*IF($C$13=0,$AP$26,$AP$43)*(($C$8/70)^$BA$43)*IF($C$13=1,$AG$44,IF($C$13=2,$AH$44,IF($C$13=3,$AI$44,1))) -> 1736.9191 | O81: =((O$70-$H$4)/1000)*IF($C$13=0,$AP$26,$AP$43)*(($C$8/70)^$BA$43)*IF($C$13=1,$AG$44,IF($C$13=2,$AH$44,IF($C$13=3,$AI$44,1))) -> 1929.9101 | P81: =((P$70-$H$4)/1000)*IF($C$13=0,$AP$26,$AP$43)*(($C$8/70)^$BA$43)*IF($C$13=1,$AG$44,IF($C$13=2,$AH$44,IF($C$13=3,$AI$44,1))) -> 2122.9011 | Q81: =((Q$70-$H$4)/1000)*IF($C$13=0,$AP$26,$AP$43)*(($C$8/70)^$BA$43)*IF($C$13=1,$AG$44,IF($C$13=2,$AH$44,IF($C$13=3,$AI$44,1))) -> 2315.8921 | R81: =((R$70-$H$4)/1000)*IF($C$13=0,$AP$26,$AP$43)*(($C$8/70)^$BA$43)*IF($C$13=1,$AG$44,IF($C$13=2,$AH$44,IF($C$13=3,$AI$44,1))) -> 2508.8832 | S81: =((S$70-$H$4)/1000)*IF($C$13=0,$AP$26,$AP$43)*(($C$8/70)^$BA$43)*IF($C$13=1,$AG$44,IF($C$13=2,$AH$44,IF($C$13=3,$AI$44,1))) -> 2701.8742 | ... BF81: =((BF$70-$H$4)/1000)*IF($C$13=0,$AP$26,$AP$43)*(($C$8/70)^$BA$43)*IF($C$13=1,$AG$44,IF($C$13=2,$AH$44,IF($C$13=3,$AI$44,1))) -> 10228.524
B82: =D82&"."&E82&"."&F82&"."&"ХХХ"&"."&G82&"."&"24v" -> КРВ.90.340.ХХХ.4ТГ.24v | D82: КРВ | E82: 90 | F82: 340 | G82: 4ТГ | L82: =((L$70-$H$4)/1000)*IF($C$13=0,$AQ$26,$AQ$43)*(($C$8/70)^$BB$43)*IF($C$13=1,$AG$44,IF($C$13=2,$AH$44,IF($C$13=3,$AI$44,1))) -> 1483.1708 | M82: =((M$70-$H$4)/1000)*IF($C$13=0,$AQ$26,$AQ$43)*(($C$8/70)^$BB$43)*IF($C$13=1,$AG$44,IF($C$13=2,$AH$44,IF($C$13=3,$AI$44,1))) -> 1695.0523 | N82: =((N$70-$H$4)/1000)*IF($C$13=0,$AQ$26,$AQ$43)*(($C$8/70)^$BB$43)*IF($C$13=1,$AG$44,IF($C$13=2,$AH$44,IF($C$13=3,$AI$44,1))) -> 1906.9339 | O82: =((O$70-$H$4)/1000)*IF($C$13=0,$AQ$26,$AQ$43)*(($C$8/70)^$BB$43)*IF($C$13=1,$AG$44,IF($C$13=2,$AH$44,IF($C$13=3,$AI$44,1))) -> 2118.8154 | P82: =((P$70-$H$4)/1000)*IF($C$13=0,$AQ$26,$AQ$43)*(($C$8/70)^$BB$43)*IF($C$13=1,$AG$44,IF($C$13=2,$AH$44,IF($C$13=3,$AI$44,1))) -> 2330.6969 | Q82: =((Q$70-$H$4)/1000)*IF($C$13=0,$AQ$26,$AQ$43)*(($C$8/70)^$BB$43)*IF($C$13=1,$AG$44,IF($C$13=2,$AH$44,IF($C$13=3,$AI$44,1))) -> 2542.5785 | R82: =((R$70-$H$4)/1000)*IF($C$13=0,$AQ$26,$AQ$43)*(($C$8/70)^$BB$43)*IF($C$13=1,$AG$44,IF($C$13=2,$AH$44,IF($C$13=3,$AI$44,1))) -> 2754.46 | S82: =((S$70-$H$4)/1000)*IF($C$13=0,$AQ$26,$AQ$43)*(($C$8/70)^$BB$43)*IF($C$13=1,$AG$44,IF($C$13=2,$AH$44,IF($C$13=3,$AI$44,1))) -> 2966.3416 | ... BF82: =((BF$70-$H$4)/1000)*IF($C$13=0,$AQ$26,$AQ$43)*(($C$8/70)^$BB$43)*IF($C$13=1,$AG$44,IF($C$13=2,$AH$44,IF($C$13=3,$AI$44,1))) -> 11229.722
B83: =D83&"."&E83&"."&F83&"."&"ХХХ"&"."&G83&"."&"24v" -> КРВ.90.380.ХХХ.4ТГ.24v | D83: КРВ | E83: 90 | F83: 380 | G83: 4ТГ | L83: =((L$70-$H$4)/1000)*IF($C$13=0,$AR$26,$AR$43)*(($C$8/70)^$BC$43)*IF($C$13=1,$AG$44,IF($C$13=2,$AH$44,IF($C$13=3,$AI$44,1))) -> 1650.0611 | M83: =((M$70-$H$4)/1000)*IF($C$13=0,$AR$26,$AR$43)*(($C$8/70)^$BC$43)*IF($C$13=1,$AG$44,IF($C$13=2,$AH$44,IF($C$13=3,$AI$44,1))) -> 1885.7842 | N83: =((N$70-$H$4)/1000)*IF($C$13=0,$AR$26,$AR$43)*(($C$8/70)^$BC$43)*IF($C$13=1,$AG$44,IF($C$13=2,$AH$44,IF($C$13=3,$AI$44,1))) -> 2121.5072 | O83: =((O$70-$H$4)/1000)*IF($C$13=0,$AR$26,$AR$43)*(($C$8/70)^$BC$43)*IF($C$13=1,$AG$44,IF($C$13=2,$AH$44,IF($C$13=3,$AI$44,1))) -> 2357.2302 | P83: =((P$70-$H$4)/1000)*IF($C$13=0,$AR$26,$AR$43)*(($C$8/70)^$BC$43)*IF($C$13=1,$AG$44,IF($C$13=2,$AH$44,IF($C$13=3,$AI$44,1))) -> 2592.9532 | Q83: =((Q$70-$H$4)/1000)*IF($C$13=0,$AR$26,$AR$43)*(($C$8/70)^$BC$43)*IF($C$13=1,$AG$44,IF($C$13=2,$AH$44,IF($C$13=3,$AI$44,1))) -> 2828.6762 | R83: =((R$70-$H$4)/1000)*IF($C$13=0,$AR$26,$AR$43)*(($C$8/70)^$BC$43)*IF($C$13=1,$AG$44,IF($C$13=2,$AH$44,IF($C$13=3,$AI$44,1))) -> 3064.3993 | S83: =((S$70-$H$4)/1000)*IF($C$13=0,$AR$26,$AR$43)*(($C$8/70)^$BC$43)*IF($C$13=1,$AG$44,IF($C$13=2,$AH$44,IF($C$13=3,$AI$44,1))) -> 3300.1223 | ... BF83: =((BF$70-$H$4)/1000)*IF($C$13=0,$AR$26,$AR$43)*(($C$8/70)^$BC$43)*IF($C$13=1,$AG$44,IF($C$13=2,$AH$44,IF($C$13=3,$AI$44,1))) -> 12493.32
B84: =D84&"."&E84&"."&F84&"."&"ХХХ"&"."&G84&"."&"24v" -> КРВ.90.420.ХХХ.5ТГ.24v | D84: КРВ | E84: 90 | F84: 420 | G84: 5ТГ | L84: =((L$70-$H$4)/1000)*IF($C$13=0,$AS$26,$AS$43)*(($C$8/70)^$BD$43)*IF($C$13=1,$AG$44,IF($C$13=2,$AH$44,IF($C$13=3,$AI$44,1))) -> 1998.6467 | M84: =((M$70-$H$4)/1000)*IF($C$13=0,$AS$26,$AS$43)*(($C$8/70)^$BD$43)*IF($C$13=1,$AG$44,IF($C$13=2,$AH$44,IF($C$13=3,$AI$44,1))) -> 2284.1676 | N84: =((N$70-$H$4)/1000)*IF($C$13=0,$AS$26,$AS$43)*(($C$8/70)^$BD$43)*IF($C$13=1,$AG$44,IF($C$13=2,$AH$44,IF($C$13=3,$AI$44,1))) -> 2569.6886 | O84: =((O$70-$H$4)/1000)*IF($C$13=0,$AS$26,$AS$43)*(($C$8/70)^$BD$43)*IF($C$13=1,$AG$44,IF($C$13=2,$AH$44,IF($C$13=3,$AI$44,1))) -> 2855.2095 | P84: =((P$70-$H$4)/1000)*IF($C$13=0,$AS$26,$AS$43)*(($C$8/70)^$BD$43)*IF($C$13=1,$AG$44,IF($C$13=2,$AH$44,IF($C$13=3,$AI$44,1))) -> 3140.7305 | Q84: =((Q$70-$H$4)/1000)*IF($C$13=0,$AS$26,$AS$43)*(($C$8/70)^$BD$43)*IF($C$13=1,$AG$44,IF($C$13=2,$AH$44,IF($C$13=3,$AI$44,1))) -> 3426.2514 | R84: =((R$70-$H$4)/1000)*IF($C$13=0,$AS$26,$AS$43)*(($C$8/70)^$BD$43)*IF($C$13=1,$AG$44,IF($C$13=2,$AH$44,IF($C$13=3,$AI$44,1))) -> 3711.7724 | S84: =((S$70-$H$4)/1000)*IF($C$13=0,$AS$26,$AS$43)*(($C$8/70)^$BD$43)*IF($C$13=1,$AG$44,IF($C$13=2,$AH$44,IF($C$13=3,$AI$44,1))) -> 3997.2933 | ... BF84: =((BF$70-$H$4)/1000)*IF($C$13=0,$AS$26,$AS$43)*(($C$8/70)^$BD$43)*IF($C$13=1,$AG$44,IF($C$13=2,$AH$44,IF($C$13=3,$AI$44,1))) -> 15132.61
B85: =D85&"."&E85&"."&F85&"."&"ХХХ"&"."&G85&"."&"24v" -> КРВ.110.240.ХХХ.2ТГ.24v | D85: КРВ | E85: 110 | F85: 240 | G85: 2ТГ | L85: =((L$70-$H$4)/1000)*IF($C$13=0,$AN27,$AN44)*(($C$8/70)^$AY$44)*IF($C$13=1,$AG$51,IF($C$13=2,$AH$51,IF($C$13=3,$AI$51,1))) -> 1006.2483 | M85: =((M$70-$H$4)/1000)*IF($C$13=0,$AN27,$AN44)*(($C$8/70)^$AY$44)*IF($C$13=1,$AG$51,IF($C$13=2,$AH$51,IF($C$13=3,$AI$51,1))) -> 1149.9981 | N85: =((N$70-$H$4)/1000)*IF($C$13=0,$AN27,$AN44)*(($C$8/70)^$AY$44)*IF($C$13=1,$AG$51,IF($C$13=2,$AH$51,IF($C$13=3,$AI$51,1))) -> 1293.7479 | O85: =((O$70-$H$4)/1000)*IF($C$13=0,$AN27,$AN44)*(($C$8/70)^$AY$44)*IF($C$13=1,$AG$51,IF($C$13=2,$AH$51,IF($C$13=3,$AI$51,1))) -> 1437.4976 | P85: =((P$70-$H$4)/1000)*IF($C$13=0,$AN27,$AN44)*(($C$8/70)^$AY$44)*IF($C$13=1,$AG$51,IF($C$13=2,$AH$51,IF($C$13=3,$AI$51,1))) -> 1581.2474 | Q85: =((Q$70-$H$4)/1000)*IF($C$13=0,$AN27,$AN44)*(($C$8/70)^$AY$44)*IF($C$13=1,$AG$51,IF($C$13=2,$AH$51,IF($C$13=3,$AI$51,1))) -> 1724.9971 | R85: =((R$70-$H$4)/1000)*IF($C$13=0,$AN27,$AN44)*(($C$8/70)^$AY$44)*IF($C$13=1,$AG$51,IF($C$13=2,$AH$51,IF($C$13=3,$AI$51,1))) -> 1868.7469 | S85: =((S$70-$H$4)/1000)*IF($C$13=0,$AN27,$AN44)*(($C$8/70)^$AY$44)*IF($C$13=1,$AG$51,IF($C$13=2,$AH$51,IF($C$13=3,$AI$51,1))) -> 2012.4967 | ... BF85: =((BF$70-$H$4)/1000)*IF($C$13=0,$AN27,$AN44)*(($C$8/70)^$AY$44)*IF($C$13=1,$AG$51,IF($C$13=2,$AH$51,IF($C$13=3,$AI$51,1))) -> 7618.7374
B86: =D86&"."&E86&"."&F86&"."&"ХХХ"&"."&G86&"."&"24v" -> КРВ.110.260.ХХХ.2ТГ.24v | D86: КРВ | E86: 110 | F86: 260 | G86: 2ТГ | L86: =((L$70-$H$4)/1000)*IF($C$13=0,$AO$27,$AO$44)*(($C$8/70)^$AZ$44)*IF($C$13=1,$AG$45,IF($C$13=2,$AH$45,IF($C$13=3,$AI$45,1))) -> 1300.1297 | M86: =((M$70-$H$4)/1000)*IF($C$13=0,$AO$27,$AO$44)*(($C$8/70)^$AZ$44)*IF($C$13=1,$AG$45,IF($C$13=2,$AH$45,IF($C$13=3,$AI$45,1))) -> 1485.8626 | N86: =((N$70-$H$4)/1000)*IF($C$13=0,$AO$27,$AO$44)*(($C$8/70)^$AZ$44)*IF($C$13=1,$AG$45,IF($C$13=2,$AH$45,IF($C$13=3,$AI$45,1))) -> 1671.5954 | O86: =((O$70-$H$4)/1000)*IF($C$13=0,$AO$27,$AO$44)*(($C$8/70)^$AZ$44)*IF($C$13=1,$AG$45,IF($C$13=2,$AH$45,IF($C$13=3,$AI$45,1))) -> 1857.3282 | P86: =((P$70-$H$4)/1000)*IF($C$13=0,$AO$27,$AO$44)*(($C$8/70)^$AZ$44)*IF($C$13=1,$AG$45,IF($C$13=2,$AH$45,IF($C$13=3,$AI$45,1))) -> 2043.061 | Q86: =((Q$70-$H$4)/1000)*IF($C$13=0,$AO$27,$AO$44)*(($C$8/70)^$AZ$44)*IF($C$13=1,$AG$45,IF($C$13=2,$AH$45,IF($C$13=3,$AI$45,1))) -> 2228.7938 | R86: =((R$70-$H$4)/1000)*IF($C$13=0,$AO$27,$AO$44)*(($C$8/70)^$AZ$44)*IF($C$13=1,$AG$45,IF($C$13=2,$AH$45,IF($C$13=3,$AI$45,1))) -> 2414.5267 | S86: =((S$70-$H$4)/1000)*IF($C$13=0,$AO$27,$AO$44)*(($C$8/70)^$AZ$44)*IF($C$13=1,$AG$45,IF($C$13=2,$AH$45,IF($C$13=3,$AI$45,1))) -> 2600.2595 | ... BF86: =((BF$70-$H$4)/1000)*IF($C$13=0,$AO$27,$AO$44)*(($C$8/70)^$AZ$44)*IF($C$13=1,$AG$45,IF($C$13=2,$AH$45,IF($C$13=3,$AI$45,1))) -> 9843.8395
B87: =D87&"."&E87&"."&F87&"."&"ХХХ"&"."&G87&"."&"24v" -> КРВ.110.290.ХХХ.3ТГ.24v | D87: КРВ | E87: 110 | F87: 290 | G87: 3ТГ | L87: =((L$70-$H$4)/1000)*IF($C$13=0,$AP$27,$AP$44)*(($C$8/70)^$BA$44)*IF($C$13=1,$AG$45,IF($C$13=2,$AH$45,IF($C$13=3,$AI$45,1))) -> 1620.6583 | M87: =((M$70-$H$4)/1000)*IF($C$13=0,$AP$27,$AP$44)*(($C$8/70)^$BA$44)*IF($C$13=1,$AG$45,IF($C$13=2,$AH$45,IF($C$13=3,$AI$45,1))) -> 1852.1809 | N87: =((N$70-$H$4)/1000)*IF($C$13=0,$AP$27,$AP$44)*(($C$8/70)^$BA$44)*IF($C$13=1,$AG$45,IF($C$13=2,$AH$45,IF($C$13=3,$AI$45,1))) -> 2083.7035 | O87: =((O$70-$H$4)/1000)*IF($C$13=0,$AP$27,$AP$44)*(($C$8/70)^$BA$44)*IF($C$13=1,$AG$45,IF($C$13=2,$AH$45,IF($C$13=3,$AI$45,1))) -> 2315.2261 | P87: =((P$70-$H$4)/1000)*IF($C$13=0,$AP$27,$AP$44)*(($C$8/70)^$BA$44)*IF($C$13=1,$AG$45,IF($C$13=2,$AH$45,IF($C$13=3,$AI$45,1))) -> 2546.7487 | Q87: =((Q$70-$H$4)/1000)*IF($C$13=0,$AP$27,$AP$44)*(($C$8/70)^$BA$44)*IF($C$13=1,$AG$45,IF($C$13=2,$AH$45,IF($C$13=3,$AI$45,1))) -> 2778.2714 | R87: =((R$70-$H$4)/1000)*IF($C$13=0,$AP$27,$AP$44)*(($C$8/70)^$BA$44)*IF($C$13=1,$AG$45,IF($C$13=2,$AH$45,IF($C$13=3,$AI$45,1))) -> 3009.794 | S87: =((S$70-$H$4)/1000)*IF($C$13=0,$AP$27,$AP$44)*(($C$8/70)^$BA$44)*IF($C$13=1,$AG$45,IF($C$13=2,$AH$45,IF($C$13=3,$AI$45,1))) -> 3241.3166 | ... BF87: =((BF$70-$H$4)/1000)*IF($C$13=0,$AP$27,$AP$44)*(($C$8/70)^$BA$44)*IF($C$13=1,$AG$45,IF($C$13=2,$AH$45,IF($C$13=3,$AI$45,1))) -> 12270.698
B88: =D88&"."&E88&"."&F88&"."&"ХХХ"&"."&G88&"."&"24v" -> КРВ.110.340.ХХХ.4ТГ.24v | D88: КРВ | E88: 110 | F88: 340 | G88: 4ТГ | L88: =((L$70-$H$4)/1000)*IF($C$13=0,$AQ$27,$AQ$44)*(($C$8/70)^$BB$44)*IF($C$13=1,$AG$45,IF($C$13=2,$AH$45,IF($C$13=3,$AI$45,1))) -> 1838.2263 | M88: =((M$70-$H$4)/1000)*IF($C$13=0,$AQ$27,$AQ$44)*(($C$8/70)^$BB$44)*IF($C$13=1,$AG$45,IF($C$13=2,$AH$45,IF($C$13=3,$AI$45,1))) -> 2100.83 | N88: =((N$70-$H$4)/1000)*IF($C$13=0,$AQ$27,$AQ$44)*(($C$8/70)^$BB$44)*IF($C$13=1,$AG$45,IF($C$13=2,$AH$45,IF($C$13=3,$AI$45,1))) -> 2363.4338 | O88: =((O$70-$H$4)/1000)*IF($C$13=0,$AQ$27,$AQ$44)*(($C$8/70)^$BB$44)*IF($C$13=1,$AG$45,IF($C$13=2,$AH$45,IF($C$13=3,$AI$45,1))) -> 2626.0375 | P88: =((P$70-$H$4)/1000)*IF($C$13=0,$AQ$27,$AQ$44)*(($C$8/70)^$BB$44)*IF($C$13=1,$AG$45,IF($C$13=2,$AH$45,IF($C$13=3,$AI$45,1))) -> 2888.6413 | Q88: =((Q$70-$H$4)/1000)*IF($C$13=0,$AQ$27,$AQ$44)*(($C$8/70)^$BB$44)*IF($C$13=1,$AG$45,IF($C$13=2,$AH$45,IF($C$13=3,$AI$45,1))) -> 3151.245 | R88: =((R$70-$H$4)/1000)*IF($C$13=0,$AQ$27,$AQ$44)*(($C$8/70)^$BB$44)*IF($C$13=1,$AG$45,IF($C$13=2,$AH$45,IF($C$13=3,$AI$45,1))) -> 3413.8488 | S88: =((S$70-$H$4)/1000)*IF($C$13=0,$AQ$27,$AQ$44)*(($C$8/70)^$BB$44)*IF($C$13=1,$AG$45,IF($C$13=2,$AH$45,IF($C$13=3,$AI$45,1))) -> 3676.4525 | ... BF88: =((BF$70-$H$4)/1000)*IF($C$13=0,$AQ$27,$AQ$44)*(($C$8/70)^$BB$44)*IF($C$13=1,$AG$45,IF($C$13=2,$AH$45,IF($C$13=3,$AI$45,1))) -> 13917.999
B89: =D89&"."&E89&"."&F89&"."&"ХХХ"&"."&G89&"."&"24v" -> КРВ.110.380.ХХХ.4ТГ.24v | D89: КРВ | E89: 110 | F89: 380 | G89: 4ТГ | L89: =((L$70-$H$4)/1000)*IF($C$13=0,$AR$27,$AR$44)*(($C$8/70)^$BC$44)*IF($C$13=1,$AG$45,IF($C$13=2,$AH$45,IF($C$13=3,$AI$45,1))) -> 2012.4677 | M89: =((M$70-$H$4)/1000)*IF($C$13=0,$AR$27,$AR$44)*(($C$8/70)^$BC$44)*IF($C$13=1,$AG$45,IF($C$13=2,$AH$45,IF($C$13=3,$AI$45,1))) -> 2299.9631 | N89: =((N$70-$H$4)/1000)*IF($C$13=0,$AR$27,$AR$44)*(($C$8/70)^$BC$44)*IF($C$13=1,$AG$45,IF($C$13=2,$AH$45,IF($C$13=3,$AI$45,1))) -> 2587.4585 | O89: =((O$70-$H$4)/1000)*IF($C$13=0,$AR$27,$AR$44)*(($C$8/70)^$BC$44)*IF($C$13=1,$AG$45,IF($C$13=2,$AH$45,IF($C$13=3,$AI$45,1))) -> 2874.9538 | P89: =((P$70-$H$4)/1000)*IF($C$13=0,$AR$27,$AR$44)*(($C$8/70)^$BC$44)*IF($C$13=1,$AG$45,IF($C$13=2,$AH$45,IF($C$13=3,$AI$45,1))) -> 3162.4492 | Q89: =((Q$70-$H$4)/1000)*IF($C$13=0,$AR$27,$AR$44)*(($C$8/70)^$BC$44)*IF($C$13=1,$AG$45,IF($C$13=2,$AH$45,IF($C$13=3,$AI$45,1))) -> 3449.9446 | R89: =((R$70-$H$4)/1000)*IF($C$13=0,$AR$27,$AR$44)*(($C$8/70)^$BC$44)*IF($C$13=1,$AG$45,IF($C$13=2,$AH$45,IF($C$13=3,$AI$45,1))) -> 3737.44 | S89: =((S$70-$H$4)/1000)*IF($C$13=0,$AR$27,$AR$44)*(($C$8/70)^$BC$44)*IF($C$13=1,$AG$45,IF($C$13=2,$AH$45,IF($C$13=3,$AI$45,1))) -> 4024.9354 | ... BF89: =((BF$70-$H$4)/1000)*IF($C$13=0,$AR$27,$AR$44)*(($C$8/70)^$BC$44)*IF($C$13=1,$AG$45,IF($C$13=2,$AH$45,IF($C$13=3,$AI$45,1))) -> 15237.255
B90: =D90&"."&E90&"."&F90&"."&"ХХХ"&"."&G90&"."&"24v" -> КРВ.110.420.ХХХ.5ТГ.24v | D90: КРВ | E90: 110 | F90: 420 | G90: 5ТГ | L90: =((L$70-$H$4)/1000)*IF($C$13=0,$AS$27,$AS$44)*(($C$8/70)^$BD$44)*IF($C$13=1,$AG$45,IF($C$13=2,$AH$45,IF($C$13=3,$AI$45,1))) -> 2405.38 | M90: =((M$70-$H$4)/1000)*IF($C$13=0,$AS$27,$AS$44)*(($C$8/70)^$BD$44)*IF($C$13=1,$AG$45,IF($C$13=2,$AH$45,IF($C$13=3,$AI$45,1))) -> 2749.0057 | N90: =((N$70-$H$4)/1000)*IF($C$13=0,$AS$27,$AS$44)*(($C$8/70)^$BD$44)*IF($C$13=1,$AG$45,IF($C$13=2,$AH$45,IF($C$13=3,$AI$45,1))) -> 3092.6315 | O90: =((O$70-$H$4)/1000)*IF($C$13=0,$AS$27,$AS$44)*(($C$8/70)^$BD$44)*IF($C$13=1,$AG$45,IF($C$13=2,$AH$45,IF($C$13=3,$AI$45,1))) -> 3436.2572 | P90: =((P$70-$H$4)/1000)*IF($C$13=0,$AS$27,$AS$44)*(($C$8/70)^$BD$44)*IF($C$13=1,$AG$45,IF($C$13=2,$AH$45,IF($C$13=3,$AI$45,1))) -> 3779.8829 | Q90: =((Q$70-$H$4)/1000)*IF($C$13=0,$AS$27,$AS$44)*(($C$8/70)^$BD$44)*IF($C$13=1,$AG$45,IF($C$13=2,$AH$45,IF($C$13=3,$AI$45,1))) -> 4123.5086 | R90: =((R$70-$H$4)/1000)*IF($C$13=0,$AS$27,$AS$44)*(($C$8/70)^$BD$44)*IF($C$13=1,$AG$45,IF($C$13=2,$AH$45,IF($C$13=3,$AI$45,1))) -> 4467.1343 | S90: =((S$70-$H$4)/1000)*IF($C$13=0,$AS$27,$AS$44)*(($C$8/70)^$BD$44)*IF($C$13=1,$AG$45,IF($C$13=2,$AH$45,IF($C$13=3,$AI$45,1))) -> 4810.7601 | ... BF90: =((BF$70-$H$4)/1000)*IF($C$13=0,$AS$27,$AS$44)*(($C$8/70)^$BD$44)*IF($C$13=1,$AG$45,IF($C$13=2,$AH$45,IF($C$13=3,$AI$45,1))) -> 18212.163
B91: =D91&"."&E91&"."&F91&"."&"ХХХ"&"."&G91&"."&"24v" -> КРВ.140.240.ХХХ.4ТК.24v | D91: КРВ | E91: 140 | F91: 240 | G91: 4ТК | L91: =((L$70-$H$4)/1000)*IF($C$13=0,$AN$29,$AN$46)*(($C$8/70)^$AY$46)*IF($C$13=1,$AG$48,IF($C$13=2,$AH$48,IF($C$13=3,$AI$48,1))) -> 1356.1534 | M91: =((M$70-$H$4)/1000)*IF($C$13=0,$AN$29,$AN$46)*(($C$8/70)^$AY$46)*IF($C$13=1,$AG$48,IF($C$13=2,$AH$48,IF($C$13=3,$AI$48,1))) -> 1549.8896 | N91: =((N$70-$H$4)/1000)*IF($C$13=0,$AN$29,$AN$46)*(($C$8/70)^$AY$46)*IF($C$13=1,$AG$48,IF($C$13=2,$AH$48,IF($C$13=3,$AI$48,1))) -> 1743.6258 | O91: =((O$70-$H$4)/1000)*IF($C$13=0,$AN$29,$AN$46)*(($C$8/70)^$AY$46)*IF($C$13=1,$AG$48,IF($C$13=2,$AH$48,IF($C$13=3,$AI$48,1))) -> 1937.362 | P91: =((P$70-$H$4)/1000)*IF($C$13=0,$AN$29,$AN$46)*(($C$8/70)^$AY$46)*IF($C$13=1,$AG$48,IF($C$13=2,$AH$48,IF($C$13=3,$AI$48,1))) -> 2131.0982 | Q91: =((Q$70-$H$4)/1000)*IF($C$13=0,$AN$29,$AN$46)*(($C$8/70)^$AY$46)*IF($C$13=1,$AG$48,IF($C$13=2,$AH$48,IF($C$13=3,$AI$48,1))) -> 2324.8344 | R91: =((R$70-$H$4)/1000)*IF($C$13=0,$AN$29,$AN$46)*(($C$8/70)^$AY$46)*IF($C$13=1,$AG$48,IF($C$13=2,$AH$48,IF($C$13=3,$AI$48,1))) -> 2518.5706 | S91: =((S$70-$H$4)/1000)*IF($C$13=0,$AN$29,$AN$46)*(($C$8/70)^$AY$46)*IF($C$13=1,$AG$48,IF($C$13=2,$AH$48,IF($C$13=3,$AI$48,1))) -> 2712.3068 | ... BF91: =((BF$70-$H$4)/1000)*IF($C$13=0,$AN$29,$AN$46)*(($C$8/70)^$AY$46)*IF($C$13=1,$AG$48,IF($C$13=2,$AH$48,IF($C$13=3,$AI$48,1))) -> 10268.019
B92: =D92&"."&E92&"."&F92&"."&"ХХХ"&"."&G92&"."&"24v" -> КРВ.140.260.ХХХ.4ТК.24v | D92: КРВ | E92: 140 | F92: 260 | G92: 4ТК | L92: =((L$70-$H$4)/1000)*IF($C$13=0,$AO$29,$AO$46)*(($C$8/70)^$W$46)*IF($C$13=1,$AG$49,IF($C$13=2,$AH$49,IF($C$13=3,$AI$49,1))) -> 1471.3825 | M92: =((M$70-$H$4)/1000)*IF($C$13=0,$AO$29,$AO$46)*(($C$8/70)^$W$46)*IF($C$13=1,$AG$49,IF($C$13=2,$AH$49,IF($C$13=3,$AI$49,1))) -> 1681.58 | N92: =((N$70-$H$4)/1000)*IF($C$13=0,$AO$29,$AO$46)*(($C$8/70)^$W$46)*IF($C$13=1,$AG$49,IF($C$13=2,$AH$49,IF($C$13=3,$AI$49,1))) -> 1891.7775 | O92: =((O$70-$H$4)/1000)*IF($C$13=0,$AO$29,$AO$46)*(($C$8/70)^$W$46)*IF($C$13=1,$AG$49,IF($C$13=2,$AH$49,IF($C$13=3,$AI$49,1))) -> 2101.975 | P92: =((P$70-$H$4)/1000)*IF($C$13=0,$AO$29,$AO$46)*(($C$8/70)^$W$46)*IF($C$13=1,$AG$49,IF($C$13=2,$AH$49,IF($C$13=3,$AI$49,1))) -> 2312.1725 | Q92: =((Q$70-$H$4)/1000)*IF($C$13=0,$AO$29,$AO$46)*(($C$8/70)^$W$46)*IF($C$13=1,$AG$49,IF($C$13=2,$AH$49,IF($C$13=3,$AI$49,1))) -> 2522.37 | R92: =((R$70-$H$4)/1000)*IF($C$13=0,$AO$29,$AO$46)*(($C$8/70)^$W$46)*IF($C$13=1,$AG$49,IF($C$13=2,$AH$49,IF($C$13=3,$AI$49,1))) -> 2732.5675 | S92: =((S$70-$H$4)/1000)*IF($C$13=0,$AO$29,$AO$46)*(($C$8/70)^$W$46)*IF($C$13=1,$AG$49,IF($C$13=2,$AH$49,IF($C$13=3,$AI$49,1))) -> 2942.765 | ... BF92: =((BF$70-$H$4)/1000)*IF($C$13=0,$AO$29,$AO$46)*(($C$8/70)^$W$46)*IF($C$13=1,$AG$49,IF($C$13=2,$AH$49,IF($C$13=3,$AI$49,1))) -> 11140.467
B93: =D93&"."&E93&"."&F93&"."&"ХХХ"&"."&G93&"."&"24v" -> КРВ.140.290.ХХХ.6ТП.24v | D93: КРВ | E93: 140 | F93: 290 | G93: 6ТП | L93: =((L$70-$H$4)/1000)*IF($C$13=0,$AP$29,$AP$46)*(($C$8/70)^$BA$46)*IF($C$13=1,$AG$47,IF($C$13=2,$AH$47,IF($C$13=3,$AI$47,1))) -> 2227.4987 | M93: =((M$70-$H$4)/1000)*IF($C$13=0,$AP$29,$AP$46)*(($C$8/70)^$BA$46)*IF($C$13=1,$AG$47,IF($C$13=2,$AH$47,IF($C$13=3,$AI$47,1))) -> 2545.7128 | N93: =((N$70-$H$4)/1000)*IF($C$13=0,$AP$29,$AP$46)*(($C$8/70)^$BA$46)*IF($C$13=1,$AG$47,IF($C$13=2,$AH$47,IF($C$13=3,$AI$47,1))) -> 2863.9269 | O93: =((O$70-$H$4)/1000)*IF($C$13=0,$AP$29,$AP$46)*(($C$8/70)^$BA$46)*IF($C$13=1,$AG$47,IF($C$13=2,$AH$47,IF($C$13=3,$AI$47,1))) -> 3182.141 | P93: =((P$70-$H$4)/1000)*IF($C$13=0,$AP$29,$AP$46)*(($C$8/70)^$BA$46)*IF($C$13=1,$AG$47,IF($C$13=2,$AH$47,IF($C$13=3,$AI$47,1))) -> 3500.3551 | Q93: =((Q$70-$H$4)/1000)*IF($C$13=0,$AP$29,$AP$46)*(($C$8/70)^$BA$46)*IF($C$13=1,$AG$47,IF($C$13=2,$AH$47,IF($C$13=3,$AI$47,1))) -> 3818.5692 | R93: =((R$70-$H$4)/1000)*IF($C$13=0,$AP$29,$AP$46)*(($C$8/70)^$BA$46)*IF($C$13=1,$AG$47,IF($C$13=2,$AH$47,IF($C$13=3,$AI$47,1))) -> 4136.7833 | S93: =((S$70-$H$4)/1000)*IF($C$13=0,$AP$29,$AP$46)*(($C$8/70)^$BA$46)*IF($C$13=1,$AG$47,IF($C$13=2,$AH$47,IF($C$13=3,$AI$47,1))) -> 4454.9974 | ... BF93: =((BF$70-$H$4)/1000)*IF($C$13=0,$AP$29,$AP$46)*(($C$8/70)^$BA$46)*IF($C$13=1,$AG$47,IF($C$13=2,$AH$47,IF($C$13=3,$AI$47,1))) -> 16865.347
B94: =D94&"."&E94&"."&F94&"."&"ХХХ"&"."&G94&"."&"24v" -> КРВ.140.340.ХХХ.8ТП.24v | D94: КРВ | E94: 140 | F94: 340 | G94: 8ТП | L94: =((L$70-$H$4)/1000)*IF($C$13=0,$AQ$29,($AQ$46*1.1))*(($C$8/70)^$BB$46)*IF($C$13=1,$AG$50,IF($C$13=2,$AH$50,IF($C$13=3,$AI$50,1))) -> 2484.8754 | M94: =((M$70-$H$4)/1000)*IF($C$13=0,$AQ$29,($AQ$46*1.1))*(($C$8/70)^$BB$46)*IF($C$13=1,$AG$50,IF($C$13=2,$AH$50,IF($C$13=3,$AI$50,1))) -> 2839.8576 | N94: =((N$70-$H$4)/1000)*IF($C$13=0,$AQ$29,($AQ$46*1.1))*(($C$8/70)^$BB$46)*IF($C$13=1,$AG$50,IF($C$13=2,$AH$50,IF($C$13=3,$AI$50,1))) -> 3194.8398 | O94: =((O$70-$H$4)/1000)*IF($C$13=0,$AQ$29,($AQ$46*1.1))*(($C$8/70)^$BB$46)*IF($C$13=1,$AG$50,IF($C$13=2,$AH$50,IF($C$13=3,$AI$50,1))) -> 3549.822 | P94: =((P$70-$H$4)/1000)*IF($C$13=0,$AQ$29,($AQ$46*1.1))*(($C$8/70)^$BB$46)*IF($C$13=1,$AG$50,IF($C$13=2,$AH$50,IF($C$13=3,$AI$50,1))) -> 3904.8042 | Q94: =((Q$70-$H$4)/1000)*IF($C$13=0,$AQ$29,($AQ$46*1.1))*(($C$8/70)^$BB$46)*IF($C$13=1,$AG$50,IF($C$13=2,$AH$50,IF($C$13=3,$AI$50,1))) -> 4259.7864 | R94: =((R$70-$H$4)/1000)*IF($C$13=0,$AQ$29,($AQ$46*1.1))*(($C$8/70)^$BB$46)*IF($C$13=1,$AG$50,IF($C$13=2,$AH$50,IF($C$13=3,$AI$50,1))) -> 4614.7686 | S94: =((S$70-$H$4)/1000)*IF($C$13=0,$AQ$29,($AQ$46*1.1))*(($C$8/70)^$BB$46)*IF($C$13=1,$AG$50,IF($C$13=2,$AH$50,IF($C$13=3,$AI$50,1))) -> 4969.7508 | ... BF94: =((BF$70-$H$4)/1000)*IF($C$13=0,$AQ$29,($AQ$46*1.1))*(($C$8/70)^$BB$46)*IF($C$13=1,$AG$50,IF($C$13=2,$AH$50,IF($C$13=3,$AI$50,1))) -> 18814.057
B95: =D95&"."&E95&"."&F95&"."&"ХХХ"&"."&G95&"."&"24v" -> КРВ.140.380.ХХХ.8ТП.24v | D95: КРВ | E95: 140 | F95: 380 | G95: 8ТП | L95: =((L$70-$H$4)/1000)*IF($C$13=0,$AR$29,$AR$46)*(($C$8/70)^$BC$46)*IF($C$13=1,$AG$47,IF($C$13=2,$AH$47,IF($C$13=3,$AI$47,1))) -> 2592.3726 | M95: =((M$70-$H$4)/1000)*IF($C$13=0,$AR$29,$AR$46)*(($C$8/70)^$BC$46)*IF($C$13=1,$AG$47,IF($C$13=2,$AH$47,IF($C$13=3,$AI$47,1))) -> 2962.7115 | N95: =((N$70-$H$4)/1000)*IF($C$13=0,$AR$29,$AR$46)*(($C$8/70)^$BC$46)*IF($C$13=1,$AG$47,IF($C$13=2,$AH$47,IF($C$13=3,$AI$47,1))) -> 3333.0504 | O95: =((O$70-$H$4)/1000)*IF($C$13=0,$AR$29,$AR$46)*(($C$8/70)^$BC$46)*IF($C$13=1,$AG$47,IF($C$13=2,$AH$47,IF($C$13=3,$AI$47,1))) -> 3703.3894 | P95: =((P$70-$H$4)/1000)*IF($C$13=0,$AR$29,$AR$46)*(($C$8/70)^$BC$46)*IF($C$13=1,$AG$47,IF($C$13=2,$AH$47,IF($C$13=3,$AI$47,1))) -> 4073.7283 | Q95: =((Q$70-$H$4)/1000)*IF($C$13=0,$AR$29,$AR$46)*(($C$8/70)^$BC$46)*IF($C$13=1,$AG$47,IF($C$13=2,$AH$47,IF($C$13=3,$AI$47,1))) -> 4444.0673 | R95: =((R$70-$H$4)/1000)*IF($C$13=0,$AR$29,$AR$46)*(($C$8/70)^$BC$46)*IF($C$13=1,$AG$47,IF($C$13=2,$AH$47,IF($C$13=3,$AI$47,1))) -> 4814.4062 | S95: =((S$70-$H$4)/1000)*IF($C$13=0,$AR$29,$AR$46)*(($C$8/70)^$BC$46)*IF($C$13=1,$AG$47,IF($C$13=2,$AH$47,IF($C$13=3,$AI$47,1))) -> 5184.7451 | ... BF95: =((BF$70-$H$4)/1000)*IF($C$13=0,$AR$29,$AR$46)*(($C$8/70)^$BC$46)*IF($C$13=1,$AG$47,IF($C$13=2,$AH$47,IF($C$13=3,$AI$47,1))) -> 19627.964
B96: =D96&"."&E96&"."&F96&"."&"ХХХ"&"."&G96&"."&"24v" -> КРВ.140.420.ХХХ.10ТП.24v | D96: КРВ | E96: 140 | F96: 420 | G96: 10ТП | L96: =((L$70-$H$4)/1000)*IF($C$13=0,$AS$29,$AS$46)*(($C$8/70)^$BD$46)*IF($C$13=1,$AG$47,IF($C$13=2,$AH$47,IF($C$13=3,$AI$47,1))) -> 3057.3372 | M96: =((M$70-$H$4)/1000)*IF($C$13=0,$AS$29,$AS$46)*(($C$8/70)^$BD$46)*IF($C$13=1,$AG$47,IF($C$13=2,$AH$47,IF($C$13=3,$AI$47,1))) -> 3494.0996 | N96: =((N$70-$H$4)/1000)*IF($C$13=0,$AS$29,$AS$46)*(($C$8/70)^$BD$46)*IF($C$13=1,$AG$47,IF($C$13=2,$AH$47,IF($C$13=3,$AI$47,1))) -> 3930.8621 | O96: =((O$70-$H$4)/1000)*IF($C$13=0,$AS$29,$AS$46)*(($C$8/70)^$BD$46)*IF($C$13=1,$AG$47,IF($C$13=2,$AH$47,IF($C$13=3,$AI$47,1))) -> 4367.6245 | P96: =((P$70-$H$4)/1000)*IF($C$13=0,$AS$29,$AS$46)*(($C$8/70)^$BD$46)*IF($C$13=1,$AG$47,IF($C$13=2,$AH$47,IF($C$13=3,$AI$47,1))) -> 4804.387 | Q96: =((Q$70-$H$4)/1000)*IF($C$13=0,$AS$29,$AS$46)*(($C$8/70)^$BD$46)*IF($C$13=1,$AG$47,IF($C$13=2,$AH$47,IF($C$13=3,$AI$47,1))) -> 5241.1495 | R96: =((R$70-$H$4)/1000)*IF($C$13=0,$AS$29,$AS$46)*(($C$8/70)^$BD$46)*IF($C$13=1,$AG$47,IF($C$13=2,$AH$47,IF($C$13=3,$AI$47,1))) -> 5677.9119 | S96: =((S$70-$H$4)/1000)*IF($C$13=0,$AS$29,$AS$46)*(($C$8/70)^$BD$46)*IF($C$13=1,$AG$47,IF($C$13=2,$AH$47,IF($C$13=3,$AI$47,1))) -> 6114.6744 | ... BF96: =((BF$70-$H$4)/1000)*IF($C$13=0,$AS$29,$AS$46)*(($C$8/70)^$BD$46)*IF($C$13=1,$AG$47,IF($C$13=2,$AH$47,IF($C$13=3,$AI$47,1))) -> 23148.41
B97: =D97&"."&E97&"."&F97&"."&"ХХХ"&"."&G97&"."&"24v" -> КРВ.150.240.ХХХ.4ТК.24v | D97: КРВ | E97: 150 | F97: 240 | G97: 4ТК | L97: =((L$70-$H$4)/1000)*IF($C$13=0,$AN$30,$AN$47)*(($C$8/70)^$AY$47)*IF($C$13=1,$AG$48,IF($C$13=2,$AH$48,IF($C$13=3,$AI$48,1))) -> 1405.3403 | M97: =((M$70-$H$4)/1000)*IF($C$13=0,$AN$30,$AN$47)*(($C$8/70)^$AY$47)*IF($C$13=1,$AG$48,IF($C$13=2,$AH$48,IF($C$13=3,$AI$48,1))) -> 1606.1032 | N97: =((N$70-$H$4)/1000)*IF($C$13=0,$AN$30,$AN$47)*(($C$8/70)^$AY$47)*IF($C$13=1,$AG$48,IF($C$13=2,$AH$48,IF($C$13=3,$AI$48,1))) -> 1806.8661 | O97: =((O$70-$H$4)/1000)*IF($C$13=0,$AN$30,$AN$47)*(($C$8/70)^$AY$47)*IF($C$13=1,$AG$48,IF($C$13=2,$AH$48,IF($C$13=3,$AI$48,1))) -> 2007.629 | P97: =((P$70-$H$4)/1000)*IF($C$13=0,$AN$30,$AN$47)*(($C$8/70)^$AY$47)*IF($C$13=1,$AG$48,IF($C$13=2,$AH$48,IF($C$13=3,$AI$48,1))) -> 2208.3919 | Q97: =((Q$70-$H$4)/1000)*IF($C$13=0,$AN$30,$AN$47)*(($C$8/70)^$AY$47)*IF($C$13=1,$AG$48,IF($C$13=2,$AH$48,IF($C$13=3,$AI$48,1))) -> 2409.1548 | R97: =((R$70-$H$4)/1000)*IF($C$13=0,$AN$30,$AN$47)*(($C$8/70)^$AY$47)*IF($C$13=1,$AG$48,IF($C$13=2,$AH$48,IF($C$13=3,$AI$48,1))) -> 2609.9177 | S97: =((S$70-$H$4)/1000)*IF($C$13=0,$AN$30,$AN$47)*(($C$8/70)^$AY$47)*IF($C$13=1,$AG$48,IF($C$13=2,$AH$48,IF($C$13=3,$AI$48,1))) -> 2810.6806 | ... BF97: =((BF$70-$H$4)/1000)*IF($C$13=0,$AN$30,$AN$47)*(($C$8/70)^$AY$47)*IF($C$13=1,$AG$48,IF($C$13=2,$AH$48,IF($C$13=3,$AI$48,1))) -> 10640.434
B98: =D98&"."&E98&"."&F98&"."&"ХХХ"&"."&G98&"."&"24v" -> КРВ.150.260.ХХХ.4ТК.24v | D98: КРВ | E98: 150 | F98: 260 | G98: 4ТК | L98: =((L$70-$H$4)/1000)*IF($C$13=0,$AO$30,$AO$47)*(($C$8/70)^$AZ$47)*IF($C$13=1,$AG$49,IF($C$13=2,$AH$49,IF($C$13=3,$AI$49,1))) -> 1524.7487 | M98: =((M$70-$H$4)/1000)*IF($C$13=0,$AO$30,$AO$47)*(($C$8/70)^$AZ$47)*IF($C$13=1,$AG$49,IF($C$13=2,$AH$49,IF($C$13=3,$AI$49,1))) -> 1742.5699 | N98: =((N$70-$H$4)/1000)*IF($C$13=0,$AO$30,$AO$47)*(($C$8/70)^$AZ$47)*IF($C$13=1,$AG$49,IF($C$13=2,$AH$49,IF($C$13=3,$AI$49,1))) -> 1960.3912 | O98: =((O$70-$H$4)/1000)*IF($C$13=0,$AO$30,$AO$47)*(($C$8/70)^$AZ$47)*IF($C$13=1,$AG$49,IF($C$13=2,$AH$49,IF($C$13=3,$AI$49,1))) -> 2178.2124 | P98: =((P$70-$H$4)/1000)*IF($C$13=0,$AO$30,$AO$47)*(($C$8/70)^$AZ$47)*IF($C$13=1,$AG$49,IF($C$13=2,$AH$49,IF($C$13=3,$AI$49,1))) -> 2396.0336 | Q98: =((Q$70-$H$4)/1000)*IF($C$13=0,$AO$30,$AO$47)*(($C$8/70)^$AZ$47)*IF($C$13=1,$AG$49,IF($C$13=2,$AH$49,IF($C$13=3,$AI$49,1))) -> 2613.8549 | R98: =((R$70-$H$4)/1000)*IF($C$13=0,$AO$30,$AO$47)*(($C$8/70)^$AZ$47)*IF($C$13=1,$AG$49,IF($C$13=2,$AH$49,IF($C$13=3,$AI$49,1))) -> 2831.6761 | S98: =((S$70-$H$4)/1000)*IF($C$13=0,$AO$30,$AO$47)*(($C$8/70)^$AZ$47)*IF($C$13=1,$AG$49,IF($C$13=2,$AH$49,IF($C$13=3,$AI$49,1))) -> 3049.4974 | ... BF98: =((BF$70-$H$4)/1000)*IF($C$13=0,$AO$30,$AO$47)*(($C$8/70)^$AZ$47)*IF($C$13=1,$AG$49,IF($C$13=2,$AH$49,IF($C$13=3,$AI$49,1))) -> 11544.526
B99: =D99&"."&E99&"."&F99&"."&"ХХХ"&"."&G99&"."&"24v" -> КРВ.150.290.ХХХ.6ТП.24v | D99: КРВ | E99: 150 | F99: 290 | G99: 6ТП | L99: =((L$70-$H$4)/1000)*IF($C$13=0,$AP$30,$AP$47)*(($C$8/70)^$BA$47)*IF($C$13=1,$AG$47,IF($C$13=2,$AH$47,IF($C$13=3,$AI$47,1))) -> 2308.2888 | M99: =((M$70-$H$4)/1000)*IF($C$13=0,$AP$30,$AP$47)*(($C$8/70)^$BA$47)*IF($C$13=1,$AG$47,IF($C$13=2,$AH$47,IF($C$13=3,$AI$47,1))) -> 2638.0444 | N99: =((N$70-$H$4)/1000)*IF($C$13=0,$AP$30,$AP$47)*(($C$8/70)^$BA$47)*IF($C$13=1,$AG$47,IF($C$13=2,$AH$47,IF($C$13=3,$AI$47,1))) -> 2967.7999 | O99: =((O$70-$H$4)/1000)*IF($C$13=0,$AP$30,$AP$47)*(($C$8/70)^$BA$47)*IF($C$13=1,$AG$47,IF($C$13=2,$AH$47,IF($C$13=3,$AI$47,1))) -> 3297.5555 | P99: =((P$70-$H$4)/1000)*IF($C$13=0,$AP$30,$AP$47)*(($C$8/70)^$BA$47)*IF($C$13=1,$AG$47,IF($C$13=2,$AH$47,IF($C$13=3,$AI$47,1))) -> 3627.311 | Q99: =((Q$70-$H$4)/1000)*IF($C$13=0,$AP$30,$AP$47)*(($C$8/70)^$BA$47)*IF($C$13=1,$AG$47,IF($C$13=2,$AH$47,IF($C$13=3,$AI$47,1))) -> 3957.0666 | R99: =((R$70-$H$4)/1000)*IF($C$13=0,$AP$30,$AP$47)*(($C$8/70)^$BA$47)*IF($C$13=1,$AG$47,IF($C$13=2,$AH$47,IF($C$13=3,$AI$47,1))) -> 4286.8221 | S99: =((S$70-$H$4)/1000)*IF($C$13=0,$AP$30,$AP$47)*(($C$8/70)^$BA$47)*IF($C$13=1,$AG$47,IF($C$13=2,$AH$47,IF($C$13=3,$AI$47,1))) -> 4616.5777 | ... BF99: =((BF$70-$H$4)/1000)*IF($C$13=0,$AP$30,$AP$47)*(($C$8/70)^$BA$47)*IF($C$13=1,$AG$47,IF($C$13=2,$AH$47,IF($C$13=3,$AI$47,1))) -> 17477.044
B100: =D100&"."&E100&"."&F100&"."&"ХХХ"&"."&G100&"."&"24v" -> КРВ.150.340.ХХХ.8ТП.24v | D100: КРВ | E100: 150 | F100: 340 | G100: 8ТП | L100: =((L$70-$H$4)/1000)*IF($C$13=0,$AQ$30,($AQ$47*1.1))*(($C$8/70)^$BB$47)*IF($C$13=1,$AG$50,IF($C$13=2,$AH$50,IF($C$13=3,$AI$50,1))) -> 2575.0004 | M100: =((M$70-$H$4)/1000)*IF($C$13=0,$AQ$30,($AQ$47*1.1))*(($C$8/70)^$BB$47)*IF($C$13=1,$AG$50,IF($C$13=2,$AH$50,IF($C$13=3,$AI$50,1))) -> 2942.8576 | N100: =((N$70-$H$4)/1000)*IF($C$13=0,$AQ$30,($AQ$47*1.1))*(($C$8/70)^$BB$47)*IF($C$13=1,$AG$50,IF($C$13=2,$AH$50,IF($C$13=3,$AI$50,1))) -> 3310.7148 | O100: =((O$70-$H$4)/1000)*IF($C$13=0,$AQ$30,($AQ$47*1.1))*(($C$8/70)^$BB$47)*IF($C$13=1,$AG$50,IF($C$13=2,$AH$50,IF($C$13=3,$AI$50,1))) -> 3678.572 | P100: =((P$70-$H$4)/1000)*IF($C$13=0,$AQ$30,($AQ$47*1.1))*(($C$8/70)^$BB$47)*IF($C$13=1,$AG$50,IF($C$13=2,$AH$50,IF($C$13=3,$AI$50,1))) -> 4046.4292 | Q100: =((Q$70-$H$4)/1000)*IF($C$13=0,$AQ$30,($AQ$47*1.1))*(($C$8/70)^$BB$47)*IF($C$13=1,$AG$50,IF($C$13=2,$AH$50,IF($C$13=3,$AI$50,1))) -> 4414.2864 | R100: =((R$70-$H$4)/1000)*IF($C$13=0,$AQ$30,($AQ$47*1.1))*(($C$8/70)^$BB$47)*IF($C$13=1,$AG$50,IF($C$13=2,$AH$50,IF($C$13=3,$AI$50,1))) -> 4782.1437 | S100: =((S$70-$H$4)/1000)*IF($C$13=0,$AQ$30,($AQ$47*1.1))*(($C$8/70)^$BB$47)*IF($C$13=1,$AG$50,IF($C$13=2,$AH$50,IF($C$13=3,$AI$50,1))) -> 5150.0009 | ... BF100: =((BF$70-$H$4)/1000)*IF($C$13=0,$AQ$30,($AQ$47*1.1))*(($C$8/70)^$BB$47)*IF($C$13=1,$AG$50,IF($C$13=2,$AH$50,IF($C$13=3,$AI$50,1))) -> 19496.432
B101: =D101&"."&E101&"."&F101&"."&"ХХХ"&"."&G101&"."&"24v" -> КРВ.150.380.ХХХ.8ТП.24v | D101: КРВ | E101: 150 | F101: 380 | G101: 8ТП | L101: =((L$70-$H$4)/1000)*IF($C$13=0,$AR$30,$AR$47)*(($C$8/70)^$BC$47)*IF($C$13=1,$AG$47,IF($C$13=2,$AH$47,IF($C$13=3,$AI$47,1))) -> 2686.3964 | M101: =((M$70-$H$4)/1000)*IF($C$13=0,$AR$30,$AR$47)*(($C$8/70)^$BC$47)*IF($C$13=1,$AG$47,IF($C$13=2,$AH$47,IF($C$13=3,$AI$47,1))) -> 3070.1674 | N101: =((N$70-$H$4)/1000)*IF($C$13=0,$AR$30,$AR$47)*(($C$8/70)^$BC$47)*IF($C$13=1,$AG$47,IF($C$13=2,$AH$47,IF($C$13=3,$AI$47,1))) -> 3453.9383 | O101: =((O$70-$H$4)/1000)*IF($C$13=0,$AR$30,$AR$47)*(($C$8/70)^$BC$47)*IF($C$13=1,$AG$47,IF($C$13=2,$AH$47,IF($C$13=3,$AI$47,1))) -> 3837.7092 | P101: =((P$70-$H$4)/1000)*IF($C$13=0,$AR$30,$AR$47)*(($C$8/70)^$BC$47)*IF($C$13=1,$AG$47,IF($C$13=2,$AH$47,IF($C$13=3,$AI$47,1))) -> 4221.4801 | Q101: =((Q$70-$H$4)/1000)*IF($C$13=0,$AR$30,$AR$47)*(($C$8/70)^$BC$47)*IF($C$13=1,$AG$47,IF($C$13=2,$AH$47,IF($C$13=3,$AI$47,1))) -> 4605.251 | R101: =((R$70-$H$4)/1000)*IF($C$13=0,$AR$30,$AR$47)*(($C$8/70)^$BC$47)*IF($C$13=1,$AG$47,IF($C$13=2,$AH$47,IF($C$13=3,$AI$47,1))) -> 4989.022 | S101: =((S$70-$H$4)/1000)*IF($C$13=0,$AR$30,$AR$47)*(($C$8/70)^$BC$47)*IF($C$13=1,$AG$47,IF($C$13=2,$AH$47,IF($C$13=3,$AI$47,1))) -> 5372.7929 | ... BF101: =((BF$70-$H$4)/1000)*IF($C$13=0,$AR$30,$AR$47)*(($C$8/70)^$BC$47)*IF($C$13=1,$AG$47,IF($C$13=2,$AH$47,IF($C$13=3,$AI$47,1))) -> 20339.859
B102: =D102&"."&E102&"."&F102&"."&"ХХХ"&"."&G102&"."&"24v" -> КРВ.150.420.ХХХ.10ТП.24v | D102: КРВ | E102: 150 | F102: 420 | G102: 10ТП | L102: =((L$70-$H$4)/1000)*IF($C$13=0,$AS$30,$AS$47)*(($C$8/70)^$BD$47)*IF($C$13=1,$AG$47,IF($C$13=2,$AH$47,IF($C$13=3,$AI$47,1))) -> 3168.2251 | M102: =((M$70-$H$4)/1000)*IF($C$13=0,$AS$30,$AS$47)*(($C$8/70)^$BD$47)*IF($C$13=1,$AG$47,IF($C$13=2,$AH$47,IF($C$13=3,$AI$47,1))) -> 3620.8286 | N102: =((N$70-$H$4)/1000)*IF($C$13=0,$AS$30,$AS$47)*(($C$8/70)^$BD$47)*IF($C$13=1,$AG$47,IF($C$13=2,$AH$47,IF($C$13=3,$AI$47,1))) -> 4073.4322 | O102: =((O$70-$H$4)/1000)*IF($C$13=0,$AS$30,$AS$47)*(($C$8/70)^$BD$47)*IF($C$13=1,$AG$47,IF($C$13=2,$AH$47,IF($C$13=3,$AI$47,1))) -> 4526.0358 | P102: =((P$70-$H$4)/1000)*IF($C$13=0,$AS$30,$AS$47)*(($C$8/70)^$BD$47)*IF($C$13=1,$AG$47,IF($C$13=2,$AH$47,IF($C$13=3,$AI$47,1))) -> 4978.6394 | Q102: =((Q$70-$H$4)/1000)*IF($C$13=0,$AS$30,$AS$47)*(($C$8/70)^$BD$47)*IF($C$13=1,$AG$47,IF($C$13=2,$AH$47,IF($C$13=3,$AI$47,1))) -> 5431.243 | R102: =((R$70-$H$4)/1000)*IF($C$13=0,$AS$30,$AS$47)*(($C$8/70)^$BD$47)*IF($C$13=1,$AG$47,IF($C$13=2,$AH$47,IF($C$13=3,$AI$47,1))) -> 5883.8465 | S102: =((S$70-$H$4)/1000)*IF($C$13=0,$AS$30,$AS$47)*(($C$8/70)^$BD$47)*IF($C$13=1,$AG$47,IF($C$13=2,$AH$47,IF($C$13=3,$AI$47,1))) -> 6336.4501 | ... BF102: =((BF$70-$H$4)/1000)*IF($C$13=0,$AS$30,$AS$47)*(($C$8/70)^$BD$47)*IF($C$13=1,$AG$47,IF($C$13=2,$AH$47,IF($C$13=3,$AI$47,1))) -> 23987.99
B103: =D103&"."&E103&"."&F103&"."&"ХХХ"&"."&G103&"."&"24v" -> КРВ.180.240.ХХХ.4ТК.24v | D103: КРВ | E103: 180 | F103: 240 | G103: 4ТК | L103: =((L$70-$H$4)/1000)*IF($C$13=0,$AN$31,$AN$48)*(($C$8/70)^$AY$48)*IF($C$13=1,$AG$48,IF($C$13=2,$AH$48,IF($C$13=3,$AI$48,1))) -> 1552.901 | M103: =((M$70-$H$4)/1000)*IF($C$13=0,$AN$31,$AN$48)*(($C$8/70)^$AY$48)*IF($C$13=1,$AG$48,IF($C$13=2,$AH$48,IF($C$13=3,$AI$48,1))) -> 1774.744 | N103: =((N$70-$H$4)/1000)*IF($C$13=0,$AN$31,$AN$48)*(($C$8/70)^$AY$48)*IF($C$13=1,$AG$48,IF($C$13=2,$AH$48,IF($C$13=3,$AI$48,1))) -> 1996.587 | O103: =((O$70-$H$4)/1000)*IF($C$13=0,$AN$31,$AN$48)*(($C$8/70)^$AY$48)*IF($C$13=1,$AG$48,IF($C$13=2,$AH$48,IF($C$13=3,$AI$48,1))) -> 2218.43 | P103: =((P$70-$H$4)/1000)*IF($C$13=0,$AN$31,$AN$48)*(($C$8/70)^$AY$48)*IF($C$13=1,$AG$48,IF($C$13=2,$AH$48,IF($C$13=3,$AI$48,1))) -> 2440.273 | Q103: =((Q$70-$H$4)/1000)*IF($C$13=0,$AN$31,$AN$48)*(($C$8/70)^$AY$48)*IF($C$13=1,$AG$48,IF($C$13=2,$AH$48,IF($C$13=3,$AI$48,1))) -> 2662.1161 | R103: =((R$70-$H$4)/1000)*IF($C$13=0,$AN$31,$AN$48)*(($C$8/70)^$AY$48)*IF($C$13=1,$AG$48,IF($C$13=2,$AH$48,IF($C$13=3,$AI$48,1))) -> 2883.9591 | S103: =((S$70-$H$4)/1000)*IF($C$13=0,$AN$31,$AN$48)*(($C$8/70)^$AY$48)*IF($C$13=1,$AG$48,IF($C$13=2,$AH$48,IF($C$13=3,$AI$48,1))) -> 3105.8021 | ... BF103: =((BF$70-$H$4)/1000)*IF($C$13=0,$AN$31,$AN$48)*(($C$8/70)^$AY$48)*IF($C$13=1,$AG$48,IF($C$13=2,$AH$48,IF($C$13=3,$AI$48,1))) -> 11757.679
B104: =D104&"."&E104&"."&F104&"."&"ХХХ"&"."&G104&"."&"24v" -> КРВ.180.260.ХХХ.4ТК.24v | D104: КРВ | E104: 180 | F104: 260 | G104: 4ТК | L104: =((L$70-$H$4)/1000)*IF($C$13=0,$AO$31,$AO$48)*(($C$8/70)^$AZ$48)*IF($C$13=1,$AG$49,IF($C$13=2,$AH$49,IF($C$13=3,$AI$49,1))) -> 1684.8473 | M104: =((M$70-$H$4)/1000)*IF($C$13=0,$AO$31,$AO$48)*(($C$8/70)^$AZ$48)*IF($C$13=1,$AG$49,IF($C$13=2,$AH$49,IF($C$13=3,$AI$49,1))) -> 1925.5398 | N104: =((N$70-$H$4)/1000)*IF($C$13=0,$AO$31,$AO$48)*(($C$8/70)^$AZ$48)*IF($C$13=1,$AG$49,IF($C$13=2,$AH$49,IF($C$13=3,$AI$49,1))) -> 2166.2322 | O104: =((O$70-$H$4)/1000)*IF($C$13=0,$AO$31,$AO$48)*(($C$8/70)^$AZ$48)*IF($C$13=1,$AG$49,IF($C$13=2,$AH$49,IF($C$13=3,$AI$49,1))) -> 2406.9247 | P104: =((P$70-$H$4)/1000)*IF($C$13=0,$AO$31,$AO$48)*(($C$8/70)^$AZ$48)*IF($C$13=1,$AG$49,IF($C$13=2,$AH$49,IF($C$13=3,$AI$49,1))) -> 2647.6172 | Q104: =((Q$70-$H$4)/1000)*IF($C$13=0,$AO$31,$AO$48)*(($C$8/70)^$AZ$48)*IF($C$13=1,$AG$49,IF($C$13=2,$AH$49,IF($C$13=3,$AI$49,1))) -> 2888.3096 | R104: =((R$70-$H$4)/1000)*IF($C$13=0,$AO$31,$AO$48)*(($C$8/70)^$AZ$48)*IF($C$13=1,$AG$49,IF($C$13=2,$AH$49,IF($C$13=3,$AI$49,1))) -> 3129.0021 | S104: =((S$70-$H$4)/1000)*IF($C$13=0,$AO$31,$AO$48)*(($C$8/70)^$AZ$48)*IF($C$13=1,$AG$49,IF($C$13=2,$AH$49,IF($C$13=3,$AI$49,1))) -> 3369.6946 | ... BF104: =((BF$70-$H$4)/1000)*IF($C$13=0,$AO$31,$AO$48)*(($C$8/70)^$AZ$48)*IF($C$13=1,$AG$49,IF($C$13=2,$AH$49,IF($C$13=3,$AI$49,1))) -> 12756.701
B105: =D105&"."&E105&"."&F105&"."&"ХХХ"&"."&G105&"."&"24v" -> КРВ.180.290.ХХХ.6ТП.24v | D105: КРВ | E105: 180 | F105: 290 | G105: 6ТП | L105: =((L$70-$H$4)/1000)*IF($C$13=0,$AP$31,$AP$48)*(($C$8/70)^$BA$48)*IF($C$13=1,$AG$47,IF($C$13=2,$AH$47,IF($C$13=3,$AI$47,1))) -> 2550.6592 | M105: =((M$70-$H$4)/1000)*IF($C$13=0,$AP$31,$AP$48)*(($C$8/70)^$BA$48)*IF($C$13=1,$AG$47,IF($C$13=2,$AH$47,IF($C$13=3,$AI$47,1))) -> 2915.039 | N105: =((N$70-$H$4)/1000)*IF($C$13=0,$AP$31,$AP$48)*(($C$8/70)^$BA$48)*IF($C$13=1,$AG$47,IF($C$13=2,$AH$47,IF($C$13=3,$AI$47,1))) -> 3279.4189 | O105: =((O$70-$H$4)/1000)*IF($C$13=0,$AP$31,$AP$48)*(($C$8/70)^$BA$48)*IF($C$13=1,$AG$47,IF($C$13=2,$AH$47,IF($C$13=3,$AI$47,1))) -> 3643.7988 | P105: =((P$70-$H$4)/1000)*IF($C$13=0,$AP$31,$AP$48)*(($C$8/70)^$BA$48)*IF($C$13=1,$AG$47,IF($C$13=2,$AH$47,IF($C$13=3,$AI$47,1))) -> 4008.1787 | Q105: =((Q$70-$H$4)/1000)*IF($C$13=0,$AP$31,$AP$48)*(($C$8/70)^$BA$48)*IF($C$13=1,$AG$47,IF($C$13=2,$AH$47,IF($C$13=3,$AI$47,1))) -> 4372.5586 | R105: =((R$70-$H$4)/1000)*IF($C$13=0,$AP$31,$AP$48)*(($C$8/70)^$BA$48)*IF($C$13=1,$AG$47,IF($C$13=2,$AH$47,IF($C$13=3,$AI$47,1))) -> 4736.9384 | S105: =((S$70-$H$4)/1000)*IF($C$13=0,$AP$31,$AP$48)*(($C$8/70)^$BA$48)*IF($C$13=1,$AG$47,IF($C$13=2,$AH$47,IF($C$13=3,$AI$47,1))) -> 5101.3183 | ... BF105: =((BF$70-$H$4)/1000)*IF($C$13=0,$AP$31,$AP$48)*(($C$8/70)^$BA$48)*IF($C$13=1,$AG$47,IF($C$13=2,$AH$47,IF($C$13=3,$AI$47,1))) -> 19312.134
B106: =D106&"."&E106&"."&F106&"."&"ХХХ"&"."&G106&"."&"24v" -> КРВ.180.340.ХХХ.8ТП.24v | D106: КРВ | E106: 180 | F106: 340 | G106: 8ТП | L106: =((L$70-$H$4)/1000)*IF($C$13=0,$AQ$31,($AQ$48*1.1))*(($C$8/70)^$BB$48)*IF($C$13=1,$AG$50,IF($C$13=2,$AH$50,IF($C$13=3,$AI$50,1))) -> 2845.3755 | M106: =((M$70-$H$4)/1000)*IF($C$13=0,$AQ$31,($AQ$48*1.1))*(($C$8/70)^$BB$48)*IF($C$13=1,$AG$50,IF($C$13=2,$AH$50,IF($C$13=3,$AI$50,1))) -> 3251.8577 | N106: =((N$70-$H$4)/1000)*IF($C$13=0,$AQ$31,($AQ$48*1.1))*(($C$8/70)^$BB$48)*IF($C$13=1,$AG$50,IF($C$13=2,$AH$50,IF($C$13=3,$AI$50,1))) -> 3658.3399 | O106: =((O$70-$H$4)/1000)*IF($C$13=0,$AQ$31,($AQ$48*1.1))*(($C$8/70)^$BB$48)*IF($C$13=1,$AG$50,IF($C$13=2,$AH$50,IF($C$13=3,$AI$50,1))) -> 4064.8221 | P106: =((P$70-$H$4)/1000)*IF($C$13=0,$AQ$31,($AQ$48*1.1))*(($C$8/70)^$BB$48)*IF($C$13=1,$AG$50,IF($C$13=2,$AH$50,IF($C$13=3,$AI$50,1))) -> 4471.3043 | Q106: =((Q$70-$H$4)/1000)*IF($C$13=0,$AQ$31,($AQ$48*1.1))*(($C$8/70)^$BB$48)*IF($C$13=1,$AG$50,IF($C$13=2,$AH$50,IF($C$13=3,$AI$50,1))) -> 4877.7865 | R106: =((R$70-$H$4)/1000)*IF($C$13=0,$AQ$31,($AQ$48*1.1))*(($C$8/70)^$BB$48)*IF($C$13=1,$AG$50,IF($C$13=2,$AH$50,IF($C$13=3,$AI$50,1))) -> 5284.2687 | S106: =((S$70-$H$4)/1000)*IF($C$13=0,$AQ$31,($AQ$48*1.1))*(($C$8/70)^$BB$48)*IF($C$13=1,$AG$50,IF($C$13=2,$AH$50,IF($C$13=3,$AI$50,1))) -> 5690.7509 | ... BF106: =((BF$70-$H$4)/1000)*IF($C$13=0,$AQ$31,($AQ$48*1.1))*(($C$8/70)^$BB$48)*IF($C$13=1,$AG$50,IF($C$13=2,$AH$50,IF($C$13=3,$AI$50,1))) -> 21543.557
B107: =D107&"."&E107&"."&F107&"."&"ХХХ"&"."&G107&"."&"24v" -> КРВ.180.380.ХХХ.8ТП.24v | D107: КРВ | E107: 180 | F107: 380 | G107: 8ТП | L107: =((L$70-$H$4)/1000)*IF($C$13=0,$AR$31,$AR$48)*(($C$8/70)^$BC$48)*IF($C$13=1,$AG$47,IF($C$13=2,$AH$47,IF($C$13=3,$AI$47,1))) -> 2968.4681 | M107: =((M$70-$H$4)/1000)*IF($C$13=0,$AR$31,$AR$48)*(($C$8/70)^$BC$48)*IF($C$13=1,$AG$47,IF($C$13=2,$AH$47,IF($C$13=3,$AI$47,1))) -> 3392.5349 | N107: =((N$70-$H$4)/1000)*IF($C$13=0,$AR$31,$AR$48)*(($C$8/70)^$BC$48)*IF($C$13=1,$AG$47,IF($C$13=2,$AH$47,IF($C$13=3,$AI$47,1))) -> 3816.6018 | O107: =((O$70-$H$4)/1000)*IF($C$13=0,$AR$31,$AR$48)*(($C$8/70)^$BC$48)*IF($C$13=1,$AG$47,IF($C$13=2,$AH$47,IF($C$13=3,$AI$47,1))) -> 4240.6687 | P107: =((P$70-$H$4)/1000)*IF($C$13=0,$AR$31,$AR$48)*(($C$8/70)^$BC$48)*IF($C$13=1,$AG$47,IF($C$13=2,$AH$47,IF($C$13=3,$AI$47,1))) -> 4664.7355 | Q107: =((Q$70-$H$4)/1000)*IF($C$13=0,$AR$31,$AR$48)*(($C$8/70)^$BC$48)*IF($C$13=1,$AG$47,IF($C$13=2,$AH$47,IF($C$13=3,$AI$47,1))) -> 5088.8024 | R107: =((R$70-$H$4)/1000)*IF($C$13=0,$AR$31,$AR$48)*(($C$8/70)^$BC$48)*IF($C$13=1,$AG$47,IF($C$13=2,$AH$47,IF($C$13=3,$AI$47,1))) -> 5512.8693 | S107: =((S$70-$H$4)/1000)*IF($C$13=0,$AR$31,$AR$48)*(($C$8/70)^$BC$48)*IF($C$13=1,$AG$47,IF($C$13=2,$AH$47,IF($C$13=3,$AI$47,1))) -> 5936.9361 | ... BF107: =((BF$70-$H$4)/1000)*IF($C$13=0,$AR$31,$AR$48)*(($C$8/70)^$BC$48)*IF($C$13=1,$AG$47,IF($C$13=2,$AH$47,IF($C$13=3,$AI$47,1))) -> 22475.544
B108: =D108&"."&E108&"."&F108&"."&"ХХХ"&"."&G108&"."&"24v" -> КРВ.180.420.ХХХ.10ТП.24v | D108: КРВ | E108: 180 | F108: 420 | G108: 10ТП | L108: =((L$70-$H$4)/1000)*IF($C$13=0,$AS$31,$AS$48)*(($C$8/70)^$BD$48)*IF($C$13=1,$AG$47,IF($C$13=2,$AH$47,IF($C$13=3,$AI$47,1))) -> 3500.8887 | M108: =((M$70-$H$4)/1000)*IF($C$13=0,$AS$31,$AS$48)*(($C$8/70)^$BD$48)*IF($C$13=1,$AG$47,IF($C$13=2,$AH$47,IF($C$13=3,$AI$47,1))) -> 4001.0156 | N108: =((N$70-$H$4)/1000)*IF($C$13=0,$AS$31,$AS$48)*(($C$8/70)^$BD$48)*IF($C$13=1,$AG$47,IF($C$13=2,$AH$47,IF($C$13=3,$AI$47,1))) -> 4501.1426 | O108: =((O$70-$H$4)/1000)*IF($C$13=0,$AS$31,$AS$48)*(($C$8/70)^$BD$48)*IF($C$13=1,$AG$47,IF($C$13=2,$AH$47,IF($C$13=3,$AI$47,1))) -> 5001.2696 | P108: =((P$70-$H$4)/1000)*IF($C$13=0,$AS$31,$AS$48)*(($C$8/70)^$BD$48)*IF($C$13=1,$AG$47,IF($C$13=2,$AH$47,IF($C$13=3,$AI$47,1))) -> 5501.3965 | Q108: =((Q$70-$H$4)/1000)*IF($C$13=0,$AS$31,$AS$48)*(($C$8/70)^$BD$48)*IF($C$13=1,$AG$47,IF($C$13=2,$AH$47,IF($C$13=3,$AI$47,1))) -> 6001.5235 | R108: =((R$70-$H$4)/1000)*IF($C$13=0,$AS$31,$AS$48)*(($C$8/70)^$BD$48)*IF($C$13=1,$AG$47,IF($C$13=2,$AH$47,IF($C$13=3,$AI$47,1))) -> 6501.6504 | S108: =((S$70-$H$4)/1000)*IF($C$13=0,$AS$31,$AS$48)*(($C$8/70)^$BD$48)*IF($C$13=1,$AG$47,IF($C$13=2,$AH$47,IF($C$13=3,$AI$47,1))) -> 7001.7774 | ... BF108: =((BF$70-$H$4)/1000)*IF($C$13=0,$AS$31,$AS$48)*(($C$8/70)^$BD$48)*IF($C$13=1,$AG$47,IF($C$13=2,$AH$47,IF($C$13=3,$AI$47,1))) -> 26506.729

Sheet Быстрый подбор
B3: Бренд | C3: Модель | D3: Высота, мм | F3: Ширина, мм | H3: Длина, мм | J3: Исполнение ТО | L3: Масса изделия с упаковкой, кг | M3: Теплоотдача при (95/85/20), Вт | N3: Конвектор, руб | O3: Решетка с окантовкой серебро, руб | P3: Конвектор с решеткой и окантовкой серебро, руб
A5: 1 | L5: {=IF(B5="","",IFERROR(INDEX(БВ!$O$4:$O$302,MATCH(C5&D5&F5&H5&J5,БВ!$E$4:$E$302&БВ!$G$4:$G$302&БВ!$I$4:$I$302&БВ!$K$4:$K$302&БВ!$M$4:$M$302,0)),IFERROR(INDEX(БВ!$AF$4:$AF$302,MATCH(C5&D5&F5&H5&J5,БВ!$V$4:$V$302&БВ!$X$4:$X$302&БВ!$Z$4:$Z$302&БВ!$AB$4:$AB$302&БВ!$AD$4:$AD$302,0)),IFERROR(INDEX(БВ!$AW$4:$AW$302,MATCH(C5&D5&F5&H5&J5,БВ!$AM$4:$AM$302&БВ!$AO$4:$AO$302&БВ!$AQ$4:$AQ$302&БВ!$AS$4:$AS$302&БВ!$AU$4:$AU$302,0)),IFERROR(INDEX(БВ!$BN$4:$BN$302,MATCH(C5&D5&F5&H5&J5,БВ!$BD$4:$BD$302&БВ!$BF$4:$BF$302&БВ!$BH$4:$BH$302&БВ!$BJ$4:$BJ$302&БВ!$BL$4:$BL$302,0)),IFERROR(INDEX(БВ!$CE$4:$CE$302,MATCH(C5&D5&F5&H5&J5,БВ!$BU$4:$BU$302&БВ!$BW$4:$BW$302&БВ!$BY$4:$BY$302&БВ!$CA$4:$CA$302&БВ!$CC$4:$CC$302,0)),IFERROR(INDEX('24v'!$O$4:$O$302,MATCH(C5&D5&F5&H5&J5,'24v'!$E$4:$E$302&'24v'!$G$4:$G$302&'24v'!$I$4:$I$302&'24v'!$K$4:$K$302&'24v'!$M$4:$M$302,0)),IFERROR(INDEX('24v'!$AF$4:$AF$302,MATCH(C5&D5&F5&H5&J5,'24v'!$V$4:$V$302&'24v'!$X$4:$X$302&'24v'!$Z$4:$Z$302&'24v'!$AB$4:$AB$302&'24v'!$AD$4:$AD$302,0)),IFERROR(INDEX('24v'!$AW$4:$AW$302,MATCH(C5&D5&F5&H5&J5,'24v'!$AM$4:$AM$302&'24v'!$AO$4:$AO$302&'24v'!$AQ$4:$AQ$302&'24v'!$AS$4:$AS$302&'24v'!$AU$4:$AU$302,0)),IFERROR(INDEX('24v'!$BN$4:$BN$302,MATCH(C5&D5&F5&H5&J5,'24v'!$BD$4:$BD$302&'24v'!$BF$4:$BF$302&'24v'!$BH$4:$BH$302&'24v'!$BJ$4:$BJ$302&'24v'!$BL$4:$BL$302,0)),IFERROR(INDEX('24v'!$CE$4:$CE$302,MATCH(C5&D5&F5&H5&J5,'24v'!$BU$4:$BU$302&'24v'!$BW$4:$BW$302&'24v'!$BY$4:$BY$302&'24v'!$CA$4:$CA$302&'24v'!$CC$4:$CC$302,0)),"Модель отсутствует")))))))))))} | M5: {=IF(B5="","",IFERROR(INDEX(БВ!$P$4:$P$302,MATCH(C5&D5&F5&H5&J5,БВ!$E$4:$E$302&БВ!$G$4:$G$302&БВ!$I$4:$I$302&БВ!$K$4:$K$302&БВ!$M$4:$M$302,0)),IFERROR(INDEX(БВ!$AG$4:$AG$302,MATCH(C5&D5&F5&H5&J5,БВ!$V$4:$V$302&БВ!$X$4:$X$302&БВ!$Z$4:$Z$302&БВ!$AB$4:$AB$302&БВ!$AD$4:$AD$302,0)),IFERROR(INDEX(БВ!$AX$4:$AX$302,MATCH(C5&D5&F5&H5&J5,БВ!$AM$4:$AM$302&БВ!$AO$4:$AO$302&БВ!$AQ$4:$AQ$302&БВ!$AS$4:$AS$302&БВ!$AU$4:$AU$302,0)),IFERROR(INDEX(БВ!$BO$4:$BO$302,MATCH(C5&D5&F5&H5&J5,БВ!$BD$4:$BD$302&БВ!$BF$4:$BF$302&БВ!$BH$4:$BH$302&БВ!$BJ$4:$BJ$302&БВ!$BL$4:$BL$302,0)),IFERROR(INDEX(БВ!$CF$4:$CF$302,MATCH(C5&D5&F5&H5&J5,БВ!$BU$4:$BU$302&БВ!$BW$4:$BW$302&БВ!$BY$4:$BY$302&БВ!$CA$4:$CA$302&БВ!$CC$4:$CC$302,0)),IFERROR(INDEX('24v'!$P$4:$P$302,MATCH(C5&D5&F5&H5&J5,'24v'!$E$4:$E$302&'24v'!$G$4:$G$302&'24v'!$I$4:$I$302&'24v'!$K$4:$K$302&'24v'!$M$4:$M$302,0)),IFERROR(INDEX('24v'!$AG$4:$AG$302,MATCH(C5&D5&F5&H5&J5,'24v'!$V$4:$V$302&'24v'!$X$4:$X$302&'24v'!$Z$4:$Z$302&'24v'!$AB$4:$AB$302&'24v'!$AD$4:$AD$302,0)),IFERROR(INDEX('24v'!$AX$4:$AX$302,MATCH(C5&D5&F5&H5&J5,'24v'!$AM$4:$AM$302&'24v'!$AO$4:$AO$302&'24v'!$AQ$4:$AQ$302&'24v'!$AS$4:$AS$302&'24v'!$AU$4:$AU$302,0)),IFERROR(INDEX('24v'!$BO$4:$BO$302,MATCH(C5&D5&F5&H5&J5,'24v'!$BD$4:$BD$302&'24v'!$BF$4:$BF$302&'24v'!$BH$4:$BH$302&'24v'!$BJ$4:$BJ$302&'24v'!$BL$4:$BL$302,0)),IFERROR(INDEX('24v'!$CF$4:$CF$302,MATCH(C5&D5&F5&H5&J5,'24v'!$BU$4:$BU$302&'24v'!$BW$4:$BW$302&'24v'!$BY$4:$BY$302&'24v'!$CA$4:$CA$302&'24v'!$CC$4:$CC$302,0)),"Модель отсутствует")))))))))))} | N5: {=IF(B5="","",IFERROR(INDEX(БВ!$Q$4:$Q$302,MATCH(C5&D5&F5&H5&J5,БВ!$E$4:$E$302&БВ!$G$4:$G$302&БВ!$I$4:$I$302&БВ!$K$4:$K$302&БВ!$M$4:$M$302,0)),IFERROR(INDEX(БВ!$AH$4:$AH$302,MATCH(C5&D5&F5&H5&J5,БВ!$V$4:$V$302&БВ!$X$4:$X$302&БВ!$Z$4:$Z$302&БВ!$AB$4:$AB$302&БВ!$AD$4:$AD$302,0)),IFERROR(INDEX(БВ!$AY$4:$AY$302,MATCH(C5&D5&F5&H5&J5,БВ!$AM$4:$AM$302&БВ!$AO$4:$AO$302&БВ!$AQ$4:$AQ$302&БВ!$AS$4:$AS$302&БВ!$AU$4:$AU$302,0)),IFERROR(INDEX(БВ!$BP$4:$BP$302,MATCH(C5&D5&F5&H5&J5,БВ!$BD$4:$BD$302&БВ!$BF$4:$BF$302&БВ!$BH$4:$BH$302&БВ!$BJ$4:$BJ$302&БВ!$BL$4:$BL$302,0)),IFERROR(INDEX(БВ!$CG$4:$CG$302,MATCH(C5&D5&F5&H5&J5,БВ!$BU$4:$BU$302&БВ!$BW$4:$BW$302&БВ!$BY$4:$BY$302&БВ!$CA$4:$CA$302&БВ!$CC$4:$CC$302,0)),IFERROR(INDEX('24v'!$Q$4:$Q$302,MATCH(C5&D5&F5&H5&J5,'24v'!$E$4:$E$302&'24v'!$G$4:$G$302&'24v'!$I$4:$I$302&'24v'!$K$4:$K$302&'24v'!$M$4:$M$302,0)),IFERROR(INDEX('24v'!$AH$4:$AH$302,MATCH(C5&D5&F5&H5&J5,'24v'!$V$4:$V$302&'24v'!$X$4:$X$302&'24v'!$Z$4:$Z$302&'24v'!$AB$4:$AB$302&'24v'!$AD$4:$AD$302,0)),IFERROR(INDEX('24v'!$AY$4:$AY$302,MATCH(C5&D5&F5&H5&J5,'24v'!$AM$4:$AM$302&'24v'!$AO$4:$AO$302&'24v'!$AQ$4:$AQ$302&'24v'!$AS$4:$AS$302&'24v'!$AU$4:$AU$302,0)),IFERROR(INDEX('24v'!$BP$4:$BP$302,MATCH(C5&D5&F5&H5&J5,'24v'!$BD$4:$BD$302&'24v'!$BF$4:$BF$302&'24v'!$BH$4:$BH$302&'24v'!$BJ$4:$BJ$302&'24v'!$BL$4:$BL$302,0)),IFERROR(INDEX('24v'!$CG$4:$CG$302,MATCH(C5&D5&F5&H5&J5,'24v'!$BU$4:$BU$302&'24v'!$BW$4:$BW$302&'24v'!$BY$4:$BY$302&'24v'!$CA$4:$CA$302&'24v'!$CC$4:$CC$302,0)),"Модель отсутствует")))))))))))} | O5: {=IF(B5="","",IFERROR(INDEX(БВ!$R$4:$R$302,MATCH(F5&H5,БВ!$I$4:$I$302&БВ!$K$4:$K$302,0)),"Модель отсутствует"))} | P5: =IF(B5="","",(N5+O5)) | R5: Wtherm | S5: КР | T5: 75 | U5: 180 | V5: 600 | W5: 2 | X5: ТГ
A6: 2 | L6: {=IF(B6="","",IFERROR(INDEX(БВ!$O$4:$O$302,MATCH(C6&D6&F6&H6&J6,БВ!$E$4:$E$302&БВ!$G$4:$G$302&БВ!$I$4:$I$302&БВ!$K$4:$K$302&БВ!$M$4:$M$302,0)),IFERROR(INDEX(БВ!$AF$4:$AF$302,MATCH(C6&D6&F6&H6&J6,БВ!#REF!&БВ!$X$4:$X$302&БВ!$Z$4:$Z$302&БВ!$AB$4:$AB$302&БВ!$AD$4:$AD$302,0)),IFERROR(INDEX(БВ!$AW$4:$AW$302,MATCH(C6&D6&F6&H6&J6,БВ!$AM$4:$AM$302&БВ!$AO$4:$AO$302&БВ!$AQ$4:$AQ$302&БВ!$AS$4:$AS$302&БВ!$AU$4:$AU$302,0)),IFERROR(INDEX(БВ!$BN$4:$BN$302,MATCH(C6&D6&F6&H6&J6,БВ!$BD$4:$BD$302&БВ!$BF$4:$BF$302&БВ!$BH$4:$BH$302&БВ!$BJ$4:$BJ$302&БВ!$BL$4:$BL$302,0)),IFERROR(INDEX(БВ!$CE$4:$CE$302,MATCH(C6&D6&F6&H6&J6,БВ!$BU$4:$BU$302&БВ!$BW$4:$BW$302&БВ!$BY$4:$BY$302&БВ!$CA$4:$CA$302&БВ!$CC$4:$CC$302,0)),IFERROR(INDEX('24v'!$O$4:$O$302,MATCH(C6&D6&F6&H6&J6,'24v'!$E$4:$E$302&'24v'!$G$4:$G$302&'24v'!$I$4:$I$302&'24v'!$K$4:$K$302&'24v'!$M$4:$M$302,0)),IFERROR(INDEX('24v'!$AF$4:$AF$302,MATCH(C6&D6&F6&H6&J6,'24v'!$V$4:$V$302&'24v'!$X$4:$X$302&'24v'!$Z$4:$Z$302&'24v'!$AB$4:$AB$302&'24v'!$AD$4:$AD$302,0)),IFERROR(INDEX('24v'!$AW$4:$AW$302,MATCH(C6&D6&F6&H6&J6,'24v'!$AM$4:$AM$302&'24v'!$AO$4:$AO$302&'24v'!$AQ$4:$AQ$302&'24v'!$AS$4:$AS$302&'24v'!$AU$4:$AU$302,0)),IFERROR(INDEX('24v'!$BN$4:$BN$302,MATCH(C6&D6&F6&H6&J6,'24v'!$BD$4:$BD$302&'24v'!$BF$4:$BF$302&'24v'!$BH$4:$BH$302&'24v'!$BJ$4:$BJ$302&'24v'!$BL$4:$BL$302,0)),IFERROR(INDEX('24v'!$CE$4:$CE$302,MATCH(C6&D6&F6&H6&J6,'24v'!$BU$4:$BU$302&'24v'!$BW$4:$BW$302&'24v'!$BY$4:$BY$302&'24v'!$CA$4:$CA$302&'24v'!$CC$4:$CC$302,0)),"Модель отсутствует")))))))))))} | M6: {=IF(B6="","",IFERROR(INDEX(БВ!$P$4:$P$302,MATCH(C6&D6&F6&H6&J6,БВ!$E$4:$E$302&БВ!$G$4:$G$302&БВ!$I$4:$I$302&БВ!$K$4:$K$302&БВ!$M$4:$M$302,0)),IFERROR(INDEX(БВ!$AG$4:$AG$302,MATCH(C6&D6&F6&H6&J6,БВ!#REF!&БВ!$X$4:$X$302&БВ!$Z$4:$Z$302&БВ!$AB$4:$AB$302&БВ!$AD$4:$AD$302,0)),IFERROR(INDEX(БВ!$AX$4:$AX$302,MATCH(C6&D6&F6&H6&J6,БВ!$AM$4:$AM$302&БВ!$AO$4:$AO$302&БВ!$AQ$4:$AQ$302&БВ!$AS$4:$AS$302&БВ!$AU$4:$AU$302,0)),IFERROR(INDEX(БВ!$BO$4:$BO$302,MATCH(C6&D6&F6&H6&J6,БВ!$BD$4:$BD$302&БВ!$BF$4:$BF$302&БВ!$BH$4:$BH$302&БВ!$BJ$4:$BJ$302&БВ!$BL$4:$BL$302,0)),IFERROR(INDEX(БВ!$CF$4:$CF$302,MATCH(C6&D6&F6&H6&J6,БВ!$BU$4:$BU$302&БВ!$BW$4:$BW$302&БВ!$BY$4:$BY$302&БВ!$CA$4:$CA$302&БВ!$CC$4:$CC$302,0)),IFERROR(INDEX('24v'!$P$4:$P$302,MATCH(C6&D6&F6&H6&J6,'24v'!$E$4:$E$302&'24v'!$G$4:$G$302&'24v'!$I$4:$I$302&'24v'!$K$4:$K$302&'24v'!$M$4:$M$302,0)),IFERROR(INDEX('24v'!$AG$4:$AG$302,MATCH(C6&D6&F6&H6&J6,'24v'!$V$4:$V$302&'24v'!$X$4:$X$302&'24v'!$Z$4:$Z$302&'24v'!$AB$4:$AB$302&'24v'!$AD$4:$AD$302,0)),IFERROR(INDEX('24v'!$AX$4:$AX$302,MATCH(C6&D6&F6&H6&J6,'24v'!$AM$4:$AM$302&'24v'!$AO$4:$AO$302&'24v'!$AQ$4:$AQ$302&'24v'!$AS$4:$AS$302&'24v'!$AU$4:$AU$302,0)),IFERROR(INDEX('24v'!$BO$4:$BO$302,MATCH(C6&D6&F6&H6&J6,'24v'!$BD$4:$BD$302&'24v'!$BF$4:$BF$302&'24v'!$BH$4:$BH$302&'24v'!$BJ$4:$BJ$302&'24v'!$BL$4:$BL$302,0)),IFERROR(INDEX('24v'!$CF$4:$CF$302,MATCH(C6&D6&F6&H6&J6,'24v'!$BU$4:$BU$302&'24v'!$BW$4:$BW$302&'24v'!$BY$4:$BY$302&'24v'!$CA$4:$CA$302&'24v'!$CC$4:$CC$302,0)),"Модель отсутствует")))))))))))} | N6: {=IF(B6="","",IFERROR(INDEX(БВ!$Q$4:$Q$302,MATCH(C6&D6&F6&H6&J6,БВ!$E$4:$E$302&БВ!$G$4:$G$302&БВ!$I$4:$I$302&БВ!$K$4:$K$302&БВ!$M$4:$M$302,0)),IFERROR(INDEX(БВ!$AH$4:$AH$302,MATCH(C6&D6&F6&H6&J6,БВ!#REF!&БВ!$X$4:$X$302&БВ!$Z$4:$Z$302&БВ!$AB$4:$AB$302&БВ!$AD$4:$AD$302,0)),IFERROR(INDEX(БВ!$AY$4:$AY$302,MATCH(C6&D6&F6&H6&J6,БВ!$AM$4:$AM$302&БВ!$AO$4:$AO$302&БВ!$AQ$4:$AQ$302&БВ!$AS$4:$AS$302&БВ!$AU$4:$AU$302,0)),IFERROR(INDEX(БВ!$BP$4:$BP$302,MATCH(C6&D6&F6&H6&J6,БВ!$BD$4:$BD$302&БВ!$BF$4:$BF$302&БВ!$BH$4:$BH$302&БВ!$BJ$4:$BJ$302&БВ!$BL$4:$BL$302,0)),IFERROR(INDEX(БВ!$CG$4:$CG$302,MATCH(C6&D6&F6&H6&J6,БВ!$BU$4:$BU$302&БВ!$BW$4:$BW$302&БВ!$BY$4:$BY$302&БВ!$CA$4:$CA$302&БВ!$CC$4:$CC$302,0)),IFERROR(INDEX('24v'!$Q$4:$Q$302,MATCH(C6&D6&F6&H6&J6,'24v'!$E$4:$E$302&'24v'!$G$4:$G$302&'24v'!$I$4:$I$302&'24v'!$K$4:$K$302&'24v'!$M$4:$M$302,0)),IFERROR(INDEX('24v'!$AH$4:$AH$302,MATCH(C6&D6&F6&H6&J6,'24v'!$V$4:$V$302&'24v'!$X$4:$X$302&'24v'!$Z$4:$Z$302&'24v'!$AB$4:$AB$302&'24v'!$AD$4:$AD$302,0)),IFERROR(INDEX('24v'!$AY$4:$AY$302,MATCH(C6&D6&F6&H6&J6,'24v'!$AM$4:$AM$302&'24v'!$AO$4:$AO$302&'24v'!$AQ$4:$AQ$302&'24v'!$AS$4:$AS$302&'24v'!$AU$4:$AU$302,0)),IFERROR(INDEX('24v'!$BP$4:$BP$302,MATCH(C6&D6&F6&H6&J6,'24v'!$BD$4:$BD$302&'24v'!$BF$4:$BF$302&'24v'!$BH$4:$BH$302&'24v'!$BJ$4:$BJ$302&'24v'!$BL$4:$BL$302,0)),IFERROR(INDEX('24v'!$CG$4:$CG$302,MATCH(C6&D6&F6&H6&J6,'24v'!$BU$4:$BU$302&'24v'!$BW$4:$BW$302&'24v'!$BY$4:$BY$302&'24v'!$CA$4:$CA$302&'24v'!$CC$4:$CC$302,0)),"Модель отсутствует")))))))))))} | O6: {=IF(B6="","",IFERROR(INDEX(БВ!$R$4:$R$302,MATCH(F6&H6,БВ!$I$4:$I$302&БВ!$K$4:$K$302,0)),"Модель отсутствует"))} | P6: =IF(B6="","",(N6+O6)) | S6: КРВ | T6: 90 | U6: 240 | V6: 650 | W6: 3 | X6: ТК
A7: 3 | L7: {=IF(B7="","",IFERROR(INDEX(БВ!$O$4:$O$302,MATCH(C7&D7&F7&H7&J7,БВ!$E$4:$E$302&БВ!$G$4:$G$302&БВ!$I$4:$I$302&БВ!$K$4:$K$302&БВ!$M$4:$M$302,0)),IFERROR(INDEX(БВ!$AF$4:$AF$302,MATCH(C7&D7&F7&H7&J7,БВ!#REF!&БВ!$X$4:$X$302&БВ!$Z$4:$Z$302&БВ!$AB$4:$AB$302&БВ!$AD$4:$AD$302,0)),IFERROR(INDEX(БВ!$AW$4:$AW$302,MATCH(C7&D7&F7&H7&J7,БВ!$AM$4:$AM$302&БВ!$AO$4:$AO$302&БВ!$AQ$4:$AQ$302&БВ!$AS$4:$AS$302&БВ!$AU$4:$AU$302,0)),IFERROR(INDEX(БВ!$BN$4:$BN$302,MATCH(C7&D7&F7&H7&J7,БВ!$BD$4:$BD$302&БВ!$BF$4:$BF$302&БВ!$BH$4:$BH$302&БВ!$BJ$4:$BJ$302&БВ!$BL$4:$BL$302,0)),IFERROR(INDEX(БВ!$CE$4:$CE$302,MATCH(C7&D7&F7&H7&J7,БВ!$BU$4:$BU$302&БВ!$BW$4:$BW$302&БВ!$BY$4:$BY$302&БВ!$CA$4:$CA$302&БВ!$CC$4:$CC$302,0)),IFERROR(INDEX('24v'!$O$4:$O$302,MATCH(C7&D7&F7&H7&J7,'24v'!$E$4:$E$302&'24v'!$G$4:$G$302&'24v'!$I$4:$I$302&'24v'!$K$4:$K$302&'24v'!$M$4:$M$302,0)),IFERROR(INDEX('24v'!$AF$4:$AF$302,MATCH(C7&D7&F7&H7&J7,'24v'!$V$4:$V$302&'24v'!$X$4:$X$302&'24v'!$Z$4:$Z$302&'24v'!$AB$4:$AB$302&'24v'!$AD$4:$AD$302,0)),IFERROR(INDEX('24v'!$AW$4:$AW$302,MATCH(C7&D7&F7&H7&J7,'24v'!$AM$4:$AM$302&'24v'!$AO$4:$AO$302&'24v'!$AQ$4:$AQ$302&'24v'!$AS$4:$AS$302&'24v'!$AU$4:$AU$302,0)),IFERROR(INDEX('24v'!$BN$4:$BN$302,MATCH(C7&D7&F7&H7&J7,'24v'!$BD$4:$BD$302&'24v'!$BF$4:$BF$302&'24v'!$BH$4:$BH$302&'24v'!$BJ$4:$BJ$302&'24v'!$BL$4:$BL$302,0)),IFERROR(INDEX('24v'!$CE$4:$CE$302,MATCH(C7&D7&F7&H7&J7,'24v'!$BU$4:$BU$302&'24v'!$BW$4:$BW$302&'24v'!$BY$4:$BY$302&'24v'!$CA$4:$CA$302&'24v'!$CC$4:$CC$302,0)),"Модель отсутствует")))))))))))} | M7: {=IF(B7="","",IFERROR(INDEX(БВ!$P$4:$P$302,MATCH(C7&D7&F7&H7&J7,БВ!$E$4:$E$302&БВ!$G$4:$G$302&БВ!$I$4:$I$302&БВ!$K$4:$K$302&БВ!$M$4:$M$302,0)),IFERROR(INDEX(БВ!$AG$4:$AG$302,MATCH(C7&D7&F7&H7&J7,БВ!#REF!&БВ!$X$4:$X$302&БВ!$Z$4:$Z$302&БВ!$AB$4:$AB$302&БВ!$AD$4:$AD$302,0)),IFERROR(INDEX(БВ!$AX$4:$AX$302,MATCH(C7&D7&F7&H7&J7,БВ!$AM$4:$AM$302&БВ!$AO$4:$AO$302&БВ!$AQ$4:$AQ$302&БВ!$AS$4:$AS$302&БВ!$AU$4:$AU$302,0)),IFERROR(INDEX(БВ!$BO$4:$BO$302,MATCH(C7&D7&F7&H7&J7,БВ!$BD$4:$BD$302&БВ!$BF$4:$BF$302&БВ!$BH$4:$BH$302&БВ!$BJ$4:$BJ$302&БВ!$BL$4:$BL$302,0)),IFERROR(INDEX(БВ!$CF$4:$CF$302,MATCH(C7&D7&F7&H7&J7,БВ!$BU$4:$BU$302&БВ!$BW$4:$BW$302&БВ!$BY$4:$BY$302&БВ!$CA$4:$CA$302&БВ!$CC$4:$CC$302,0)),IFERROR(INDEX('24v'!$P$4:$P$302,MATCH(C7&D7&F7&H7&J7,'24v'!$E$4:$E$302&'24v'!$G$4:$G$302&'24v'!$I$4:$I$302&'24v'!$K$4:$K$302&'24v'!$M$4:$M$302,0)),IFERROR(INDEX('24v'!$AG$4:$AG$302,MATCH(C7&D7&F7&H7&J7,'24v'!$V$4:$V$302&'24v'!$X$4:$X$302&'24v'!$Z$4:$Z$302&'24v'!$AB$4:$AB$302&'24v'!$AD$4:$AD$302,0)),IFERROR(INDEX('24v'!$AX$4:$AX$302,MATCH(C7&D7&F7&H7&J7,'24v'!$AM$4:$AM$302&'24v'!$AO$4:$AO$302&'24v'!$AQ$4:$AQ$302&'24v'!$AS$4:$AS$302&'24v'!$AU$4:$AU$302,0)),IFERROR(INDEX('24v'!$BO$4:$BO$302,MATCH(C7&D7&F7&H7&J7,'24v'!$BD$4:$BD$302&'24v'!$BF$4:$BF$302&'24v'!$BH$4:$BH$302&'24v'!$BJ$4:$BJ$302&'24v'!$BL$4:$BL$302,0)),IFERROR(INDEX('24v'!$CF$4:$CF$302,MATCH(C7&D7&F7&H7&J7,'24v'!$BU$4:$BU$302&'24v'!$BW$4:$BW$302&'24v'!$BY$4:$BY$302&'24v'!$CA$4:$CA$302&'24v'!$CC$4:$CC$302,0)),"Модель отсутствует")))))))))))} | N7: {=IF(B7="","",IFERROR(INDEX(БВ!$Q$4:$Q$302,MATCH(C7&D7&F7&H7&J7,БВ!$E$4:$E$302&БВ!$G$4:$G$302&БВ!$I$4:$I$302&БВ!$K$4:$K$302&БВ!$M$4:$M$302,0)),IFERROR(INDEX(БВ!$AH$4:$AH$302,MATCH(C7&D7&F7&H7&J7,БВ!#REF!&БВ!$X$4:$X$302&БВ!$Z$4:$Z$302&БВ!$AB$4:$AB$302&БВ!$AD$4:$AD$302,0)),IFERROR(INDEX(БВ!$AY$4:$AY$302,MATCH(C7&D7&F7&H7&J7,БВ!$AM$4:$AM$302&БВ!$AO$4:$AO$302&БВ!$AQ$4:$AQ$302&БВ!$AS$4:$AS$302&БВ!$AU$4:$AU$302,0)),IFERROR(INDEX(БВ!$BP$4:$BP$302,MATCH(C7&D7&F7&H7&J7,БВ!$BD$4:$BD$302&БВ!$BF$4:$BF$302&БВ!$BH$4:$BH$302&БВ!$BJ$4:$BJ$302&БВ!$BL$4:$BL$302,0)),IFERROR(INDEX(БВ!$CG$4:$CG$302,MATCH(C7&D7&F7&H7&J7,БВ!$BU$4:$BU$302&БВ!$BW$4:$BW$302&БВ!$BY$4:$BY$302&БВ!$CA$4:$CA$302&БВ!$CC$4:$CC$302,0)),IFERROR(INDEX('24v'!$Q$4:$Q$302,MATCH(C7&D7&F7&H7&J7,'24v'!$E$4:$E$302&'24v'!$G$4:$G$302&'24v'!$I$4:$I$302&'24v'!$K$4:$K$302&'24v'!$M$4:$M$302,0)),IFERROR(INDEX('24v'!$AH$4:$AH$302,MATCH(C7&D7&F7&H7&J7,'24v'!$V$4:$V$302&'24v'!$X$4:$X$302&'24v'!$Z$4:$Z$302&'24v'!$AB$4:$AB$302&'24v'!$AD$4:$AD$302,0)),IFERROR(INDEX('24v'!$AY$4:$AY$302,MATCH(C7&D7&F7&H7&J7,'24v'!$AM$4:$AM$302&'24v'!$AO$4:$AO$302&'24v'!$AQ$4:$AQ$302&'24v'!$AS$4:$AS$302&'24v'!$AU$4:$AU$302,0)),IFERROR(INDEX('24v'!$BP$4:$BP$302,MATCH(C7&D7&F7&H7&J7,'24v'!$BD$4:$BD$302&'24v'!$BF$4:$BF$302&'24v'!$BH$4:$BH$302&'24v'!$BJ$4:$BJ$302&'24v'!$BL$4:$BL$302,0)),IFERROR(INDEX('24v'!$CG$4:$CG$302,MATCH(C7&D7&F7&H7&J7,'24v'!$BU$4:$BU$302&'24v'!$BW$4:$BW$302&'24v'!$BY$4:$BY$302&'24v'!$CA$4:$CA$302&'24v'!$CC$4:$CC$302,0)),"Модель отсутствует")))))))))))} | O7: {=IF(B7="","",IFERROR(INDEX(БВ!$R$4:$R$302,MATCH(F7&H7,БВ!$I$4:$I$302&БВ!$K$4:$K$302,0)),"Модель отсутствует"))} | P7: =IF(B7="","",(N7+O7)) | T7: 110 | U7: 290 | V7: 700 | W7: 4 | X7: ТП
A8: 4 | L8: {=IF(B8="","",IFERROR(INDEX(БВ!$O$4:$O$302,MATCH(C8&D8&F8&H8&J8,БВ!$E$4:$E$302&БВ!$G$4:$G$302&БВ!$I$4:$I$302&БВ!$K$4:$K$302&БВ!$M$4:$M$302,0)),IFERROR(INDEX(БВ!$AF$4:$AF$302,MATCH(C8&D8&F8&H8&J8,БВ!#REF!&БВ!$X$4:$X$302&БВ!$Z$4:$Z$302&БВ!$AB$4:$AB$302&БВ!$AD$4:$AD$302,0)),IFERROR(INDEX(БВ!$AW$4:$AW$302,MATCH(C8&D8&F8&H8&J8,БВ!$AM$4:$AM$302&БВ!$AO$4:$AO$302&БВ!$AQ$4:$AQ$302&БВ!$AS$4:$AS$302&БВ!$AU$4:$AU$302,0)),IFERROR(INDEX(БВ!$BN$4:$BN$302,MATCH(C8&D8&F8&H8&J8,БВ!$BD$4:$BD$302&БВ!$BF$4:$BF$302&БВ!$BH$4:$BH$302&БВ!$BJ$4:$BJ$302&БВ!$BL$4:$BL$302,0)),IFERROR(INDEX(БВ!$CE$4:$CE$302,MATCH(C8&D8&F8&H8&J8,БВ!$BU$4:$BU$302&БВ!$BW$4:$BW$302&БВ!$BY$4:$BY$302&БВ!$CA$4:$CA$302&БВ!$CC$4:$CC$302,0)),IFERROR(INDEX('24v'!$O$4:$O$302,MATCH(C8&D8&F8&H8&J8,'24v'!$E$4:$E$302&'24v'!$G$4:$G$302&'24v'!$I$4:$I$302&'24v'!$K$4:$K$302&'24v'!$M$4:$M$302,0)),IFERROR(INDEX('24v'!$AF$4:$AF$302,MATCH(C8&D8&F8&H8&J8,'24v'!$V$4:$V$302&'24v'!$X$4:$X$302&'24v'!$Z$4:$Z$302&'24v'!$AB$4:$AB$302&'24v'!$AD$4:$AD$302,0)),IFERROR(INDEX('24v'!$AW$4:$AW$302,MATCH(C8&D8&F8&H8&J8,'24v'!$AM$4:$AM$302&'24v'!$AO$4:$AO$302&'24v'!$AQ$4:$AQ$302&'24v'!$AS$4:$AS$302&'24v'!$AU$4:$AU$302,0)),IFERROR(INDEX('24v'!$BN$4:$BN$302,MATCH(C8&D8&F8&H8&J8,'24v'!$BD$4:$BD$302&'24v'!$BF$4:$BF$302&'24v'!$BH$4:$BH$302&'24v'!$BJ$4:$BJ$302&'24v'!$BL$4:$BL$302,0)),IFERROR(INDEX('24v'!$CE$4:$CE$302,MATCH(C8&D8&F8&H8&J8,'24v'!$BU$4:$BU$302&'24v'!$BW$4:$BW$302&'24v'!$BY$4:$BY$302&'24v'!$CA$4:$CA$302&'24v'!$CC$4:$CC$302,0)),"Модель отсутствует")))))))))))} | M8: {=IF(B8="","",IFERROR(INDEX(БВ!$P$4:$P$302,MATCH(C8&D8&F8&H8&J8,БВ!$E$4:$E$302&БВ!$G$4:$G$302&БВ!$I$4:$I$302&БВ!$K$4:$K$302&БВ!$M$4:$M$302,0)),IFERROR(INDEX(БВ!$AG$4:$AG$302,MATCH(C8&D8&F8&H8&J8,БВ!#REF!&БВ!$X$4:$X$302&БВ!$Z$4:$Z$302&БВ!$AB$4:$AB$302&БВ!$AD$4:$AD$302,0)),IFERROR(INDEX(БВ!$AX$4:$AX$302,MATCH(C8&D8&F8&H8&J8,БВ!$AM$4:$AM$302&БВ!$AO$4:$AO$302&БВ!$AQ$4:$AQ$302&БВ!$AS$4:$AS$302&БВ!$AU$4:$AU$302,0)),IFERROR(INDEX(БВ!$BO$4:$BO$302,MATCH(C8&D8&F8&H8&J8,БВ!$BD$4:$BD$302&БВ!$BF$4:$BF$302&БВ!$BH$4:$BH$302&БВ!$BJ$4:$BJ$302&БВ!$BL$4:$BL$302,0)),IFERROR(INDEX(БВ!$CF$4:$CF$302,MATCH(C8&D8&F8&H8&J8,БВ!$BU$4:$BU$302&БВ!$BW$4:$BW$302&БВ!$BY$4:$BY$302&БВ!$CA$4:$CA$302&БВ!$CC$4:$CC$302,0)),IFERROR(INDEX('24v'!$P$4:$P$302,MATCH(C8&D8&F8&H8&J8,'24v'!$E$4:$E$302&'24v'!$G$4:$G$302&'24v'!$I$4:$I$302&'24v'!$K$4:$K$302&'24v'!$M$4:$M$302,0)),IFERROR(INDEX('24v'!$AG$4:$AG$302,MATCH(C8&D8&F8&H8&J8,'24v'!$V$4:$V$302&'24v'!$X$4:$X$302&'24v'!$Z$4:$Z$302&'24v'!$AB$4:$AB$302&'24v'!$AD$4:$AD$302,0)),IFERROR(INDEX('24v'!$AX$4:$AX$302,MATCH(C8&D8&F8&H8&J8,'24v'!$AM$4:$AM$302&'24v'!$AO$4:$AO$302&'24v'!$AQ$4:$AQ$302&'24v'!$AS$4:$AS$302&'24v'!$AU$4:$AU$302,0)),IFERROR(INDEX('24v'!$BO$4:$BO$302,MATCH(C8&D8&F8&H8&J8,'24v'!$BD$4:$BD$302&'24v'!$BF$4:$BF$302&'24v'!$BH$4:$BH$302&'24v'!$BJ$4:$BJ$302&'24v'!$BL$4:$BL$302,0)),IFERROR(INDEX('24v'!$CF$4:$CF$302,MATCH(C8&D8&F8&H8&J8,'24v'!$BU$4:$BU$302&'24v'!$BW$4:$BW$302&'24v'!$BY$4:$BY$302&'24v'!$CA$4:$CA$302&'24v'!$CC$4:$CC$302,0)),"Модель отсутствует")))))))))))} | N8: {=IF(B8="","",IFERROR(INDEX(БВ!$Q$4:$Q$302,MATCH(C8&D8&F8&H8&J8,БВ!$E$4:$E$302&БВ!$G$4:$G$302&БВ!$I$4:$I$302&БВ!$K$4:$K$302&БВ!$M$4:$M$302,0)),IFERROR(INDEX(БВ!$AH$4:$AH$302,MATCH(C8&D8&F8&H8&J8,БВ!#REF!&БВ!$X$4:$X$302&БВ!$Z$4:$Z$302&БВ!$AB$4:$AB$302&БВ!$AD$4:$AD$302,0)),IFERROR(INDEX(БВ!$AY$4:$AY$302,MATCH(C8&D8&F8&H8&J8,БВ!$AM$4:$AM$302&БВ!$AO$4:$AO$302&БВ!$AQ$4:$AQ$302&БВ!$AS$4:$AS$302&БВ!$AU$4:$AU$302,0)),IFERROR(INDEX(БВ!$BP$4:$BP$302,MATCH(C8&D8&F8&H8&J8,БВ!$BD$4:$BD$302&БВ!$BF$4:$BF$302&БВ!$BH$4:$BH$302&БВ!$BJ$4:$BJ$302&БВ!$BL$4:$BL$302,0)),IFERROR(INDEX(БВ!$CG$4:$CG$302,MATCH(C8&D8&F8&H8&J8,БВ!$BU$4:$BU$302&БВ!$BW$4:$BW$302&БВ!$BY$4:$BY$302&БВ!$CA$4:$CA$302&БВ!$CC$4:$CC$302,0)),IFERROR(INDEX('24v'!$Q$4:$Q$302,MATCH(C8&D8&F8&H8&J8,'24v'!$E$4:$E$302&'24v'!$G$4:$G$302&'24v'!$I$4:$I$302&'24v'!$K$4:$K$302&'24v'!$M$4:$M$302,0)),IFERROR(INDEX('24v'!$AH$4:$AH$302,MATCH(C8&D8&F8&H8&J8,'24v'!$V$4:$V$302&'24v'!$X$4:$X$302&'24v'!$Z$4:$Z$302&'24v'!$AB$4:$AB$302&'24v'!$AD$4:$AD$302,0)),IFERROR(INDEX('24v'!$AY$4:$AY$302,MATCH(C8&D8&F8&H8&J8,'24v'!$AM$4:$AM$302&'24v'!$AO$4:$AO$302&'24v'!$AQ$4:$AQ$302&'24v'!$AS$4:$AS$302&'24v'!$AU$4:$AU$302,0)),IFERROR(INDEX('24v'!$BP$4:$BP$302,MATCH(C8&D8&F8&H8&J8,'24v'!$BD$4:$BD$302&'24v'!$BF$4:$BF$302&'24v'!$BH$4:$BH$302&'24v'!$BJ$4:$BJ$302&'24v'!$BL$4:$BL$302,0)),IFERROR(INDEX('24v'!$CG$4:$CG$302,MATCH(C8&D8&F8&H8&J8,'24v'!$BU$4:$BU$302&'24v'!$BW$4:$BW$302&'24v'!$BY$4:$BY$302&'24v'!$CA$4:$CA$302&'24v'!$CC$4:$CC$302,0)),"Модель отсутствует")))))))))))} | O8: {=IF(B8="","",IFERROR(INDEX(БВ!$R$4:$R$302,MATCH(F8&H8,БВ!$I$4:$I$302&БВ!$K$4:$K$302,0)),"Модель отсутствует"))} | P8: =IF(B8="","",(N8+O8)) | T8: 140 | U8: 340 | V8: 750 | W8: 5
A9: 5 | L9: {=IF(B9="","",IFERROR(INDEX(БВ!$O$4:$O$302,MATCH(C9&D9&F9&H9&J9,БВ!$E$4:$E$302&БВ!$G$4:$G$302&БВ!$I$4:$I$302&БВ!$K$4:$K$302&БВ!$M$4:$M$302,0)),IFERROR(INDEX(БВ!$AF$4:$AF$302,MATCH(C9&D9&F9&H9&J9,БВ!#REF!&БВ!$X$4:$X$302&БВ!$Z$4:$Z$302&БВ!$AB$4:$AB$302&БВ!$AD$4:$AD$302,0)),IFERROR(INDEX(БВ!$AW$4:$AW$302,MATCH(C9&D9&F9&H9&J9,БВ!$AM$4:$AM$302&БВ!$AO$4:$AO$302&БВ!$AQ$4:$AQ$302&БВ!$AS$4:$AS$302&БВ!$AU$4:$AU$302,0)),IFERROR(INDEX(БВ!$BN$4:$BN$302,MATCH(C9&D9&F9&H9&J9,БВ!$BD$4:$BD$302&БВ!$BF$4:$BF$302&БВ!$BH$4:$BH$302&БВ!$BJ$4:$BJ$302&БВ!$BL$4:$BL$302,0)),IFERROR(INDEX(БВ!$CE$4:$CE$302,MATCH(C9&D9&F9&H9&J9,БВ!$BU$4:$BU$302&БВ!$BW$4:$BW$302&БВ!$BY$4:$BY$302&БВ!$CA$4:$CA$302&БВ!$CC$4:$CC$302,0)),IFERROR(INDEX('24v'!$O$4:$O$302,MATCH(C9&D9&F9&H9&J9,'24v'!$E$4:$E$302&'24v'!$G$4:$G$302&'24v'!$I$4:$I$302&'24v'!$K$4:$K$302&'24v'!$M$4:$M$302,0)),IFERROR(INDEX('24v'!$AF$4:$AF$302,MATCH(C9&D9&F9&H9&J9,'24v'!$V$4:$V$302&'24v'!$X$4:$X$302&'24v'!$Z$4:$Z$302&'24v'!$AB$4:$AB$302&'24v'!$AD$4:$AD$302,0)),IFERROR(INDEX('24v'!$AW$4:$AW$302,MATCH(C9&D9&F9&H9&J9,'24v'!$AM$4:$AM$302&'24v'!$AO$4:$AO$302&'24v'!$AQ$4:$AQ$302&'24v'!$AS$4:$AS$302&'24v'!$AU$4:$AU$302,0)),IFERROR(INDEX('24v'!$BN$4:$BN$302,MATCH(C9&D9&F9&H9&J9,'24v'!$BD$4:$BD$302&'24v'!$BF$4:$BF$302&'24v'!$BH$4:$BH$302&'24v'!$BJ$4:$BJ$302&'24v'!$BL$4:$BL$302,0)),IFERROR(INDEX('24v'!$CE$4:$CE$302,MATCH(C9&D9&F9&H9&J9,'24v'!$BU$4:$BU$302&'24v'!$BW$4:$BW$302&'24v'!$BY$4:$BY$302&'24v'!$CA$4:$CA$302&'24v'!$CC$4:$CC$302,0)),"Модель отсутствует")))))))))))} | M9: {=IF(B9="","",IFERROR(INDEX(БВ!$P$4:$P$302,MATCH(C9&D9&F9&H9&J9,БВ!$E$4:$E$302&БВ!$G$4:$G$302&БВ!$I$4:$I$302&БВ!$K$4:$K$302&БВ!$M$4:$M$302,0)),IFERROR(INDEX(БВ!$AG$4:$AG$302,MATCH(C9&D9&F9&H9&J9,БВ!#REF!&БВ!$X$4:$X$302&БВ!$Z$4:$Z$302&БВ!$AB$4:$AB$302&БВ!$AD$4:$AD$302,0)),IFERROR(INDEX(БВ!$AX$4:$AX$302,MATCH(C9&D9&F9&H9&J9,БВ!$AM$4:$AM$302&БВ!$AO$4:$AO$302&БВ!$AQ$4:$AQ$302&БВ!$AS$4:$AS$302&БВ!$AU$4:$AU$302,0)),IFERROR(INDEX(БВ!$BO$4:$BO$302,MATCH(C9&D9&F9&H9&J9,БВ!$BD$4:$BD$302&БВ!$BF$4:$BF$302&БВ!$BH$4:$BH$302&БВ!$BJ$4:$BJ$302&БВ!$BL$4:$BL$302,0)),IFERROR(INDEX(БВ!$CF$4:$CF$302,MATCH(C9&D9&F9&H9&J9,БВ!$BU$4:$BU$302&БВ!$BW$4:$BW$302&БВ!$BY$4:$BY$302&БВ!$CA$4:$CA$302&БВ!$CC$4:$CC$302,0)),IFERROR(INDEX('24v'!$P$4:$P$302,MATCH(C9&D9&F9&H9&J9,'24v'!$E$4:$E$302&'24v'!$G$4:$G$302&'24v'!$I$4:$I$302&'24v'!$K$4:$K$302&'24v'!$M$4:$M$302,0)),IFERROR(INDEX('24v'!$AG$4:$AG$302,MATCH(C9&D9&F9&H9&J9,'24v'!$V$4:$V$302&'24v'!$X$4:$X$302&'24v'!$Z$4:$Z$302&'24v'!$AB$4:$AB$302&'24v'!$AD$4:$AD$302,0)),IFERROR(INDEX('24v'!$AX$4:$AX$302,MATCH(C9&D9&F9&H9&J9,'24v'!$AM$4:$AM$302&'24v'!$AO$4:$AO$302&'24v'!$AQ$4:$AQ$302&'24v'!$AS$4:$AS$302&'24v'!$AU$4:$AU$302,0)),IFERROR(INDEX('24v'!$BO$4:$BO$302,MATCH(C9&D9&F9&H9&J9,'24v'!$BD$4:$BD$302&'24v'!$BF$4:$BF$302&'24v'!$BH$4:$BH$302&'24v'!$BJ$4:$BJ$302&'24v'!$BL$4:$BL$302,0)),IFERROR(INDEX('24v'!$CF$4:$CF$302,MATCH(C9&D9&F9&H9&J9,'24v'!$BU$4:$BU$302&'24v'!$BW$4:$BW$302&'24v'!$BY$4:$BY$302&'24v'!$CA$4:$CA$302&'24v'!$CC$4:$CC$302,0)),"Модель отсутствует")))))))))))} | N9: {=IF(B9="","",IFERROR(INDEX(БВ!$Q$4:$Q$302,MATCH(C9&D9&F9&H9&J9,БВ!$E$4:$E$302&БВ!$G$4:$G$302&БВ!$I$4:$I$302&БВ!$K$4:$K$302&БВ!$M$4:$M$302,0)),IFERROR(INDEX(БВ!$AH$4:$AH$302,MATCH(C9&D9&F9&H9&J9,БВ!#REF!&БВ!$X$4:$X$302&БВ!$Z$4:$Z$302&БВ!$AB$4:$AB$302&БВ!$AD$4:$AD$302,0)),IFERROR(INDEX(БВ!$AY$4:$AY$302,MATCH(C9&D9&F9&H9&J9,БВ!$AM$4:$AM$302&БВ!$AO$4:$AO$302&БВ!$AQ$4:$AQ$302&БВ!$AS$4:$AS$302&БВ!$AU$4:$AU$302,0)),IFERROR(INDEX(БВ!$BP$4:$BP$302,MATCH(C9&D9&F9&H9&J9,БВ!$BD$4:$BD$302&БВ!$BF$4:$BF$302&БВ!$BH$4:$BH$302&БВ!$BJ$4:$BJ$302&БВ!$BL$4:$BL$302,0)),IFERROR(INDEX(БВ!$CG$4:$CG$302,MATCH(C9&D9&F9&H9&J9,БВ!$BU$4:$BU$302&БВ!$BW$4:$BW$302&БВ!$BY$4:$BY$302&БВ!$CA$4:$CA$302&БВ!$CC$4:$CC$302,0)),IFERROR(INDEX('24v'!$Q$4:$Q$302,MATCH(C9&D9&F9&H9&J9,'24v'!$E$4:$E$302&'24v'!$G$4:$G$302&'24v'!$I$4:$I$302&'24v'!$K$4:$K$302&'24v'!$M$4:$M$302,0)),IFERROR(INDEX('24v'!$AH$4:$AH$302,MATCH(C9&D9&F9&H9&J9,'24v'!$V$4:$V$302&'24v'!$X$4:$X$302&'24v'!$Z$4:$Z$302&'24v'!$AB$4:$AB$302&'24v'!$AD$4:$AD$302,0)),IFERROR(INDEX('24v'!$AY$4:$AY$302,MATCH(C9&D9&F9&H9&J9,'24v'!$AM$4:$AM$302&'24v'!$AO$4:$AO$302&'24v'!$AQ$4:$AQ$302&'24v'!$AS$4:$AS$302&'24v'!$AU$4:$AU$302,0)),IFERROR(INDEX('24v'!$BP$4:$BP$302,MATCH(C9&D9&F9&H9&J9,'24v'!$BD$4:$BD$302&'24v'!$BF$4:$BF$302&'24v'!$BH$4:$BH$302&'24v'!$BJ$4:$BJ$302&'24v'!$BL$4:$BL$302,0)),IFERROR(INDEX('24v'!$CG$4:$CG$302,MATCH(C9&D9&F9&H9&J9,'24v'!$BU$4:$BU$302&'24v'!$BW$4:$BW$302&'24v'!$BY$4:$BY$302&'24v'!$CA$4:$CA$302&'24v'!$CC$4:$CC$302,0)),"Модель отсутствует")))))))))))} | O9: {=IF(B9="","",IFERROR(INDEX(БВ!$R$4:$R$302,MATCH(F9&H9,БВ!$I$4:$I$302&БВ!$K$4:$K$302,0)),"Модель отсутствует"))} | P9: =IF(B9="","",(N9+O9)) | T9: 180 | U9: 380 | V9: 800 | W9: 6
A10: 6 | L10: {=IF(B10="","",IFERROR(INDEX(БВ!$O$4:$O$302,MATCH(C10&D10&F10&H10&J10,БВ!$E$4:$E$302&БВ!$G$4:$G$302&БВ!$I$4:$I$302&БВ!$K$4:$K$302&БВ!$M$4:$M$302,0)),IFERROR(INDEX(БВ!$AF$4:$AF$302,MATCH(C10&D10&F10&H10&J10,БВ!#REF!&БВ!$X$4:$X$302&БВ!$Z$4:$Z$302&БВ!$AB$4:$AB$302&БВ!$AD$4:$AD$302,0)),IFERROR(INDEX(БВ!$AW$4:$AW$302,MATCH(C10&D10&F10&H10&J10,БВ!$AM$4:$AM$302&БВ!$AO$4:$AO$302&БВ!$AQ$4:$AQ$302&БВ!$AS$4:$AS$302&БВ!$AU$4:$AU$302,0)),IFERROR(INDEX(БВ!$BN$4:$BN$302,MATCH(C10&D10&F10&H10&J10,БВ!$BD$4:$BD$302&БВ!$BF$4:$BF$302&БВ!$BH$4:$BH$302&БВ!$BJ$4:$BJ$302&БВ!$BL$4:$BL$302,0)),IFERROR(INDEX(БВ!$CE$4:$CE$302,MATCH(C10&D10&F10&H10&J10,БВ!$BU$4:$BU$302&БВ!$BW$4:$BW$302&БВ!$BY$4:$BY$302&БВ!$CA$4:$CA$302&БВ!$CC$4:$CC$302,0)),IFERROR(INDEX('24v'!$O$4:$O$302,MATCH(C10&D10&F10&H10&J10,'24v'!$E$4:$E$302&'24v'!$G$4:$G$302&'24v'!$I$4:$I$302&'24v'!$K$4:$K$302&'24v'!$M$4:$M$302,0)),IFERROR(INDEX('24v'!$AF$4:$AF$302,MATCH(C10&D10&F10&H10&J10,'24v'!$V$4:$V$302&'24v'!$X$4:$X$302&'24v'!$Z$4:$Z$302&'24v'!$AB$4:$AB$302&'24v'!$AD$4:$AD$302,0)),IFERROR(INDEX('24v'!$AW$4:$AW$302,MATCH(C10&D10&F10&H10&J10,'24v'!$AM$4:$AM$302&'24v'!$AO$4:$AO$302&'24v'!$AQ$4:$AQ$302&'24v'!$AS$4:$AS$302&'24v'!$AU$4:$AU$302,0)),IFERROR(INDEX('24v'!$BN$4:$BN$302,MATCH(C10&D10&F10&H10&J10,'24v'!$BD$4:$BD$302&'24v'!$BF$4:$BF$302&'24v'!$BH$4:$BH$302&'24v'!$BJ$4:$BJ$302&'24v'!$BL$4:$BL$302,0)),IFERROR(INDEX('24v'!$CE$4:$CE$302,MATCH(C10&D10&F10&H10&J10,'24v'!$BU$4:$BU$302&'24v'!$BW$4:$BW$302&'24v'!$BY$4:$BY$302&'24v'!$CA$4:$CA$302&'24v'!$CC$4:$CC$302,0)),"Модель отсутствует")))))))))))} | M10: {=IF(B10="","",IFERROR(INDEX(БВ!$P$4:$P$302,MATCH(C10&D10&F10&H10&J10,БВ!$E$4:$E$302&БВ!$G$4:$G$302&БВ!$I$4:$I$302&БВ!$K$4:$K$302&БВ!$M$4:$M$302,0)),IFERROR(INDEX(БВ!$AG$4:$AG$302,MATCH(C10&D10&F10&H10&J10,БВ!#REF!&БВ!$X$4:$X$302&БВ!$Z$4:$Z$302&БВ!$AB$4:$AB$302&БВ!$AD$4:$AD$302,0)),IFERROR(INDEX(БВ!$AX$4:$AX$302,MATCH(C10&D10&F10&H10&J10,БВ!$AM$4:$AM$302&БВ!$AO$4:$AO$302&БВ!$AQ$4:$AQ$302&БВ!$AS$4:$AS$302&БВ!$AU$4:$AU$302,0)),IFERROR(INDEX(БВ!$BO$4:$BO$302,MATCH(C10&D10&F10&H10&J10,БВ!$BD$4:$BD$302&БВ!$BF$4:$BF$302&БВ!$BH$4:$BH$302&БВ!$BJ$4:$BJ$302&БВ!$BL$4:$BL$302,0)),IFERROR(INDEX(БВ!$CF$4:$CF$302,MATCH(C10&D10&F10&H10&J10,БВ!$BU$4:$BU$302&БВ!$BW$4:$BW$302&БВ!$BY$4:$BY$302&БВ!$CA$4:$CA$302&БВ!$CC$4:$CC$302,0)),IFERROR(INDEX('24v'!$P$4:$P$302,MATCH(C10&D10&F10&H10&J10,'24v'!$E$4:$E$302&'24v'!$G$4:$G$302&'24v'!$I$4:$I$302&'24v'!$K$4:$K$302&'24v'!$M$4:$M$302,0)),IFERROR(INDEX('24v'!$AG$4:$AG$302,MATCH(C10&D10&F10&H10&J10,'24v'!$V$4:$V$302&'24v'!$X$4:$X$302&'24v'!$Z$4:$Z$302&'24v'!$AB$4:$AB$302&'24v'!$AD$4:$AD$302,0)),IFERROR(INDEX('24v'!$AX$4:$AX$302,MATCH(C10&D10&F10&H10&J10,'24v'!$AM$4:$AM$302&'24v'!$AO$4:$AO$302&'24v'!$AQ$4:$AQ$302&'24v'!$AS$4:$AS$302&'24v'!$AU$4:$AU$302,0)),IFERROR(INDEX('24v'!$BO$4:$BO$302,MATCH(C10&D10&F10&H10&J10,'24v'!$BD$4:$BD$302&'24v'!$BF$4:$BF$302&'24v'!$BH$4:$BH$302&'24v'!$BJ$4:$BJ$302&'24v'!$BL$4:$BL$302,0)),IFERROR(INDEX('24v'!$CF$4:$CF$302,MATCH(C10&D10&F10&H10&J10,'24v'!$BU$4:$BU$302&'24v'!$BW$4:$BW$302&'24v'!$BY$4:$BY$302&'24v'!$CA$4:$CA$302&'24v'!$CC$4:$CC$302,0)),"Модель отсутствует")))))))))))} | N10: {=IF(B10="","",IFERROR(INDEX(БВ!$Q$4:$Q$302,MATCH(C10&D10&F10&H10&J10,БВ!$E$4:$E$302&БВ!$G$4:$G$302&БВ!$I$4:$I$302&БВ!$K$4:$K$302&БВ!$M$4:$M$302,0)),IFERROR(INDEX(БВ!$AH$4:$AH$302,MATCH(C10&D10&F10&H10&J10,БВ!#REF!&БВ!$X$4:$X$302&БВ!$Z$4:$Z$302&БВ!$AB$4:$AB$302&БВ!$AD$4:$AD$302,0)),IFERROR(INDEX(БВ!$AY$4:$AY$302,MATCH(C10&D10&F10&H10&J10,БВ!$AM$4:$AM$302&БВ!$AO$4:$AO$302&БВ!$AQ$4:$AQ$302&БВ!$AS$4:$AS$302&БВ!$AU$4:$AU$302,0)),IFERROR(INDEX(БВ!$BP$4:$BP$302,MATCH(C10&D10&F10&H10&J10,БВ!$BD$4:$BD$302&БВ!$BF$4:$BF$302&БВ!$BH$4:$BH$302&БВ!$BJ$4:$BJ$302&БВ!$BL$4:$BL$302,0)),IFERROR(INDEX(БВ!$CG$4:$CG$302,MATCH(C10&D10&F10&H10&J10,БВ!$BU$4:$BU$302&БВ!$BW$4:$BW$302&БВ!$BY$4:$BY$302&БВ!$CA$4:$CA$302&БВ!$CC$4:$CC$302,0)),IFERROR(INDEX('24v'!$Q$4:$Q$302,MATCH(C10&D10&F10&H10&J10,'24v'!$E$4:$E$302&'24v'!$G$4:$G$302&'24v'!$I$4:$I$302&'24v'!$K$4:$K$302&'24v'!$M$4:$M$302,0)),IFERROR(INDEX('24v'!$AH$4:$AH$302,MATCH(C10&D10&F10&H10&J10,'24v'!$V$4:$V$302&'24v'!$X$4:$X$302&'24v'!$Z$4:$Z$302&'24v'!$AB$4:$AB$302&'24v'!$AD$4:$AD$302,0)),IFERROR(INDEX('24v'!$AY$4:$AY$302,MATCH(C10&D10&F10&H10&J10,'24v'!$AM$4:$AM$302&'24v'!$AO$4:$AO$302&'24v'!$AQ$4:$AQ$302&'24v'!$AS$4:$AS$302&'24v'!$AU$4:$AU$302,0)),IFERROR(INDEX('24v'!$BP$4:$BP$302,MATCH(C10&D10&F10&H10&J10,'24v'!$BD$4:$BD$302&'24v'!$BF$4:$BF$302&'24v'!$BH$4:$BH$302&'24v'!$BJ$4:$BJ$302&'24v'!$BL$4:$BL$302,0)),IFERROR(INDEX('24v'!$CG$4:$CG$302,MATCH(C10&D10&F10&H10&J10,'24v'!$BU$4:$BU$302&'24v'!$BW$4:$BW$302&'24v'!$BY$4:$BY$302&'24v'!$CA$4:$CA$302&'24v'!$CC$4:$CC$302,0)),"Модель отсутствует")))))))))))} | O10: {=IF(B10="","",IFERROR(INDEX(БВ!$R$4:$R$302,MATCH(F10&H10,БВ!$I$4:$I$302&БВ!$K$4:$K$302,0)),"Модель отсутствует"))} | P10: =IF(B10="","",(N10+O10)) | U10: 420 | V10: 850 | W10: 8
A11: 7 | L11: {=IF(B11="","",IFERROR(INDEX(БВ!$O$4:$O$302,MATCH(C11&D11&F11&H11&J11,БВ!$E$4:$E$302&БВ!$G$4:$G$302&БВ!$I$4:$I$302&БВ!$K$4:$K$302&БВ!$M$4:$M$302,0)),IFERROR(INDEX(БВ!$AF$4:$AF$302,MATCH(C11&D11&F11&H11&J11,БВ!#REF!&БВ!$X$4:$X$302&БВ!$Z$4:$Z$302&БВ!$AB$4:$AB$302&БВ!$AD$4:$AD$302,0)),IFERROR(INDEX(БВ!$AW$4:$AW$302,MATCH(C11&D11&F11&H11&J11,БВ!$AM$4:$AM$302&БВ!$AO$4:$AO$302&БВ!$AQ$4:$AQ$302&БВ!$AS$4:$AS$302&БВ!$AU$4:$AU$302,0)),IFERROR(INDEX(БВ!$BN$4:$BN$302,MATCH(C11&D11&F11&H11&J11,БВ!$BD$4:$BD$302&БВ!$BF$4:$BF$302&БВ!$BH$4:$BH$302&БВ!$BJ$4:$BJ$302&БВ!$BL$4:$BL$302,0)),IFERROR(INDEX(БВ!$CE$4:$CE$302,MATCH(C11&D11&F11&H11&J11,БВ!$BU$4:$BU$302&БВ!$BW$4:$BW$302&БВ!$BY$4:$BY$302&БВ!$CA$4:$CA$302&БВ!$CC$4:$CC$302,0)),IFERROR(INDEX('24v'!$O$4:$O$302,MATCH(C11&D11&F11&H11&J11,'24v'!$E$4:$E$302&'24v'!$G$4:$G$302&'24v'!$I$4:$I$302&'24v'!$K$4:$K$302&'24v'!$M$4:$M$302,0)),IFERROR(INDEX('24v'!$AF$4:$AF$302,MATCH(C11&D11&F11&H11&J11,'24v'!$V$4:$V$302&'24v'!$X$4:$X$302&'24v'!$Z$4:$Z$302&'24v'!$AB$4:$AB$302&'24v'!$AD$4:$AD$302,0)),IFERROR(INDEX('24v'!$AW$4:$AW$302,MATCH(C11&D11&F11&H11&J11,'24v'!$AM$4:$AM$302&'24v'!$AO$4:$AO$302&'24v'!$AQ$4:$AQ$302&'24v'!$AS$4:$AS$302&'24v'!$AU$4:$AU$302,0)),IFERROR(INDEX('24v'!$BN$4:$BN$302,MATCH(C11&D11&F11&H11&J11,'24v'!$BD$4:$BD$302&'24v'!$BF$4:$BF$302&'24v'!$BH$4:$BH$302&'24v'!$BJ$4:$BJ$302&'24v'!$BL$4:$BL$302,0)),IFERROR(INDEX('24v'!$CE$4:$CE$302,MATCH(C11&D11&F11&H11&J11,'24v'!$BU$4:$BU$302&'24v'!$BW$4:$BW$302&'24v'!$BY$4:$BY$302&'24v'!$CA$4:$CA$302&'24v'!$CC$4:$CC$302,0)),"Модель отсутствует")))))))))))} | M11: {=IF(B11="","",IFERROR(INDEX(БВ!$P$4:$P$302,MATCH(C11&D11&F11&H11&J11,БВ!$E$4:$E$302&БВ!$G$4:$G$302&БВ!$I$4:$I$302&БВ!$K$4:$K$302&БВ!$M$4:$M$302,0)),IFERROR(INDEX(БВ!$AG$4:$AG$302,MATCH(C11&D11&F11&H11&J11,БВ!#REF!&БВ!$X$4:$X$302&БВ!$Z$4:$Z$302&БВ!$AB$4:$AB$302&БВ!$AD$4:$AD$302,0)),IFERROR(INDEX(БВ!$AX$4:$AX$302,MATCH(C11&D11&F11&H11&J11,БВ!$AM$4:$AM$302&БВ!$AO$4:$AO$302&БВ!$AQ$4:$AQ$302&БВ!$AS$4:$AS$302&БВ!$AU$4:$AU$302,0)),IFERROR(INDEX(БВ!$BO$4:$BO$302,MATCH(C11&D11&F11&H11&J11,БВ!$BD$4:$BD$302&БВ!$BF$4:$BF$302&БВ!$BH$4:$BH$302&БВ!$BJ$4:$BJ$302&БВ!$BL$4:$BL$302,0)),IFERROR(INDEX(БВ!$CF$4:$CF$302,MATCH(C11&D11&F11&H11&J11,БВ!$BU$4:$BU$302&БВ!$BW$4:$BW$302&БВ!$BY$4:$BY$302&БВ!$CA$4:$CA$302&БВ!$CC$4:$CC$302,0)),IFERROR(INDEX('24v'!$P$4:$P$302,MATCH(C11&D11&F11&H11&J11,'24v'!$E$4:$E$302&'24v'!$G$4:$G$302&'24v'!$I$4:$I$302&'24v'!$K$4:$K$302&'24v'!$M$4:$M$302,0)),IFERROR(INDEX('24v'!$AG$4:$AG$302,MATCH(C11&D11&F11&H11&J11,'24v'!$V$4:$V$302&'24v'!$X$4:$X$302&'24v'!$Z$4:$Z$302&'24v'!$AB$4:$AB$302&'24v'!$AD$4:$AD$302,0)),IFERROR(INDEX('24v'!$AX$4:$AX$302,MATCH(C11&D11&F11&H11&J11,'24v'!$AM$4:$AM$302&'24v'!$AO$4:$AO$302&'24v'!$AQ$4:$AQ$302&'24v'!$AS$4:$AS$302&'24v'!$AU$4:$AU$302,0)),IFERROR(INDEX('24v'!$BO$4:$BO$302,MATCH(C11&D11&F11&H11&J11,'24v'!$BD$4:$BD$302&'24v'!$BF$4:$BF$302&'24v'!$BH$4:$BH$302&'24v'!$BJ$4:$BJ$302&'24v'!$BL$4:$BL$302,0)),IFERROR(INDEX('24v'!$CF$4:$CF$302,MATCH(C11&D11&F11&H11&J11,'24v'!$BU$4:$BU$302&'24v'!$BW$4:$BW$302&'24v'!$BY$4:$BY$302&'24v'!$CA$4:$CA$302&'24v'!$CC$4:$CC$302,0)),"Модель отсутствует")))))))))))} | N11: {=IF(B11="","",IFERROR(INDEX(БВ!$Q$4:$Q$302,MATCH(C11&D11&F11&H11&J11,БВ!$E$4:$E$302&БВ!$G$4:$G$302&БВ!$I$4:$I$302&БВ!$K$4:$K$302&БВ!$M$4:$M$302,0)),IFERROR(INDEX(БВ!$AH$4:$AH$302,MATCH(C11&D11&F11&H11&J11,БВ!#REF!&БВ!$X$4:$X$302&БВ!$Z$4:$Z$302&БВ!$AB$4:$AB$302&БВ!$AD$4:$AD$302,0)),IFERROR(INDEX(БВ!$AY$4:$AY$302,MATCH(C11&D11&F11&H11&J11,БВ!$AM$4:$AM$302&БВ!$AO$4:$AO$302&БВ!$AQ$4:$AQ$302&БВ!$AS$4:$AS$302&БВ!$AU$4:$AU$302,0)),IFERROR(INDEX(БВ!$BP$4:$BP$302,MATCH(C11&D11&F11&H11&J11,БВ!$BD$4:$BD$302&БВ!$BF$4:$BF$302&БВ!$BH$4:$BH$302&БВ!$BJ$4:$BJ$302&БВ!$BL$4:$BL$302,0)),IFERROR(INDEX(БВ!$CG$4:$CG$302,MATCH(C11&D11&F11&H11&J11,БВ!$BU$4:$BU$302&БВ!$BW$4:$BW$302&БВ!$BY$4:$BY$302&БВ!$CA$4:$CA$302&БВ!$CC$4:$CC$302,0)),IFERROR(INDEX('24v'!$Q$4:$Q$302,MATCH(C11&D11&F11&H11&J11,'24v'!$E$4:$E$302&'24v'!$G$4:$G$302&'24v'!$I$4:$I$302&'24v'!$K$4:$K$302&'24v'!$M$4:$M$302,0)),IFERROR(INDEX('24v'!$AH$4:$AH$302,MATCH(C11&D11&F11&H11&J11,'24v'!$V$4:$V$302&'24v'!$X$4:$X$302&'24v'!$Z$4:$Z$302&'24v'!$AB$4:$AB$302&'24v'!$AD$4:$AD$302,0)),IFERROR(INDEX('24v'!$AY$4:$AY$302,MATCH(C11&D11&F11&H11&J11,'24v'!$AM$4:$AM$302&'24v'!$AO$4:$AO$302&'24v'!$AQ$4:$AQ$302&'24v'!$AS$4:$AS$302&'24v'!$AU$4:$AU$302,0)),IFERROR(INDEX('24v'!$BP$4:$BP$302,MATCH(C11&D11&F11&H11&J11,'24v'!$BD$4:$BD$302&'24v'!$BF$4:$BF$302&'24v'!$BH$4:$BH$302&'24v'!$BJ$4:$BJ$302&'24v'!$BL$4:$BL$302,0)),IFERROR(INDEX('24v'!$CG$4:$CG$302,MATCH(C11&D11&F11&H11&J11,'24v'!$BU$4:$BU$302&'24v'!$BW$4:$BW$302&'24v'!$BY$4:$BY$302&'24v'!$CA$4:$CA$302&'24v'!$CC$4:$CC$302,0)),"Модель отсутствует")))))))))))} | O11: {=IF(B11="","",IFERROR(INDEX(БВ!$R$4:$R$302,MATCH(F11&H11,БВ!$I$4:$I$302&БВ!$K$4:$K$302,0)),"Модель отсутствует"))} | P11: =IF(B11="","",(N11+O11)) | V11: 900 | W11: 10
A12: 8 | L12: {=IF(B12="","",IFERROR(INDEX(БВ!$O$4:$O$302,MATCH(C12&D12&F12&H12&J12,БВ!$E$4:$E$302&БВ!$G$4:$G$302&БВ!$I$4:$I$302&БВ!$K$4:$K$302&БВ!$M$4:$M$302,0)),IFERROR(INDEX(БВ!$AF$4:$AF$302,MATCH(C12&D12&F12&H12&J12,БВ!#REF!&БВ!$X$4:$X$302&БВ!$Z$4:$Z$302&БВ!$AB$4:$AB$302&БВ!$AD$4:$AD$302,0)),IFERROR(INDEX(БВ!$AW$4:$AW$302,MATCH(C12&D12&F12&H12&J12,БВ!$AM$4:$AM$302&БВ!$AO$4:$AO$302&БВ!$AQ$4:$AQ$302&БВ!$AS$4:$AS$302&БВ!$AU$4:$AU$302,0)),IFERROR(INDEX(БВ!$BN$4:$BN$302,MATCH(C12&D12&F12&H12&J12,БВ!$BD$4:$BD$302&БВ!$BF$4:$BF$302&БВ!$BH$4:$BH$302&БВ!$BJ$4:$BJ$302&БВ!$BL$4:$BL$302,0)),IFERROR(INDEX(БВ!$CE$4:$CE$302,MATCH(C12&D12&F12&H12&J12,БВ!$BU$4:$BU$302&БВ!$BW$4:$BW$302&БВ!$BY$4:$BY$302&БВ!$CA$4:$CA$302&БВ!$CC$4:$CC$302,0)),IFERROR(INDEX('24v'!$O$4:$O$302,MATCH(C12&D12&F12&H12&J12,'24v'!$E$4:$E$302&'24v'!$G$4:$G$302&'24v'!$I$4:$I$302&'24v'!$K$4:$K$302&'24v'!$M$4:$M$302,0)),IFERROR(INDEX('24v'!$AF$4:$AF$302,MATCH(C12&D12&F12&H12&J12,'24v'!$V$4:$V$302&'24v'!$X$4:$X$302&'24v'!$Z$4:$Z$302&'24v'!$AB$4:$AB$302&'24v'!$AD$4:$AD$302,0)),IFERROR(INDEX('24v'!$AW$4:$AW$302,MATCH(C12&D12&F12&H12&J12,'24v'!$AM$4:$AM$302&'24v'!$AO$4:$AO$302&'24v'!$AQ$4:$AQ$302&'24v'!$AS$4:$AS$302&'24v'!$AU$4:$AU$302,0)),IFERROR(INDEX('24v'!$BN$4:$BN$302,MATCH(C12&D12&F12&H12&J12,'24v'!$BD$4:$BD$302&'24v'!$BF$4:$BF$302&'24v'!$BH$4:$BH$302&'24v'!$BJ$4:$BJ$302&'24v'!$BL$4:$BL$302,0)),IFERROR(INDEX('24v'!$CE$4:$CE$302,MATCH(C12&D12&F12&H12&J12,'24v'!$BU$4:$BU$302&'24v'!$BW$4:$BW$302&'24v'!$BY$4:$BY$302&'24v'!$CA$4:$CA$302&'24v'!$CC$4:$CC$302,0)),"Модель отсутствует")))))))))))} | M12: {=IF(B12="","",IFERROR(INDEX(БВ!$P$4:$P$302,MATCH(C12&D12&F12&H12&J12,БВ!$E$4:$E$302&БВ!$G$4:$G$302&БВ!$I$4:$I$302&БВ!$K$4:$K$302&БВ!$M$4:$M$302,0)),IFERROR(INDEX(БВ!$AG$4:$AG$302,MATCH(C12&D12&F12&H12&J12,БВ!#REF!&БВ!$X$4:$X$302&БВ!$Z$4:$Z$302&БВ!$AB$4:$AB$302&БВ!$AD$4:$AD$302,0)),IFERROR(INDEX(БВ!$AX$4:$AX$302,MATCH(C12&D12&F12&H12&J12,БВ!$AM$4:$AM$302&БВ!$AO$4:$AO$302&БВ!$AQ$4:$AQ$302&БВ!$AS$4:$AS$302&БВ!$AU$4:$AU$302,0)),IFERROR(INDEX(БВ!$BO$4:$BO$302,MATCH(C12&D12&F12&H12&J12,БВ!$BD$4:$BD$302&БВ!$BF$4:$BF$302&БВ!$BH$4:$BH$302&БВ!$BJ$4:$BJ$302&БВ!$BL$4:$BL$302,0)),IFERROR(INDEX(БВ!$CF$4:$CF$302,MATCH(C12&D12&F12&H12&J12,БВ!$BU$4:$BU$302&БВ!$BW$4:$BW$302&БВ!$BY$4:$BY$302&БВ!$CA$4:$CA$302&БВ!$CC$4:$CC$302,0)),IFERROR(INDEX('24v'!$P$4:$P$302,MATCH(C12&D12&F12&H12&J12,'24v'!$E$4:$E$302&'24v'!$G$4:$G$302&'24v'!$I$4:$I$302&'24v'!$K$4:$K$302&'24v'!$M$4:$M$302,0)),IFERROR(INDEX('24v'!$AG$4:$AG$302,MATCH(C12&D12&F12&H12&J12,'24v'!$V$4:$V$302&'24v'!$X$4:$X$302&'24v'!$Z$4:$Z$302&'24v'!$AB$4:$AB$302&'24v'!$AD$4:$AD$302,0)),IFERROR(INDEX('24v'!$AX$4:$AX$302,MATCH(C12&D12&F12&H12&J12,'24v'!$AM$4:$AM$302&'24v'!$AO$4:$AO$302&'24v'!$AQ$4:$AQ$302&'24v'!$AS$4:$AS$302&'24v'!$AU$4:$AU$302,0)),IFERROR(INDEX('24v'!$BO$4:$BO$302,MATCH(C12&D12&F12&H12&J12,'24v'!$BD$4:$BD$302&'24v'!$BF$4:$BF$302&'24v'!$BH$4:$BH$302&'24v'!$BJ$4:$BJ$302&'24v'!$BL$4:$BL$302,0)),IFERROR(INDEX('24v'!$CF$4:$CF$302,MATCH(C12&D12&F12&H12&J12,'24v'!$BU$4:$BU$302&'24v'!$BW$4:$BW$302&'24v'!$BY$4:$BY$302&'24v'!$CA$4:$CA$302&'24v'!$CC$4:$CC$302,0)),"Модель отсутствует")))))))))))} | N12: {=IF(B12="","",IFERROR(INDEX(БВ!$Q$4:$Q$302,MATCH(C12&D12&F12&H12&J12,БВ!$E$4:$E$302&БВ!$G$4:$G$302&БВ!$I$4:$I$302&БВ!$K$4:$K$302&БВ!$M$4:$M$302,0)),IFERROR(INDEX(БВ!$AH$4:$AH$302,MATCH(C12&D12&F12&H12&J12,БВ!#REF!&БВ!$X$4:$X$302&БВ!$Z$4:$Z$302&БВ!$AB$4:$AB$302&БВ!$AD$4:$AD$302,0)),IFERROR(INDEX(БВ!$AY$4:$AY$302,MATCH(C12&D12&F12&H12&J12,БВ!$AM$4:$AM$302&БВ!$AO$4:$AO$302&БВ!$AQ$4:$AQ$302&БВ!$AS$4:$AS$302&БВ!$AU$4:$AU$302,0)),IFERROR(INDEX(БВ!$BP$4:$BP$302,MATCH(C12&D12&F12&H12&J12,БВ!$BD$4:$BD$302&БВ!$BF$4:$BF$302&БВ!$BH$4:$BH$302&БВ!$BJ$4:$BJ$302&БВ!$BL$4:$BL$302,0)),IFERROR(INDEX(БВ!$CG$4:$CG$302,MATCH(C12&D12&F12&H12&J12,БВ!$BU$4:$BU$302&БВ!$BW$4:$BW$302&БВ!$BY$4:$BY$302&БВ!$CA$4:$CA$302&БВ!$CC$4:$CC$302,0)),IFERROR(INDEX('24v'!$Q$4:$Q$302,MATCH(C12&D12&F12&H12&J12,'24v'!$E$4:$E$302&'24v'!$G$4:$G$302&'24v'!$I$4:$I$302&'24v'!$K$4:$K$302&'24v'!$M$4:$M$302,0)),IFERROR(INDEX('24v'!$AH$4:$AH$302,MATCH(C12&D12&F12&H12&J12,'24v'!$V$4:$V$302&'24v'!$X$4:$X$302&'24v'!$Z$4:$Z$302&'24v'!$AB$4:$AB$302&'24v'!$AD$4:$AD$302,0)),IFERROR(INDEX('24v'!$AY$4:$AY$302,MATCH(C12&D12&F12&H12&J12,'24v'!$AM$4:$AM$302&'24v'!$AO$4:$AO$302&'24v'!$AQ$4:$AQ$302&'24v'!$AS$4:$AS$302&'24v'!$AU$4:$AU$302,0)),IFERROR(INDEX('24v'!$BP$4:$BP$302,MATCH(C12&D12&F12&H12&J12,'24v'!$BD$4:$BD$302&'24v'!$BF$4:$BF$302&'24v'!$BH$4:$BH$302&'24v'!$BJ$4:$BJ$302&'24v'!$BL$4:$BL$302,0)),IFERROR(INDEX('24v'!$CG$4:$CG$302,MATCH(C12&D12&F12&H12&J12,'24v'!$BU$4:$BU$302&'24v'!$BW$4:$BW$302&'24v'!$BY$4:$BY$302&'24v'!$CA$4:$CA$302&'24v'!$CC$4:$CC$302,0)),"Модель отсутствует")))))))))))} | O12: {=IF(B12="","",IFERROR(INDEX(БВ!$R$4:$R$302,MATCH(F12&H12,БВ!$I$4:$I$302&БВ!$K$4:$K$302,0)),"Модель отсутствует"))} | P12: =IF(B12="","",(N12+O12)) | V12: 950
A13: 9 | L13: {=IF(B13="","",IFERROR(INDEX(БВ!$O$4:$O$302,MATCH(C13&D13&F13&H13&J13,БВ!$E$4:$E$302&БВ!$G$4:$G$302&БВ!$I$4:$I$302&БВ!$K$4:$K$302&БВ!$M$4:$M$302,0)),IFERROR(INDEX(БВ!$AF$4:$AF$302,MATCH(C13&D13&F13&H13&J13,БВ!#REF!&БВ!$X$4:$X$302&БВ!$Z$4:$Z$302&БВ!$AB$4:$AB$302&БВ!$AD$4:$AD$302,0)),IFERROR(INDEX(БВ!$AW$4:$AW$302,MATCH(C13&D13&F13&H13&J13,БВ!$AM$4:$AM$302&БВ!$AO$4:$AO$302&БВ!$AQ$4:$AQ$302&БВ!$AS$4:$AS$302&БВ!$AU$4:$AU$302,0)),IFERROR(INDEX(БВ!$BN$4:$BN$302,MATCH(C13&D13&F13&H13&J13,БВ!$BD$4:$BD$302&БВ!$BF$4:$BF$302&БВ!$BH$4:$BH$302&БВ!$BJ$4:$BJ$302&БВ!$BL$4:$BL$302,0)),IFERROR(INDEX(БВ!$CE$4:$CE$302,MATCH(C13&D13&F13&H13&J13,БВ!$BU$4:$BU$302&БВ!$BW$4:$BW$302&БВ!$BY$4:$BY$302&БВ!$CA$4:$CA$302&БВ!$CC$4:$CC$302,0)),IFERROR(INDEX('24v'!$O$4:$O$302,MATCH(C13&D13&F13&H13&J13,'24v'!$E$4:$E$302&'24v'!$G$4:$G$302&'24v'!$I$4:$I$302&'24v'!$K$4:$K$302&'24v'!$M$4:$M$302,0)),IFERROR(INDEX('24v'!$AF$4:$AF$302,MATCH(C13&D13&F13&H13&J13,'24v'!$V$4:$V$302&'24v'!$X$4:$X$302&'24v'!$Z$4:$Z$302&'24v'!$AB$4:$AB$302&'24v'!$AD$4:$AD$302,0)),IFERROR(INDEX('24v'!$AW$4:$AW$302,MATCH(C13&D13&F13&H13&J13,'24v'!$AM$4:$AM$302&'24v'!$AO$4:$AO$302&'24v'!$AQ$4:$AQ$302&'24v'!$AS$4:$AS$302&'24v'!$AU$4:$AU$302,0)),IFERROR(INDEX('24v'!$BN$4:$BN$302,MATCH(C13&D13&F13&H13&J13,'24v'!$BD$4:$BD$302&'24v'!$BF$4:$BF$302&'24v'!$BH$4:$BH$302&'24v'!$BJ$4:$BJ$302&'24v'!$BL$4:$BL$302,0)),IFERROR(INDEX('24v'!$CE$4:$CE$302,MATCH(C13&D13&F13&H13&J13,'24v'!$BU$4:$BU$302&'24v'!$BW$4:$BW$302&'24v'!$BY$4:$BY$302&'24v'!$CA$4:$CA$302&'24v'!$CC$4:$CC$302,0)),"Модель отсутствует")))))))))))} | M13: {=IF(B13="","",IFERROR(INDEX(БВ!$P$4:$P$302,MATCH(C13&D13&F13&H13&J13,БВ!$E$4:$E$302&БВ!$G$4:$G$302&БВ!$I$4:$I$302&БВ!$K$4:$K$302&БВ!$M$4:$M$302,0)),IFERROR(INDEX(БВ!$AG$4:$AG$302,MATCH(C13&D13&F13&H13&J13,БВ!#REF!&БВ!$X$4:$X$302&БВ!$Z$4:$Z$302&БВ!$AB$4:$AB$302&БВ!$AD$4:$AD$302,0)),IFERROR(INDEX(БВ!$AX$4:$AX$302,MATCH(C13&D13&F13&H13&J13,БВ!$AM$4:$AM$302&БВ!$AO$4:$AO$302&БВ!$AQ$4:$AQ$302&БВ!$AS$4:$AS$302&БВ!$AU$4:$AU$302,0)),IFERROR(INDEX(БВ!$BO$4:$BO$302,MATCH(C13&D13&F13&H13&J13,БВ!$BD$4:$BD$302&БВ!$BF$4:$BF$302&БВ!$BH$4:$BH$302&БВ!$BJ$4:$BJ$302&БВ!$BL$4:$BL$302,0)),IFERROR(INDEX(БВ!$CF$4:$CF$302,MATCH(C13&D13&F13&H13&J13,БВ!$BU$4:$BU$302&БВ!$BW$4:$BW$302&БВ!$BY$4:$BY$302&БВ!$CA$4:$CA$302&БВ!$CC$4:$CC$302,0)),IFERROR(INDEX('24v'!$P$4:$P$302,MATCH(C13&D13&F13&H13&J13,'24v'!$E$4:$E$302&'24v'!$G$4:$G$302&'24v'!$I$4:$I$302&'24v'!$K$4:$K$302&'24v'!$M$4:$M$302,0)),IFERROR(INDEX('24v'!$AG$4:$AG$302,MATCH(C13&D13&F13&H13&J13,'24v'!$V$4:$V$302&'24v'!$X$4:$X$302&'24v'!$Z$4:$Z$302&'24v'!$AB$4:$AB$302&'24v'!$AD$4:$AD$302,0)),IFERROR(INDEX('24v'!$AX$4:$AX$302,MATCH(C13&D13&F13&H13&J13,'24v'!$AM$4:$AM$302&'24v'!$AO$4:$AO$302&'24v'!$AQ$4:$AQ$302&'24v'!$AS$4:$AS$302&'24v'!$AU$4:$AU$302,0)),IFERROR(INDEX('24v'!$BO$4:$BO$302,MATCH(C13&D13&F13&H13&J13,'24v'!$BD$4:$BD$302&'24v'!$BF$4:$BF$302&'24v'!$BH$4:$BH$302&'24v'!$BJ$4:$BJ$302&'24v'!$BL$4:$BL$302,0)),IFERROR(INDEX('24v'!$CF$4:$CF$302,MATCH(C13&D13&F13&H13&J13,'24v'!$BU$4:$BU$302&'24v'!$BW$4:$BW$302&'24v'!$BY$4:$BY$302&'24v'!$CA$4:$CA$302&'24v'!$CC$4:$CC$302,0)),"Модель отсутствует")))))))))))} | N13: {=IF(B13="","",IFERROR(INDEX(БВ!$Q$4:$Q$302,MATCH(C13&D13&F13&H13&J13,БВ!$E$4:$E$302&БВ!$G$4:$G$302&БВ!$I$4:$I$302&БВ!$K$4:$K$302&БВ!$M$4:$M$302,0)),IFERROR(INDEX(БВ!$AH$4:$AH$302,MATCH(C13&D13&F13&H13&J13,БВ!#REF!&БВ!$X$4:$X$302&БВ!$Z$4:$Z$302&БВ!$AB$4:$AB$302&БВ!$AD$4:$AD$302,0)),IFERROR(INDEX(БВ!$AY$4:$AY$302,MATCH(C13&D13&F13&H13&J13,БВ!$AM$4:$AM$302&БВ!$AO$4:$AO$302&БВ!$AQ$4:$AQ$302&БВ!$AS$4:$AS$302&БВ!$AU$4:$AU$302,0)),IFERROR(INDEX(БВ!$BP$4:$BP$302,MATCH(C13&D13&F13&H13&J13,БВ!$BD$4:$BD$302&БВ!$BF$4:$BF$302&БВ!$BH$4:$BH$302&БВ!$BJ$4:$BJ$302&БВ!$BL$4:$BL$302,0)),IFERROR(INDEX(БВ!$CG$4:$CG$302,MATCH(C13&D13&F13&H13&J13,БВ!$BU$4:$BU$302&БВ!$BW$4:$BW$302&БВ!$BY$4:$BY$302&БВ!$CA$4:$CA$302&БВ!$CC$4:$CC$302,0)),IFERROR(INDEX('24v'!$Q$4:$Q$302,MATCH(C13&D13&F13&H13&J13,'24v'!$E$4:$E$302&'24v'!$G$4:$G$302&'24v'!$I$4:$I$302&'24v'!$K$4:$K$302&'24v'!$M$4:$M$302,0)),IFERROR(INDEX('24v'!$AH$4:$AH$302,MATCH(C13&D13&F13&H13&J13,'24v'!$V$4:$V$302&'24v'!$X$4:$X$302&'24v'!$Z$4:$Z$302&'24v'!$AB$4:$AB$302&'24v'!$AD$4:$AD$302,0)),IFERROR(INDEX('24v'!$AY$4:$AY$302,MATCH(C13&D13&F13&H13&J13,'24v'!$AM$4:$AM$302&'24v'!$AO$4:$AO$302&'24v'!$AQ$4:$AQ$302&'24v'!$AS$4:$AS$302&'24v'!$AU$4:$AU$302,0)),IFERROR(INDEX('24v'!$BP$4:$BP$302,MATCH(C13&D13&F13&H13&J13,'24v'!$BD$4:$BD$302&'24v'!$BF$4:$BF$302&'24v'!$BH$4:$BH$302&'24v'!$BJ$4:$BJ$302&'24v'!$BL$4:$BL$302,0)),IFERROR(INDEX('24v'!$CG$4:$CG$302,MATCH(C13&D13&F13&H13&J13,'24v'!$BU$4:$BU$302&'24v'!$BW$4:$BW$302&'24v'!$BY$4:$BY$302&'24v'!$CA$4:$CA$302&'24v'!$CC$4:$CC$302,0)),"Модель отсутствует")))))))))))} | O13: {=IF(B13="","",IFERROR(INDEX(БВ!$R$4:$R$302,MATCH(F13&H13,БВ!$I$4:$I$302&БВ!$K$4:$K$302,0)),"Модель отсутствует"))} | P13: =IF(B13="","",(N13+O13)) | V13: 1000
A14: 10 | L14: {=IF(B14="","",IFERROR(INDEX(БВ!$O$4:$O$302,MATCH(C14&D14&F14&H14&J14,БВ!$E$4:$E$302&БВ!$G$4:$G$302&БВ!$I$4:$I$302&БВ!$K$4:$K$302&БВ!$M$4:$M$302,0)),IFERROR(INDEX(БВ!$AF$4:$AF$302,MATCH(C14&D14&F14&H14&J14,БВ!#REF!&БВ!$X$4:$X$302&БВ!$Z$4:$Z$302&БВ!$AB$4:$AB$302&БВ!$AD$4:$AD$302,0)),IFERROR(INDEX(БВ!$AW$4:$AW$302,MATCH(C14&D14&F14&H14&J14,БВ!$AM$4:$AM$302&БВ!$AO$4:$AO$302&БВ!$AQ$4:$AQ$302&БВ!$AS$4:$AS$302&БВ!$AU$4:$AU$302,0)),IFERROR(INDEX(БВ!$BN$4:$BN$302,MATCH(C14&D14&F14&H14&J14,БВ!$BD$4:$BD$302&БВ!$BF$4:$BF$302&БВ!$BH$4:$BH$302&БВ!$BJ$4:$BJ$302&БВ!$BL$4:$BL$302,0)),IFERROR(INDEX(БВ!$CE$4:$CE$302,MATCH(C14&D14&F14&H14&J14,БВ!$BU$4:$BU$302&БВ!$BW$4:$BW$302&БВ!$BY$4:$BY$302&БВ!$CA$4:$CA$302&БВ!$CC$4:$CC$302,0)),IFERROR(INDEX('24v'!$O$4:$O$302,MATCH(C14&D14&F14&H14&J14,'24v'!$E$4:$E$302&'24v'!$G$4:$G$302&'24v'!$I$4:$I$302&'24v'!$K$4:$K$302&'24v'!$M$4:$M$302,0)),IFERROR(INDEX('24v'!$AF$4:$AF$302,MATCH(C14&D14&F14&H14&J14,'24v'!$V$4:$V$302&'24v'!$X$4:$X$302&'24v'!$Z$4:$Z$302&'24v'!$AB$4:$AB$302&'24v'!$AD$4:$AD$302,0)),IFERROR(INDEX('24v'!$AW$4:$AW$302,MATCH(C14&D14&F14&H14&J14,'24v'!$AM$4:$AM$302&'24v'!$AO$4:$AO$302&'24v'!$AQ$4:$AQ$302&'24v'!$AS$4:$AS$302&'24v'!$AU$4:$AU$302,0)),IFERROR(INDEX('24v'!$BN$4:$BN$302,MATCH(C14&D14&F14&H14&J14,'24v'!$BD$4:$BD$302&'24v'!$BF$4:$BF$302&'24v'!$BH$4:$BH$302&'24v'!$BJ$4:$BJ$302&'24v'!$BL$4:$BL$302,0)),IFERROR(INDEX('24v'!$CE$4:$CE$302,MATCH(C14&D14&F14&H14&J14,'24v'!$BU$4:$BU$302&'24v'!$BW$4:$BW$302&'24v'!$BY$4:$BY$302&'24v'!$CA$4:$CA$302&'24v'!$CC$4:$CC$302,0)),"Модель отсутствует")))))))))))} | M14: {=IF(B14="","",IFERROR(INDEX(БВ!$P$4:$P$302,MATCH(C14&D14&F14&H14&J14,БВ!$E$4:$E$302&БВ!$G$4:$G$302&БВ!$I$4:$I$302&БВ!$K$4:$K$302&БВ!$M$4:$M$302,0)),IFERROR(INDEX(БВ!$AG$4:$AG$302,MATCH(C14&D14&F14&H14&J14,БВ!#REF!&БВ!$X$4:$X$302&БВ!$Z$4:$Z$302&БВ!$AB$4:$AB$302&БВ!$AD$4:$AD$302,0)),IFERROR(INDEX(БВ!$AX$4:$AX$302,MATCH(C14&D14&F14&H14&J14,БВ!$AM$4:$AM$302&БВ!$AO$4:$AO$302&БВ!$AQ$4:$AQ$302&БВ!$AS$4:$AS$302&БВ!$AU$4:$AU$302,0)),IFERROR(INDEX(БВ!$BO$4:$BO$302,MATCH(C14&D14&F14&H14&J14,БВ!$BD$4:$BD$302&БВ!$BF$4:$BF$302&БВ!$BH$4:$BH$302&БВ!$BJ$4:$BJ$302&БВ!$BL$4:$BL$302,0)),IFERROR(INDEX(БВ!$CF$4:$CF$302,MATCH(C14&D14&F14&H14&J14,БВ!$BU$4:$BU$302&БВ!$BW$4:$BW$302&БВ!$BY$4:$BY$302&БВ!$CA$4:$CA$302&БВ!$CC$4:$CC$302,0)),IFERROR(INDEX('24v'!$P$4:$P$302,MATCH(C14&D14&F14&H14&J14,'24v'!$E$4:$E$302&'24v'!$G$4:$G$302&'24v'!$I$4:$I$302&'24v'!$K$4:$K$302&'24v'!$M$4:$M$302,0)),IFERROR(INDEX('24v'!$AG$4:$AG$302,MATCH(C14&D14&F14&H14&J14,'24v'!$V$4:$V$302&'24v'!$X$4:$X$302&'24v'!$Z$4:$Z$302&'24v'!$AB$4:$AB$302&'24v'!$AD$4:$AD$302,0)),IFERROR(INDEX('24v'!$AX$4:$AX$302,MATCH(C14&D14&F14&H14&J14,'24v'!$AM$4:$AM$302&'24v'!$AO$4:$AO$302&'24v'!$AQ$4:$AQ$302&'24v'!$AS$4:$AS$302&'24v'!$AU$4:$AU$302,0)),IFERROR(INDEX('24v'!$BO$4:$BO$302,MATCH(C14&D14&F14&H14&J14,'24v'!$BD$4:$BD$302&'24v'!$BF$4:$BF$302&'24v'!$BH$4:$BH$302&'24v'!$BJ$4:$BJ$302&'24v'!$BL$4:$BL$302,0)),IFERROR(INDEX('24v'!$CF$4:$CF$302,MATCH(C14&D14&F14&H14&J14,'24v'!$BU$4:$BU$302&'24v'!$BW$4:$BW$302&'24v'!$BY$4:$BY$302&'24v'!$CA$4:$CA$302&'24v'!$CC$4:$CC$302,0)),"Модель отсутствует")))))))))))} | N14: {=IF(B14="","",IFERROR(INDEX(БВ!$Q$4:$Q$302,MATCH(C14&D14&F14&H14&J14,БВ!$E$4:$E$302&БВ!$G$4:$G$302&БВ!$I$4:$I$302&БВ!$K$4:$K$302&БВ!$M$4:$M$302,0)),IFERROR(INDEX(БВ!$AH$4:$AH$302,MATCH(C14&D14&F14&H14&J14,БВ!#REF!&БВ!$X$4:$X$302&БВ!$Z$4:$Z$302&БВ!$AB$4:$AB$302&БВ!$AD$4:$AD$302,0)),IFERROR(INDEX(БВ!$AY$4:$AY$302,MATCH(C14&D14&F14&H14&J14,БВ!$AM$4:$AM$302&БВ!$AO$4:$AO$302&БВ!$AQ$4:$AQ$302&БВ!$AS$4:$AS$302&БВ!$AU$4:$AU$302,0)),IFERROR(INDEX(БВ!$BP$4:$BP$302,MATCH(C14&D14&F14&H14&J14,БВ!$BD$4:$BD$302&БВ!$BF$4:$BF$302&БВ!$BH$4:$BH$302&БВ!$BJ$4:$BJ$302&БВ!$BL$4:$BL$302,0)),IFERROR(INDEX(БВ!$CG$4:$CG$302,MATCH(C14&D14&F14&H14&J14,БВ!$BU$4:$BU$302&БВ!$BW$4:$BW$302&БВ!$BY$4:$BY$302&БВ!$CA$4:$CA$302&БВ!$CC$4:$CC$302,0)),IFERROR(INDEX('24v'!$Q$4:$Q$302,MATCH(C14&D14&F14&H14&J14,'24v'!$E$4:$E$302&'24v'!$G$4:$G$302&'24v'!$I$4:$I$302&'24v'!$K$4:$K$302&'24v'!$M$4:$M$302,0)),IFERROR(INDEX('24v'!$AH$4:$AH$302,MATCH(C14&D14&F14&H14&J14,'24v'!$V$4:$V$302&'24v'!$X$4:$X$302&'24v'!$Z$4:$Z$302&'24v'!$AB$4:$AB$302&'24v'!$AD$4:$AD$302,0)),IFERROR(INDEX('24v'!$AY$4:$AY$302,MATCH(C14&D14&F14&H14&J14,'24v'!$AM$4:$AM$302&'24v'!$AO$4:$AO$302&'24v'!$AQ$4:$AQ$302&'24v'!$AS$4:$AS$302&'24v'!$AU$4:$AU$302,0)),IFERROR(INDEX('24v'!$BP$4:$BP$302,MATCH(C14&D14&F14&H14&J14,'24v'!$BD$4:$BD$302&'24v'!$BF$4:$BF$302&'24v'!$BH$4:$BH$302&'24v'!$BJ$4:$BJ$302&'24v'!$BL$4:$BL$302,0)),IFERROR(INDEX('24v'!$CG$4:$CG$302,MATCH(C14&D14&F14&H14&J14,'24v'!$BU$4:$BU$302&'24v'!$BW$4:$BW$302&'24v'!$BY$4:$BY$302&'24v'!$CA$4:$CA$302&'24v'!$CC$4:$CC$302,0)),"Модель отсутствует")))))))))))} | O14: {=IF(B14="","",IFERROR(INDEX(БВ!$R$4:$R$302,MATCH(F14&H14,БВ!$I$4:$I$302&БВ!$K$4:$K$302,0)),"Модель отсутствует"))} | P14: =IF(B14="","",(N14+O14)) | V14: 1050
A15: 11 | L15: {=IF(B15="","",IFERROR(INDEX(БВ!$O$4:$O$302,MATCH(C15&D15&F15&H15&J15,БВ!$E$4:$E$302&БВ!$G$4:$G$302&БВ!$I$4:$I$302&БВ!$K$4:$K$302&БВ!$M$4:$M$302,0)),IFERROR(INDEX(БВ!$AF$4:$AF$302,MATCH(C15&D15&F15&H15&J15,БВ!#REF!&БВ!$X$4:$X$302&БВ!$Z$4:$Z$302&БВ!$AB$4:$AB$302&БВ!$AD$4:$AD$302,0)),IFERROR(INDEX(БВ!$AW$4:$AW$302,MATCH(C15&D15&F15&H15&J15,БВ!$AM$4:$AM$302&БВ!$AO$4:$AO$302&БВ!$AQ$4:$AQ$302&БВ!$AS$4:$AS$302&БВ!$AU$4:$AU$302,0)),IFERROR(INDEX(БВ!$BN$4:$BN$302,MATCH(C15&D15&F15&H15&J15,БВ!$BD$4:$BD$302&БВ!$BF$4:$BF$302&БВ!$BH$4:$BH$302&БВ!$BJ$4:$BJ$302&БВ!$BL$4:$BL$302,0)),IFERROR(INDEX(БВ!$CE$4:$CE$302,MATCH(C15&D15&F15&H15&J15,БВ!$BU$4:$BU$302&БВ!$BW$4:$BW$302&БВ!$BY$4:$BY$302&БВ!$CA$4:$CA$302&БВ!$CC$4:$CC$302,0)),IFERROR(INDEX('24v'!$O$4:$O$302,MATCH(C15&D15&F15&H15&J15,'24v'!$E$4:$E$302&'24v'!$G$4:$G$302&'24v'!$I$4:$I$302&'24v'!$K$4:$K$302&'24v'!$M$4:$M$302,0)),IFERROR(INDEX('24v'!$AF$4:$AF$302,MATCH(C15&D15&F15&H15&J15,'24v'!$V$4:$V$302&'24v'!$X$4:$X$302&'24v'!$Z$4:$Z$302&'24v'!$AB$4:$AB$302&'24v'!$AD$4:$AD$302,0)),IFERROR(INDEX('24v'!$AW$4:$AW$302,MATCH(C15&D15&F15&H15&J15,'24v'!$AM$4:$AM$302&'24v'!$AO$4:$AO$302&'24v'!$AQ$4:$AQ$302&'24v'!$AS$4:$AS$302&'24v'!$AU$4:$AU$302,0)),IFERROR(INDEX('24v'!$BN$4:$BN$302,MATCH(C15&D15&F15&H15&J15,'24v'!$BD$4:$BD$302&'24v'!$BF$4:$BF$302&'24v'!$BH$4:$BH$302&'24v'!$BJ$4:$BJ$302&'24v'!$BL$4:$BL$302,0)),IFERROR(INDEX('24v'!$CE$4:$CE$302,MATCH(C15&D15&F15&H15&J15,'24v'!$BU$4:$BU$302&'24v'!$BW$4:$BW$302&'24v'!$BY$4:$BY$302&'24v'!$CA$4:$CA$302&'24v'!$CC$4:$CC$302,0)),"Модель отсутствует")))))))))))} | M15: {=IF(B15="","",IFERROR(INDEX(БВ!$P$4:$P$302,MATCH(C15&D15&F15&H15&J15,БВ!$E$4:$E$302&БВ!$G$4:$G$302&БВ!$I$4:$I$302&БВ!$K$4:$K$302&БВ!$M$4:$M$302,0)),IFERROR(INDEX(БВ!$AG$4:$AG$302,MATCH(C15&D15&F15&H15&J15,БВ!#REF!&БВ!$X$4:$X$302&БВ!$Z$4:$Z$302&БВ!$AB$4:$AB$302&БВ!$AD$4:$AD$302,0)),IFERROR(INDEX(БВ!$AX$4:$AX$302,MATCH(C15&D15&F15&H15&J15,БВ!$AM$4:$AM$302&БВ!$AO$4:$AO$302&БВ!$AQ$4:$AQ$302&БВ!$AS$4:$AS$302&БВ!$AU$4:$AU$302,0)),IFERROR(INDEX(БВ!$BO$4:$BO$302,MATCH(C15&D15&F15&H15&J15,БВ!$BD$4:$BD$302&БВ!$BF$4:$BF$302&БВ!$BH$4:$BH$302&БВ!$BJ$4:$BJ$302&БВ!$BL$4:$BL$302,0)),IFERROR(INDEX(БВ!$CF$4:$CF$302,MATCH(C15&D15&F15&H15&J15,БВ!$BU$4:$BU$302&БВ!$BW$4:$BW$302&БВ!$BY$4:$BY$302&БВ!$CA$4:$CA$302&БВ!$CC$4:$CC$302,0)),IFERROR(INDEX('24v'!$P$4:$P$302,MATCH(C15&D15&F15&H15&J15,'24v'!$E$4:$E$302&'24v'!$G$4:$G$302&'24v'!$I$4:$I$302&'24v'!$K$4:$K$302&'24v'!$M$4:$M$302,0)),IFERROR(INDEX('24v'!$AG$4:$AG$302,MATCH(C15&D15&F15&H15&J15,'24v'!$V$4:$V$302&'24v'!$X$4:$X$302&'24v'!$Z$4:$Z$302&'24v'!$AB$4:$AB$302&'24v'!$AD$4:$AD$302,0)),IFERROR(INDEX('24v'!$AX$4:$AX$302,MATCH(C15&D15&F15&H15&J15,'24v'!$AM$4:$AM$302&'24v'!$AO$4:$AO$302&'24v'!$AQ$4:$AQ$302&'24v'!$AS$4:$AS$302&'24v'!$AU$4:$AU$302,0)),IFERROR(INDEX('24v'!$BO$4:$BO$302,MATCH(C15&D15&F15&H15&J15,'24v'!$BD$4:$BD$302&'24v'!$BF$4:$BF$302&'24v'!$BH$4:$BH$302&'24v'!$BJ$4:$BJ$302&'24v'!$BL$4:$BL$302,0)),IFERROR(INDEX('24v'!$CF$4:$CF$302,MATCH(C15&D15&F15&H15&J15,'24v'!$BU$4:$BU$302&'24v'!$BW$4:$BW$302&'24v'!$BY$4:$BY$302&'24v'!$CA$4:$CA$302&'24v'!$CC$4:$CC$302,0)),"Модель отсутствует")))))))))))} | N15: {=IF(B15="","",IFERROR(INDEX(БВ!$Q$4:$Q$302,MATCH(C15&D15&F15&H15&J15,БВ!$E$4:$E$302&БВ!$G$4:$G$302&БВ!$I$4:$I$302&БВ!$K$4:$K$302&БВ!$M$4:$M$302,0)),IFERROR(INDEX(БВ!$AH$4:$AH$302,MATCH(C15&D15&F15&H15&J15,БВ!#REF!&БВ!$X$4:$X$302&БВ!$Z$4:$Z$302&БВ!$AB$4:$AB$302&БВ!$AD$4:$AD$302,0)),IFERROR(INDEX(БВ!$AY$4:$AY$302,MATCH(C15&D15&F15&H15&J15,БВ!$AM$4:$AM$302&БВ!$AO$4:$AO$302&БВ!$AQ$4:$AQ$302&БВ!$AS$4:$AS$302&БВ!$AU$4:$AU$302,0)),IFERROR(INDEX(БВ!$BP$4:$BP$302,MATCH(C15&D15&F15&H15&J15,БВ!$BD$4:$BD$302&БВ!$BF$4:$BF$302&БВ!$BH$4:$BH$302&БВ!$BJ$4:$BJ$302&БВ!$BL$4:$BL$302,0)),IFERROR(INDEX(БВ!$CG$4:$CG$302,MATCH(C15&D15&F15&H15&J15,БВ!$BU$4:$BU$302&БВ!$BW$4:$BW$302&БВ!$BY$4:$BY$302&БВ!$CA$4:$CA$302&БВ!$CC$4:$CC$302,0)),IFERROR(INDEX('24v'!$Q$4:$Q$302,MATCH(C15&D15&F15&H15&J15,'24v'!$E$4:$E$302&'24v'!$G$4:$G$302&'24v'!$I$4:$I$302&'24v'!$K$4:$K$302&'24v'!$M$4:$M$302,0)),IFERROR(INDEX('24v'!$AH$4:$AH$302,MATCH(C15&D15&F15&H15&J15,'24v'!$V$4:$V$302&'24v'!$X$4:$X$302&'24v'!$Z$4:$Z$302&'24v'!$AB$4:$AB$302&'24v'!$AD$4:$AD$302,0)),IFERROR(INDEX('24v'!$AY$4:$AY$302,MATCH(C15&D15&F15&H15&J15,'24v'!$AM$4:$AM$302&'24v'!$AO$4:$AO$302&'24v'!$AQ$4:$AQ$302&'24v'!$AS$4:$AS$302&'24v'!$AU$4:$AU$302,0)),IFERROR(INDEX('24v'!$BP$4:$BP$302,MATCH(C15&D15&F15&H15&J15,'24v'!$BD$4:$BD$302&'24v'!$BF$4:$BF$302&'24v'!$BH$4:$BH$302&'24v'!$BJ$4:$BJ$302&'24v'!$BL$4:$BL$302,0)),IFERROR(INDEX('24v'!$CG$4:$CG$302,MATCH(C15&D15&F15&H15&J15,'24v'!$BU$4:$BU$302&'24v'!$BW$4:$BW$302&'24v'!$BY$4:$BY$302&'24v'!$CA$4:$CA$302&'24v'!$CC$4:$CC$302,0)),"Модель отсутствует")))))))))))} | O15: {=IF(B15="","",IFERROR(INDEX(БВ!$R$4:$R$302,MATCH(F15&H15,БВ!$I$4:$I$302&БВ!$K$4:$K$302,0)),"Модель отсутствует"))} | P15: =IF(B15="","",(N15+O15)) | V15: 1100
A16: 12 | L16: {=IF(B16="","",IFERROR(INDEX(БВ!$O$4:$O$302,MATCH(C16&D16&F16&H16&J16,БВ!$E$4:$E$302&БВ!$G$4:$G$302&БВ!$I$4:$I$302&БВ!$K$4:$K$302&БВ!$M$4:$M$302,0)),IFERROR(INDEX(БВ!$AF$4:$AF$302,MATCH(C16&D16&F16&H16&J16,БВ!#REF!&БВ!$X$4:$X$302&БВ!$Z$4:$Z$302&БВ!$AB$4:$AB$302&БВ!$AD$4:$AD$302,0)),IFERROR(INDEX(БВ!$AW$4:$AW$302,MATCH(C16&D16&F16&H16&J16,БВ!$AM$4:$AM$302&БВ!$AO$4:$AO$302&БВ!$AQ$4:$AQ$302&БВ!$AS$4:$AS$302&БВ!$AU$4:$AU$302,0)),IFERROR(INDEX(БВ!$BN$4:$BN$302,MATCH(C16&D16&F16&H16&J16,БВ!$BD$4:$BD$302&БВ!$BF$4:$BF$302&БВ!$BH$4:$BH$302&БВ!$BJ$4:$BJ$302&БВ!$BL$4:$BL$302,0)),IFERROR(INDEX(БВ!$CE$4:$CE$302,MATCH(C16&D16&F16&H16&J16,БВ!$BU$4:$BU$302&БВ!$BW$4:$BW$302&БВ!$BY$4:$BY$302&БВ!$CA$4:$CA$302&БВ!$CC$4:$CC$302,0)),IFERROR(INDEX('24v'!$O$4:$O$302,MATCH(C16&D16&F16&H16&J16,'24v'!$E$4:$E$302&'24v'!$G$4:$G$302&'24v'!$I$4:$I$302&'24v'!$K$4:$K$302&'24v'!$M$4:$M$302,0)),IFERROR(INDEX('24v'!$AF$4:$AF$302,MATCH(C16&D16&F16&H16&J16,'24v'!$V$4:$V$302&'24v'!$X$4:$X$302&'24v'!$Z$4:$Z$302&'24v'!$AB$4:$AB$302&'24v'!$AD$4:$AD$302,0)),IFERROR(INDEX('24v'!$AW$4:$AW$302,MATCH(C16&D16&F16&H16&J16,'24v'!$AM$4:$AM$302&'24v'!$AO$4:$AO$302&'24v'!$AQ$4:$AQ$302&'24v'!$AS$4:$AS$302&'24v'!$AU$4:$AU$302,0)),IFERROR(INDEX('24v'!$BN$4:$BN$302,MATCH(C16&D16&F16&H16&J16,'24v'!$BD$4:$BD$302&'24v'!$BF$4:$BF$302&'24v'!$BH$4:$BH$302&'24v'!$BJ$4:$BJ$302&'24v'!$BL$4:$BL$302,0)),IFERROR(INDEX('24v'!$CE$4:$CE$302,MATCH(C16&D16&F16&H16&J16,'24v'!$BU$4:$BU$302&'24v'!$BW$4:$BW$302&'24v'!$BY$4:$BY$302&'24v'!$CA$4:$CA$302&'24v'!$CC$4:$CC$302,0)),"Модель отсутствует")))))))))))} | M16: {=IF(B16="","",IFERROR(INDEX(БВ!$P$4:$P$302,MATCH(C16&D16&F16&H16&J16,БВ!$E$4:$E$302&БВ!$G$4:$G$302&БВ!$I$4:$I$302&БВ!$K$4:$K$302&БВ!$M$4:$M$302,0)),IFERROR(INDEX(БВ!$AG$4:$AG$302,MATCH(C16&D16&F16&H16&J16,БВ!#REF!&БВ!$X$4:$X$302&БВ!$Z$4:$Z$302&БВ!$AB$4:$AB$302&БВ!$AD$4:$AD$302,0)),IFERROR(INDEX(БВ!$AX$4:$AX$302,MATCH(C16&D16&F16&H16&J16,БВ!$AM$4:$AM$302&БВ!$AO$4:$AO$302&БВ!$AQ$4:$AQ$302&БВ!$AS$4:$AS$302&БВ!$AU$4:$AU$302,0)),IFERROR(INDEX(БВ!$BO$4:$BO$302,MATCH(C16&D16&F16&H16&J16,БВ!$BD$4:$BD$302&БВ!$BF$4:$BF$302&БВ!$BH$4:$BH$302&БВ!$BJ$4:$BJ$302&БВ!$BL$4:$BL$302,0)),IFERROR(INDEX(БВ!$CF$4:$CF$302,MATCH(C16&D16&F16&H16&J16,БВ!$BU$4:$BU$302&БВ!$BW$4:$BW$302&БВ!$BY$4:$BY$302&БВ!$CA$4:$CA$302&БВ!$CC$4:$CC$302,0)),IFERROR(INDEX('24v'!$P$4:$P$302,MATCH(C16&D16&F16&H16&J16,'24v'!$E$4:$E$302&'24v'!$G$4:$G$302&'24v'!$I$4:$I$302&'24v'!$K$4:$K$302&'24v'!$M$4:$M$302,0)),IFERROR(INDEX('24v'!$AG$4:$AG$302,MATCH(C16&D16&F16&H16&J16,'24v'!$V$4:$V$302&'24v'!$X$4:$X$302&'24v'!$Z$4:$Z$302&'24v'!$AB$4:$AB$302&'24v'!$AD$4:$AD$302,0)),IFERROR(INDEX('24v'!$AX$4:$AX$302,MATCH(C16&D16&F16&H16&J16,'24v'!$AM$4:$AM$302&'24v'!$AO$4:$AO$302&'24v'!$AQ$4:$AQ$302&'24v'!$AS$4:$AS$302&'24v'!$AU$4:$AU$302,0)),IFERROR(INDEX('24v'!$BO$4:$BO$302,MATCH(C16&D16&F16&H16&J16,'24v'!$BD$4:$BD$302&'24v'!$BF$4:$BF$302&'24v'!$BH$4:$BH$302&'24v'!$BJ$4:$BJ$302&'24v'!$BL$4:$BL$302,0)),IFERROR(INDEX('24v'!$CF$4:$CF$302,MATCH(C16&D16&F16&H16&J16,'24v'!$BU$4:$BU$302&'24v'!$BW$4:$BW$302&'24v'!$BY$4:$BY$302&'24v'!$CA$4:$CA$302&'24v'!$CC$4:$CC$302,0)),"Модель отсутствует")))))))))))} | N16: {=IF(B16="","",IFERROR(INDEX(БВ!$Q$4:$Q$302,MATCH(C16&D16&F16&H16&J16,БВ!$E$4:$E$302&БВ!$G$4:$G$302&БВ!$I$4:$I$302&БВ!$K$4:$K$302&БВ!$M$4:$M$302,0)),IFERROR(INDEX(БВ!$AH$4:$AH$302,MATCH(C16&D16&F16&H16&J16,БВ!#REF!&БВ!$X$4:$X$302&БВ!$Z$4:$Z$302&БВ!$AB$4:$AB$302&БВ!$AD$4:$AD$302,0)),IFERROR(INDEX(БВ!$AY$4:$AY$302,MATCH(C16&D16&F16&H16&J16,БВ!$AM$4:$AM$302&БВ!$AO$4:$AO$302&БВ!$AQ$4:$AQ$302&БВ!$AS$4:$AS$302&БВ!$AU$4:$AU$302,0)),IFERROR(INDEX(БВ!$BP$4:$BP$302,MATCH(C16&D16&F16&H16&J16,БВ!$BD$4:$BD$302&БВ!$BF$4:$BF$302&БВ!$BH$4:$BH$302&БВ!$BJ$4:$BJ$302&БВ!$BL$4:$BL$302,0)),IFERROR(INDEX(БВ!$CG$4:$CG$302,MATCH(C16&D16&F16&H16&J16,БВ!$BU$4:$BU$302&БВ!$BW$4:$BW$302&БВ!$BY$4:$BY$302&БВ!$CA$4:$CA$302&БВ!$CC$4:$CC$302,0)),IFERROR(INDEX('24v'!$Q$4:$Q$302,MATCH(C16&D16&F16&H16&J16,'24v'!$E$4:$E$302&'24v'!$G$4:$G$302&'24v'!$I$4:$I$302&'24v'!$K$4:$K$302&'24v'!$M$4:$M$302,0)),IFERROR(INDEX('24v'!$AH$4:$AH$302,MATCH(C16&D16&F16&H16&J16,'24v'!$V$4:$V$302&'24v'!$X$4:$X$302&'24v'!$Z$4:$Z$302&'24v'!$AB$4:$AB$302&'24v'!$AD$4:$AD$302,0)),IFERROR(INDEX('24v'!$AY$4:$AY$302,MATCH(C16&D16&F16&H16&J16,'24v'!$AM$4:$AM$302&'24v'!$AO$4:$AO$302&'24v'!$AQ$4:$AQ$302&'24v'!$AS$4:$AS$302&'24v'!$AU$4:$AU$302,0)),IFERROR(INDEX('24v'!$BP$4:$BP$302,MATCH(C16&D16&F16&H16&J16,'24v'!$BD$4:$BD$302&'24v'!$BF$4:$BF$302&'24v'!$BH$4:$BH$302&'24v'!$BJ$4:$BJ$302&'24v'!$BL$4:$BL$302,0)),IFERROR(INDEX('24v'!$CG$4:$CG$302,MATCH(C16&D16&F16&H16&J16,'24v'!$BU$4:$BU$302&'24v'!$BW$4:$BW$302&'24v'!$BY$4:$BY$302&'24v'!$CA$4:$CA$302&'24v'!$CC$4:$CC$302,0)),"Модель отсутствует")))))))))))} | O16: {=IF(B16="","",IFERROR(INDEX(БВ!$R$4:$R$302,MATCH(F16&H16,БВ!$I$4:$I$302&БВ!$K$4:$K$302,0)),"Модель отсутствует"))} | P16: =IF(B16="","",(N16+O16)) | V16: 1150
A17: 13 | L17: {=IF(B17="","",IFERROR(INDEX(БВ!$O$4:$O$302,MATCH(C17&D17&F17&H17&J17,БВ!$E$4:$E$302&БВ!$G$4:$G$302&БВ!$I$4:$I$302&БВ!$K$4:$K$302&БВ!$M$4:$M$302,0)),IFERROR(INDEX(БВ!$AF$4:$AF$302,MATCH(C17&D17&F17&H17&J17,БВ!#REF!&БВ!$X$4:$X$302&БВ!$Z$4:$Z$302&БВ!$AB$4:$AB$302&БВ!$AD$4:$AD$302,0)),IFERROR(INDEX(БВ!$AW$4:$AW$302,MATCH(C17&D17&F17&H17&J17,БВ!$AM$4:$AM$302&БВ!$AO$4:$AO$302&БВ!$AQ$4:$AQ$302&БВ!$AS$4:$AS$302&БВ!$AU$4:$AU$302,0)),IFERROR(INDEX(БВ!$BN$4:$BN$302,MATCH(C17&D17&F17&H17&J17,БВ!$BD$4:$BD$302&БВ!$BF$4:$BF$302&БВ!$BH$4:$BH$302&БВ!$BJ$4:$BJ$302&БВ!$BL$4:$BL$302,0)),IFERROR(INDEX(БВ!$CE$4:$CE$302,MATCH(C17&D17&F17&H17&J17,БВ!$BU$4:$BU$302&БВ!$BW$4:$BW$302&БВ!$BY$4:$BY$302&БВ!$CA$4:$CA$302&БВ!$CC$4:$CC$302,0)),IFERROR(INDEX('24v'!$O$4:$O$302,MATCH(C17&D17&F17&H17&J17,'24v'!$E$4:$E$302&'24v'!$G$4:$G$302&'24v'!$I$4:$I$302&'24v'!$K$4:$K$302&'24v'!$M$4:$M$302,0)),IFERROR(INDEX('24v'!$AF$4:$AF$302,MATCH(C17&D17&F17&H17&J17,'24v'!$V$4:$V$302&'24v'!$X$4:$X$302&'24v'!$Z$4:$Z$302&'24v'!$AB$4:$AB$302&'24v'!$AD$4:$AD$302,0)),IFERROR(INDEX('24v'!$AW$4:$AW$302,MATCH(C17&D17&F17&H17&J17,'24v'!$AM$4:$AM$302&'24v'!$AO$4:$AO$302&'24v'!$AQ$4:$AQ$302&'24v'!$AS$4:$AS$302&'24v'!$AU$4:$AU$302,0)),IFERROR(INDEX('24v'!$BN$4:$BN$302,MATCH(C17&D17&F17&H17&J17,'24v'!$BD$4:$BD$302&'24v'!$BF$4:$BF$302&'24v'!$BH$4:$BH$302&'24v'!$BJ$4:$BJ$302&'24v'!$BL$4:$BL$302,0)),IFERROR(INDEX('24v'!$CE$4:$CE$302,MATCH(C17&D17&F17&H17&J17,'24v'!$BU$4:$BU$302&'24v'!$BW$4:$BW$302&'24v'!$BY$4:$BY$302&'24v'!$CA$4:$CA$302&'24v'!$CC$4:$CC$302,0)),"Модель отсутствует")))))))))))} | M17: {=IF(B17="","",IFERROR(INDEX(БВ!$P$4:$P$302,MATCH(C17&D17&F17&H17&J17,БВ!$E$4:$E$302&БВ!$G$4:$G$302&БВ!$I$4:$I$302&БВ!$K$4:$K$302&БВ!$M$4:$M$302,0)),IFERROR(INDEX(БВ!$AG$4:$AG$302,MATCH(C17&D17&F17&H17&J17,БВ!#REF!&БВ!$X$4:$X$302&БВ!$Z$4:$Z$302&БВ!$AB$4:$AB$302&БВ!$AD$4:$AD$302,0)),IFERROR(INDEX(БВ!$AX$4:$AX$302,MATCH(C17&D17&F17&H17&J17,БВ!$AM$4:$AM$302&БВ!$AO$4:$AO$302&БВ!$AQ$4:$AQ$302&БВ!$AS$4:$AS$302&БВ!$AU$4:$AU$302,0)),IFERROR(INDEX(БВ!$BO$4:$BO$302,MATCH(C17&D17&F17&H17&J17,БВ!$BD$4:$BD$302&БВ!$BF$4:$BF$302&БВ!$BH$4:$BH$302&БВ!$BJ$4:$BJ$302&БВ!$BL$4:$BL$302,0)),IFERROR(INDEX(БВ!$CF$4:$CF$302,MATCH(C17&D17&F17&H17&J17,БВ!$BU$4:$BU$302&БВ!$BW$4:$BW$302&БВ!$BY$4:$BY$302&БВ!$CA$4:$CA$302&БВ!$CC$4:$CC$302,0)),IFERROR(INDEX('24v'!$P$4:$P$302,MATCH(C17&D17&F17&H17&J17,'24v'!$E$4:$E$302&'24v'!$G$4:$G$302&'24v'!$I$4:$I$302&'24v'!$K$4:$K$302&'24v'!$M$4:$M$302,0)),IFERROR(INDEX('24v'!$AG$4:$AG$302,MATCH(C17&D17&F17&H17&J17,'24v'!$V$4:$V$302&'24v'!$X$4:$X$302&'24v'!$Z$4:$Z$302&'24v'!$AB$4:$AB$302&'24v'!$AD$4:$AD$302,0)),IFERROR(INDEX('24v'!$AX$4:$AX$302,MATCH(C17&D17&F17&H17&J17,'24v'!$AM$4:$AM$302&'24v'!$AO$4:$AO$302&'24v'!$AQ$4:$AQ$302&'24v'!$AS$4:$AS$302&'24v'!$AU$4:$AU$302,0)),IFERROR(INDEX('24v'!$BO$4:$BO$302,MATCH(C17&D17&F17&H17&J17,'24v'!$BD$4:$BD$302&'24v'!$BF$4:$BF$302&'24v'!$BH$4:$BH$302&'24v'!$BJ$4:$BJ$302&'24v'!$BL$4:$BL$302,0)),IFERROR(INDEX('24v'!$CF$4:$CF$302,MATCH(C17&D17&F17&H17&J17,'24v'!$BU$4:$BU$302&'24v'!$BW$4:$BW$302&'24v'!$BY$4:$BY$302&'24v'!$CA$4:$CA$302&'24v'!$CC$4:$CC$302,0)),"Модель отсутствует")))))))))))} | N17: {=IF(B17="","",IFERROR(INDEX(БВ!$Q$4:$Q$302,MATCH(C17&D17&F17&H17&J17,БВ!$E$4:$E$302&БВ!$G$4:$G$302&БВ!$I$4:$I$302&БВ!$K$4:$K$302&БВ!$M$4:$M$302,0)),IFERROR(INDEX(БВ!$AH$4:$AH$302,MATCH(C17&D17&F17&H17&J17,БВ!#REF!&БВ!$X$4:$X$302&БВ!$Z$4:$Z$302&БВ!$AB$4:$AB$302&БВ!$AD$4:$AD$302,0)),IFERROR(INDEX(БВ!$AY$4:$AY$302,MATCH(C17&D17&F17&H17&J17,БВ!$AM$4:$AM$302&БВ!$AO$4:$AO$302&БВ!$AQ$4:$AQ$302&БВ!$AS$4:$AS$302&БВ!$AU$4:$AU$302,0)),IFERROR(INDEX(БВ!$BP$4:$BP$302,MATCH(C17&D17&F17&H17&J17,БВ!$BD$4:$BD$302&БВ!$BF$4:$BF$302&БВ!$BH$4:$BH$302&БВ!$BJ$4:$BJ$302&БВ!$BL$4:$BL$302,0)),IFERROR(INDEX(БВ!$CG$4:$CG$302,MATCH(C17&D17&F17&H17&J17,БВ!$BU$4:$BU$302&БВ!$BW$4:$BW$302&БВ!$BY$4:$BY$302&БВ!$CA$4:$CA$302&БВ!$CC$4:$CC$302,0)),IFERROR(INDEX('24v'!$Q$4:$Q$302,MATCH(C17&D17&F17&H17&J17,'24v'!$E$4:$E$302&'24v'!$G$4:$G$302&'24v'!$I$4:$I$302&'24v'!$K$4:$K$302&'24v'!$M$4:$M$302,0)),IFERROR(INDEX('24v'!$AH$4:$AH$302,MATCH(C17&D17&F17&H17&J17,'24v'!$V$4:$V$302&'24v'!$X$4:$X$302&'24v'!$Z$4:$Z$302&'24v'!$AB$4:$AB$302&'24v'!$AD$4:$AD$302,0)),IFERROR(INDEX('24v'!$AY$4:$AY$302,MATCH(C17&D17&F17&H17&J17,'24v'!$AM$4:$AM$302&'24v'!$AO$4:$AO$302&'24v'!$AQ$4:$AQ$302&'24v'!$AS$4:$AS$302&'24v'!$AU$4:$AU$302,0)),IFERROR(INDEX('24v'!$BP$4:$BP$302,MATCH(C17&D17&F17&H17&J17,'24v'!$BD$4:$BD$302&'24v'!$BF$4:$BF$302&'24v'!$BH$4:$BH$302&'24v'!$BJ$4:$BJ$302&'24v'!$BL$4:$BL$302,0)),IFERROR(INDEX('24v'!$CG$4:$CG$302,MATCH(C17&D17&F17&H17&J17,'24v'!$BU$4:$BU$302&'24v'!$BW$4:$BW$302&'24v'!$BY$4:$BY$302&'24v'!$CA$4:$CA$302&'24v'!$CC$4:$CC$302,0)),"Модель отсутствует")))))))))))} | O17: {=IF(B17="","",IFERROR(INDEX(БВ!$R$4:$R$302,MATCH(F17&H17,БВ!$I$4:$I$302&БВ!$K$4:$K$302,0)),"Модель отсутствует"))} | P17: =IF(B17="","",(N17+O17)) | V17: 1200
A18: 14 | L18: {=IF(B18="","",IFERROR(INDEX(БВ!$O$4:$O$302,MATCH(C18&D18&F18&H18&J18,БВ!$E$4:$E$302&БВ!$G$4:$G$302&БВ!$I$4:$I$302&БВ!$K$4:$K$302&БВ!$M$4:$M$302,0)),IFERROR(INDEX(БВ!$AF$4:$AF$302,MATCH(C18&D18&F18&H18&J18,БВ!#REF!&БВ!$X$4:$X$302&БВ!$Z$4:$Z$302&БВ!$AB$4:$AB$302&БВ!$AD$4:$AD$302,0)),IFERROR(INDEX(БВ!$AW$4:$AW$302,MATCH(C18&D18&F18&H18&J18,БВ!$AM$4:$AM$302&БВ!$AO$4:$AO$302&БВ!$AQ$4:$AQ$302&БВ!$AS$4:$AS$302&БВ!$AU$4:$AU$302,0)),IFERROR(INDEX(БВ!$BN$4:$BN$302,MATCH(C18&D18&F18&H18&J18,БВ!$BD$4:$BD$302&БВ!$BF$4:$BF$302&БВ!$BH$4:$BH$302&БВ!$BJ$4:$BJ$302&БВ!$BL$4:$BL$302,0)),IFERROR(INDEX(БВ!$CE$4:$CE$302,MATCH(C18&D18&F18&H18&J18,БВ!$BU$4:$BU$302&БВ!$BW$4:$BW$302&БВ!$BY$4:$BY$302&БВ!$CA$4:$CA$302&БВ!$CC$4:$CC$302,0)),IFERROR(INDEX('24v'!$O$4:$O$302,MATCH(C18&D18&F18&H18&J18,'24v'!$E$4:$E$302&'24v'!$G$4:$G$302&'24v'!$I$4:$I$302&'24v'!$K$4:$K$302&'24v'!$M$4:$M$302,0)),IFERROR(INDEX('24v'!$AF$4:$AF$302,MATCH(C18&D18&F18&H18&J18,'24v'!$V$4:$V$302&'24v'!$X$4:$X$302&'24v'!$Z$4:$Z$302&'24v'!$AB$4:$AB$302&'24v'!$AD$4:$AD$302,0)),IFERROR(INDEX('24v'!$AW$4:$AW$302,MATCH(C18&D18&F18&H18&J18,'24v'!$AM$4:$AM$302&'24v'!$AO$4:$AO$302&'24v'!$AQ$4:$AQ$302&'24v'!$AS$4:$AS$302&'24v'!$AU$4:$AU$302,0)),IFERROR(INDEX('24v'!$BN$4:$BN$302,MATCH(C18&D18&F18&H18&J18,'24v'!$BD$4:$BD$302&'24v'!$BF$4:$BF$302&'24v'!$BH$4:$BH$302&'24v'!$BJ$4:$BJ$302&'24v'!$BL$4:$BL$302,0)),IFERROR(INDEX('24v'!$CE$4:$CE$302,MATCH(C18&D18&F18&H18&J18,'24v'!$BU$4:$BU$302&'24v'!$BW$4:$BW$302&'24v'!$BY$4:$BY$302&'24v'!$CA$4:$CA$302&'24v'!$CC$4:$CC$302,0)),"Модель отсутствует")))))))))))} | M18: {=IF(B18="","",IFERROR(INDEX(БВ!$P$4:$P$302,MATCH(C18&D18&F18&H18&J18,БВ!$E$4:$E$302&БВ!$G$4:$G$302&БВ!$I$4:$I$302&БВ!$K$4:$K$302&БВ!$M$4:$M$302,0)),IFERROR(INDEX(БВ!$AG$4:$AG$302,MATCH(C18&D18&F18&H18&J18,БВ!#REF!&БВ!$X$4:$X$302&БВ!$Z$4:$Z$302&БВ!$AB$4:$AB$302&БВ!$AD$4:$AD$302,0)),IFERROR(INDEX(БВ!$AX$4:$AX$302,MATCH(C18&D18&F18&H18&J18,БВ!$AM$4:$AM$302&БВ!$AO$4:$AO$302&БВ!$AQ$4:$AQ$302&БВ!$AS$4:$AS$302&БВ!$AU$4:$AU$302,0)),IFERROR(INDEX(БВ!$BO$4:$BO$302,MATCH(C18&D18&F18&H18&J18,БВ!$BD$4:$BD$302&БВ!$BF$4:$BF$302&БВ!$BH$4:$BH$302&БВ!$BJ$4:$BJ$302&БВ!$BL$4:$BL$302,0)),IFERROR(INDEX(БВ!$CF$4:$CF$302,MATCH(C18&D18&F18&H18&J18,БВ!$BU$4:$BU$302&БВ!$BW$4:$BW$302&БВ!$BY$4:$BY$302&БВ!$CA$4:$CA$302&БВ!$CC$4:$CC$302,0)),IFERROR(INDEX('24v'!$P$4:$P$302,MATCH(C18&D18&F18&H18&J18,'24v'!$E$4:$E$302&'24v'!$G$4:$G$302&'24v'!$I$4:$I$302&'24v'!$K$4:$K$302&'24v'!$M$4:$M$302,0)),IFERROR(INDEX('24v'!$AG$4:$AG$302,MATCH(C18&D18&F18&H18&J18,'24v'!$V$4:$V$302&'24v'!$X$4:$X$302&'24v'!$Z$4:$Z$302&'24v'!$AB$4:$AB$302&'24v'!$AD$4:$AD$302,0)),IFERROR(INDEX('24v'!$AX$4:$AX$302,MATCH(C18&D18&F18&H18&J18,'24v'!$AM$4:$AM$302&'24v'!$AO$4:$AO$302&'24v'!$AQ$4:$AQ$302&'24v'!$AS$4:$AS$302&'24v'!$AU$4:$AU$302,0)),IFERROR(INDEX('24v'!$BO$4:$BO$302,MATCH(C18&D18&F18&H18&J18,'24v'!$BD$4:$BD$302&'24v'!$BF$4:$BF$302&'24v'!$BH$4:$BH$302&'24v'!$BJ$4:$BJ$302&'24v'!$BL$4:$BL$302,0)),IFERROR(INDEX('24v'!$CF$4:$CF$302,MATCH(C18&D18&F18&H18&J18,'24v'!$BU$4:$BU$302&'24v'!$BW$4:$BW$302&'24v'!$BY$4:$BY$302&'24v'!$CA$4:$CA$302&'24v'!$CC$4:$CC$302,0)),"Модель отсутствует")))))))))))} | N18: {=IF(B18="","",IFERROR(INDEX(БВ!$Q$4:$Q$302,MATCH(C18&D18&F18&H18&J18,БВ!$E$4:$E$302&БВ!$G$4:$G$302&БВ!$I$4:$I$302&БВ!$K$4:$K$302&БВ!$M$4:$M$302,0)),IFERROR(INDEX(БВ!$AH$4:$AH$302,MATCH(C18&D18&F18&H18&J18,БВ!#REF!&БВ!$X$4:$X$302&БВ!$Z$4:$Z$302&БВ!$AB$4:$AB$302&БВ!$AD$4:$AD$302,0)),IFERROR(INDEX(БВ!$AY$4:$AY$302,MATCH(C18&D18&F18&H18&J18,БВ!$AM$4:$AM$302&БВ!$AO$4:$AO$302&БВ!$AQ$4:$AQ$302&БВ!$AS$4:$AS$302&БВ!$AU$4:$AU$302,0)),IFERROR(INDEX(БВ!$BP$4:$BP$302,MATCH(C18&D18&F18&H18&J18,БВ!$BD$4:$BD$302&БВ!$BF$4:$BF$302&БВ!$BH$4:$BH$302&БВ!$BJ$4:$BJ$302&БВ!$BL$4:$BL$302,0)),IFERROR(INDEX(БВ!$CG$4:$CG$302,MATCH(C18&D18&F18&H18&J18,БВ!$BU$4:$BU$302&БВ!$BW$4:$BW$302&БВ!$BY$4:$BY$302&БВ!$CA$4:$CA$302&БВ!$CC$4:$CC$302,0)),IFERROR(INDEX('24v'!$Q$4:$Q$302,MATCH(C18&D18&F18&H18&J18,'24v'!$E$4:$E$302&'24v'!$G$4:$G$302&'24v'!$I$4:$I$302&'24v'!$K$4:$K$302&'24v'!$M$4:$M$302,0)),IFERROR(INDEX('24v'!$AH$4:$AH$302,MATCH(C18&D18&F18&H18&J18,'24v'!$V$4:$V$302&'24v'!$X$4:$X$302&'24v'!$Z$4:$Z$302&'24v'!$AB$4:$AB$302&'24v'!$AD$4:$AD$302,0)),IFERROR(INDEX('24v'!$AY$4:$AY$302,MATCH(C18&D18&F18&H18&J18,'24v'!$AM$4:$AM$302&'24v'!$AO$4:$AO$302&'24v'!$AQ$4:$AQ$302&'24v'!$AS$4:$AS$302&'24v'!$AU$4:$AU$302,0)),IFERROR(INDEX('24v'!$BP$4:$BP$302,MATCH(C18&D18&F18&H18&J18,'24v'!$BD$4:$BD$302&'24v'!$BF$4:$BF$302&'24v'!$BH$4:$BH$302&'24v'!$BJ$4:$BJ$302&'24v'!$BL$4:$BL$302,0)),IFERROR(INDEX('24v'!$CG$4:$CG$302,MATCH(C18&D18&F18&H18&J18,'24v'!$BU$4:$BU$302&'24v'!$BW$4:$BW$302&'24v'!$BY$4:$BY$302&'24v'!$CA$4:$CA$302&'24v'!$CC$4:$CC$302,0)),"Модель отсутствует")))))))))))} | O18: {=IF(B18="","",IFERROR(INDEX(БВ!$R$4:$R$302,MATCH(F18&H18,БВ!$I$4:$I$302&БВ!$K$4:$K$302,0)),"Модель отсутствует"))} | P18: =IF(B18="","",(N18+O18)) | V18: 1250
A19: 15 | L19: {=IF(B19="","",IFERROR(INDEX(БВ!$O$4:$O$302,MATCH(C19&D19&F19&H19&J19,БВ!$E$4:$E$302&БВ!$G$4:$G$302&БВ!$I$4:$I$302&БВ!$K$4:$K$302&БВ!$M$4:$M$302,0)),IFERROR(INDEX(БВ!$AF$4:$AF$302,MATCH(C19&D19&F19&H19&J19,БВ!#REF!&БВ!$X$4:$X$302&БВ!$Z$4:$Z$302&БВ!$AB$4:$AB$302&БВ!$AD$4:$AD$302,0)),IFERROR(INDEX(БВ!$AW$4:$AW$302,MATCH(C19&D19&F19&H19&J19,БВ!$AM$4:$AM$302&БВ!$AO$4:$AO$302&БВ!$AQ$4:$AQ$302&БВ!$AS$4:$AS$302&БВ!$AU$4:$AU$302,0)),IFERROR(INDEX(БВ!$BN$4:$BN$302,MATCH(C19&D19&F19&H19&J19,БВ!$BD$4:$BD$302&БВ!$BF$4:$BF$302&БВ!$BH$4:$BH$302&БВ!$BJ$4:$BJ$302&БВ!$BL$4:$BL$302,0)),IFERROR(INDEX(БВ!$CE$4:$CE$302,MATCH(C19&D19&F19&H19&J19,БВ!$BU$4:$BU$302&БВ!$BW$4:$BW$302&БВ!$BY$4:$BY$302&БВ!$CA$4:$CA$302&БВ!$CC$4:$CC$302,0)),IFERROR(INDEX('24v'!$O$4:$O$302,MATCH(C19&D19&F19&H19&J19,'24v'!$E$4:$E$302&'24v'!$G$4:$G$302&'24v'!$I$4:$I$302&'24v'!$K$4:$K$302&'24v'!$M$4:$M$302,0)),IFERROR(INDEX('24v'!$AF$4:$AF$302,MATCH(C19&D19&F19&H19&J19,'24v'!$V$4:$V$302&'24v'!$X$4:$X$302&'24v'!$Z$4:$Z$302&'24v'!$AB$4:$AB$302&'24v'!$AD$4:$AD$302,0)),IFERROR(INDEX('24v'!$AW$4:$AW$302,MATCH(C19&D19&F19&H19&J19,'24v'!$AM$4:$AM$302&'24v'!$AO$4:$AO$302&'24v'!$AQ$4:$AQ$302&'24v'!$AS$4:$AS$302&'24v'!$AU$4:$AU$302,0)),IFERROR(INDEX('24v'!$BN$4:$BN$302,MATCH(C19&D19&F19&H19&J19,'24v'!$BD$4:$BD$302&'24v'!$BF$4:$BF$302&'24v'!$BH$4:$BH$302&'24v'!$BJ$4:$BJ$302&'24v'!$BL$4:$BL$302,0)),IFERROR(INDEX('24v'!$CE$4:$CE$302,MATCH(C19&D19&F19&H19&J19,'24v'!$BU$4:$BU$302&'24v'!$BW$4:$BW$302&'24v'!$BY$4:$BY$302&'24v'!$CA$4:$CA$302&'24v'!$CC$4:$CC$302,0)),"Модель отсутствует")))))))))))} | M19: {=IF(B19="","",IFERROR(INDEX(БВ!$P$4:$P$302,MATCH(C19&D19&F19&H19&J19,БВ!$E$4:$E$302&БВ!$G$4:$G$302&БВ!$I$4:$I$302&БВ!$K$4:$K$302&БВ!$M$4:$M$302,0)),IFERROR(INDEX(БВ!$AG$4:$AG$302,MATCH(C19&D19&F19&H19&J19,БВ!#REF!&БВ!$X$4:$X$302&БВ!$Z$4:$Z$302&БВ!$AB$4:$AB$302&БВ!$AD$4:$AD$302,0)),IFERROR(INDEX(БВ!$AX$4:$AX$302,MATCH(C19&D19&F19&H19&J19,БВ!$AM$4:$AM$302&БВ!$AO$4:$AO$302&БВ!$AQ$4:$AQ$302&БВ!$AS$4:$AS$302&БВ!$AU$4:$AU$302,0)),IFERROR(INDEX(БВ!$BO$4:$BO$302,MATCH(C19&D19&F19&H19&J19,БВ!$BD$4:$BD$302&БВ!$BF$4:$BF$302&БВ!$BH$4:$BH$302&БВ!$BJ$4:$BJ$302&БВ!$BL$4:$BL$302,0)),IFERROR(INDEX(БВ!$CF$4:$CF$302,MATCH(C19&D19&F19&H19&J19,БВ!$BU$4:$BU$302&БВ!$BW$4:$BW$302&БВ!$BY$4:$BY$302&БВ!$CA$4:$CA$302&БВ!$CC$4:$CC$302,0)),IFERROR(INDEX('24v'!$P$4:$P$302,MATCH(C19&D19&F19&H19&J19,'24v'!$E$4:$E$302&'24v'!$G$4:$G$302&'24v'!$I$4:$I$302&'24v'!$K$4:$K$302&'24v'!$M$4:$M$302,0)),IFERROR(INDEX('24v'!$AG$4:$AG$302,MATCH(C19&D19&F19&H19&J19,'24v'!$V$4:$V$302&'24v'!$X$4:$X$302&'24v'!$Z$4:$Z$302&'24v'!$AB$4:$AB$302&'24v'!$AD$4:$AD$302,0)),IFERROR(INDEX('24v'!$AX$4:$AX$302,MATCH(C19&D19&F19&H19&J19,'24v'!$AM$4:$AM$302&'24v'!$AO$4:$AO$302&'24v'!$AQ$4:$AQ$302&'24v'!$AS$4:$AS$302&'24v'!$AU$4:$AU$302,0)),IFERROR(INDEX('24v'!$BO$4:$BO$302,MATCH(C19&D19&F19&H19&J19,'24v'!$BD$4:$BD$302&'24v'!$BF$4:$BF$302&'24v'!$BH$4:$BH$302&'24v'!$BJ$4:$BJ$302&'24v'!$BL$4:$BL$302,0)),IFERROR(INDEX('24v'!$CF$4:$CF$302,MATCH(C19&D19&F19&H19&J19,'24v'!$BU$4:$BU$302&'24v'!$BW$4:$BW$302&'24v'!$BY$4:$BY$302&'24v'!$CA$4:$CA$302&'24v'!$CC$4:$CC$302,0)),"Модель отсутствует")))))))))))} | N19: {=IF(B19="","",IFERROR(INDEX(БВ!$Q$4:$Q$302,MATCH(C19&D19&F19&H19&J19,БВ!$E$4:$E$302&БВ!$G$4:$G$302&БВ!$I$4:$I$302&БВ!$K$4:$K$302&БВ!$M$4:$M$302,0)),IFERROR(INDEX(БВ!$AH$4:$AH$302,MATCH(C19&D19&F19&H19&J19,БВ!#REF!&БВ!$X$4:$X$302&БВ!$Z$4:$Z$302&БВ!$AB$4:$AB$302&БВ!$AD$4:$AD$302,0)),IFERROR(INDEX(БВ!$AY$4:$AY$302,MATCH(C19&D19&F19&H19&J19,БВ!$AM$4:$AM$302&БВ!$AO$4:$AO$302&БВ!$AQ$4:$AQ$302&БВ!$AS$4:$AS$302&БВ!$AU$4:$AU$302,0)),IFERROR(INDEX(БВ!$BP$4:$BP$302,MATCH(C19&D19&F19&H19&J19,БВ!$BD$4:$BD$302&БВ!$BF$4:$BF$302&БВ!$BH$4:$BH$302&БВ!$BJ$4:$BJ$302&БВ!$BL$4:$BL$302,0)),IFERROR(INDEX(БВ!$CG$4:$CG$302,MATCH(C19&D19&F19&H19&J19,БВ!$BU$4:$BU$302&БВ!$BW$4:$BW$302&БВ!$BY$4:$BY$302&БВ!$CA$4:$CA$302&БВ!$CC$4:$CC$302,0)),IFERROR(INDEX('24v'!$Q$4:$Q$302,MATCH(C19&D19&F19&H19&J19,'24v'!$E$4:$E$302&'24v'!$G$4:$G$302&'24v'!$I$4:$I$302&'24v'!$K$4:$K$302&'24v'!$M$4:$M$302,0)),IFERROR(INDEX('24v'!$AH$4:$AH$302,MATCH(C19&D19&F19&H19&J19,'24v'!$V$4:$V$302&'24v'!$X$4:$X$302&'24v'!$Z$4:$Z$302&'24v'!$AB$4:$AB$302&'24v'!$AD$4:$AD$302,0)),IFERROR(INDEX('24v'!$AY$4:$AY$302,MATCH(C19&D19&F19&H19&J19,'24v'!$AM$4:$AM$302&'24v'!$AO$4:$AO$302&'24v'!$AQ$4:$AQ$302&'24v'!$AS$4:$AS$302&'24v'!$AU$4:$AU$302,0)),IFERROR(INDEX('24v'!$BP$4:$BP$302,MATCH(C19&D19&F19&H19&J19,'24v'!$BD$4:$BD$302&'24v'!$BF$4:$BF$302&'24v'!$BH$4:$BH$302&'24v'!$BJ$4:$BJ$302&'24v'!$BL$4:$BL$302,0)),IFERROR(INDEX('24v'!$CG$4:$CG$302,MATCH(C19&D19&F19&H19&J19,'24v'!$BU$4:$BU$302&'24v'!$BW$4:$BW$302&'24v'!$BY$4:$BY$302&'24v'!$CA$4:$CA$302&'24v'!$CC$4:$CC$302,0)),"Модель отсутствует")))))))))))} | O19: {=IF(B19="","",IFERROR(INDEX(БВ!$R$4:$R$302,MATCH(F19&H19,БВ!$I$4:$I$302&БВ!$K$4:$K$302,0)),"Модель отсутствует"))} | P19: =IF(B19="","",(N19+O19)) | V19: 1300
A20: 16 | L20: {=IF(B20="","",IFERROR(INDEX(БВ!$O$4:$O$302,MATCH(C20&D20&F20&H20&J20,БВ!$E$4:$E$302&БВ!$G$4:$G$302&БВ!$I$4:$I$302&БВ!$K$4:$K$302&БВ!$M$4:$M$302,0)),IFERROR(INDEX(БВ!$AF$4:$AF$302,MATCH(C20&D20&F20&H20&J20,БВ!#REF!&БВ!$X$4:$X$302&БВ!$Z$4:$Z$302&БВ!$AB$4:$AB$302&БВ!$AD$4:$AD$302,0)),IFERROR(INDEX(БВ!$AW$4:$AW$302,MATCH(C20&D20&F20&H20&J20,БВ!$AM$4:$AM$302&БВ!$AO$4:$AO$302&БВ!$AQ$4:$AQ$302&БВ!$AS$4:$AS$302&БВ!$AU$4:$AU$302,0)),IFERROR(INDEX(БВ!$BN$4:$BN$302,MATCH(C20&D20&F20&H20&J20,БВ!$BD$4:$BD$302&БВ!$BF$4:$BF$302&БВ!$BH$4:$BH$302&БВ!$BJ$4:$BJ$302&БВ!$BL$4:$BL$302,0)),IFERROR(INDEX(БВ!$CE$4:$CE$302,MATCH(C20&D20&F20&H20&J20,БВ!$BU$4:$BU$302&БВ!$BW$4:$BW$302&БВ!$BY$4:$BY$302&БВ!$CA$4:$CA$302&БВ!$CC$4:$CC$302,0)),IFERROR(INDEX('24v'!$O$4:$O$302,MATCH(C20&D20&F20&H20&J20,'24v'!$E$4:$E$302&'24v'!$G$4:$G$302&'24v'!$I$4:$I$302&'24v'!$K$4:$K$302&'24v'!$M$4:$M$302,0)),IFERROR(INDEX('24v'!$AF$4:$AF$302,MATCH(C20&D20&F20&H20&J20,'24v'!$V$4:$V$302&'24v'!$X$4:$X$302&'24v'!$Z$4:$Z$302&'24v'!$AB$4:$AB$302&'24v'!$AD$4:$AD$302,0)),IFERROR(INDEX('24v'!$AW$4:$AW$302,MATCH(C20&D20&F20&H20&J20,'24v'!$AM$4:$AM$302&'24v'!$AO$4:$AO$302&'24v'!$AQ$4:$AQ$302&'24v'!$AS$4:$AS$302&'24v'!$AU$4:$AU$302,0)),IFERROR(INDEX('24v'!$BN$4:$BN$302,MATCH(C20&D20&F20&H20&J20,'24v'!$BD$4:$BD$302&'24v'!$BF$4:$BF$302&'24v'!$BH$4:$BH$302&'24v'!$BJ$4:$BJ$302&'24v'!$BL$4:$BL$302,0)),IFERROR(INDEX('24v'!$CE$4:$CE$302,MATCH(C20&D20&F20&H20&J20,'24v'!$BU$4:$BU$302&'24v'!$BW$4:$BW$302&'24v'!$BY$4:$BY$302&'24v'!$CA$4:$CA$302&'24v'!$CC$4:$CC$302,0)),"Модель отсутствует")))))))))))} | M20: {=IF(B20="","",IFERROR(INDEX(БВ!$P$4:$P$302,MATCH(C20&D20&F20&H20&J20,БВ!$E$4:$E$302&БВ!$G$4:$G$302&БВ!$I$4:$I$302&БВ!$K$4:$K$302&БВ!$M$4:$M$302,0)),IFERROR(INDEX(БВ!$AG$4:$AG$302,MATCH(C20&D20&F20&H20&J20,БВ!#REF!&БВ!$X$4:$X$302&БВ!$Z$4:$Z$302&БВ!$AB$4:$AB$302&БВ!$AD$4:$AD$302,0)),IFERROR(INDEX(БВ!$AX$4:$AX$302,MATCH(C20&D20&F20&H20&J20,БВ!$AM$4:$AM$302&БВ!$AO$4:$AO$302&БВ!$AQ$4:$AQ$302&БВ!$AS$4:$AS$302&БВ!$AU$4:$AU$302,0)),IFERROR(INDEX(БВ!$BO$4:$BO$302,MATCH(C20&D20&F20&H20&J20,БВ!$BD$4:$BD$302&БВ!$BF$4:$BF$302&БВ!$BH$4:$BH$302&БВ!$BJ$4:$BJ$302&БВ!$BL$4:$BL$302,0)),IFERROR(INDEX(БВ!$CF$4:$CF$302,MATCH(C20&D20&F20&H20&J20,БВ!$BU$4:$BU$302&БВ!$BW$4:$BW$302&БВ!$BY$4:$BY$302&БВ!$CA$4:$CA$302&БВ!$CC$4:$CC$302,0)),IFERROR(INDEX('24v'!$P$4:$P$302,MATCH(C20&D20&F20&H20&J20,'24v'!$E$4:$E$302&'24v'!$G$4:$G$302&'24v'!$I$4:$I$302&'24v'!$K$4:$K$302&'24v'!$M$4:$M$302,0)),IFERROR(INDEX('24v'!$AG$4:$AG$302,MATCH(C20&D20&F20&H20&J20,'24v'!$V$4:$V$302&'24v'!$X$4:$X$302&'24v'!$Z$4:$Z$302&'24v'!$AB$4:$AB$302&'24v'!$AD$4:$AD$302,0)),IFERROR(INDEX('24v'!$AX$4:$AX$302,MATCH(C20&D20&F20&H20&J20,'24v'!$AM$4:$AM$302&'24v'!$AO$4:$AO$302&'24v'!$AQ$4:$AQ$302&'24v'!$AS$4:$AS$302&'24v'!$AU$4:$AU$302,0)),IFERROR(INDEX('24v'!$BO$4:$BO$302,MATCH(C20&D20&F20&H20&J20,'24v'!$BD$4:$BD$302&'24v'!$BF$4:$BF$302&'24v'!$BH$4:$BH$302&'24v'!$BJ$4:$BJ$302&'24v'!$BL$4:$BL$302,0)),IFERROR(INDEX('24v'!$CF$4:$CF$302,MATCH(C20&D20&F20&H20&J20,'24v'!$BU$4:$BU$302&'24v'!$BW$4:$BW$302&'24v'!$BY$4:$BY$302&'24v'!$CA$4:$CA$302&'24v'!$CC$4:$CC$302,0)),"Модель отсутствует")))))))))))} | N20: {=IF(B20="","",IFERROR(INDEX(БВ!$Q$4:$Q$302,MATCH(C20&D20&F20&H20&J20,БВ!$E$4:$E$302&БВ!$G$4:$G$302&БВ!$I$4:$I$302&БВ!$K$4:$K$302&БВ!$M$4:$M$302,0)),IFERROR(INDEX(БВ!$AH$4:$AH$302,MATCH(C20&D20&F20&H20&J20,БВ!#REF!&БВ!$X$4:$X$302&БВ!$Z$4:$Z$302&БВ!$AB$4:$AB$302&БВ!$AD$4:$AD$302,0)),IFERROR(INDEX(БВ!$AY$4:$AY$302,MATCH(C20&D20&F20&H20&J20,БВ!$AM$4:$AM$302&БВ!$AO$4:$AO$302&БВ!$AQ$4:$AQ$302&БВ!$AS$4:$AS$302&БВ!$AU$4:$AU$302,0)),IFERROR(INDEX(БВ!$BP$4:$BP$302,MATCH(C20&D20&F20&H20&J20,БВ!$BD$4:$BD$302&БВ!$BF$4:$BF$302&БВ!$BH$4:$BH$302&БВ!$BJ$4:$BJ$302&БВ!$BL$4:$BL$302,0)),IFERROR(INDEX(БВ!$CG$4:$CG$302,MATCH(C20&D20&F20&H20&J20,БВ!$BU$4:$BU$302&БВ!$BW$4:$BW$302&БВ!$BY$4:$BY$302&БВ!$CA$4:$CA$302&БВ!$CC$4:$CC$302,0)),IFERROR(INDEX('24v'!$Q$4:$Q$302,MATCH(C20&D20&F20&H20&J20,'24v'!$E$4:$E$302&'24v'!$G$4:$G$302&'24v'!$I$4:$I$302&'24v'!$K$4:$K$302&'24v'!$M$4:$M$302,0)),IFERROR(INDEX('24v'!$AH$4:$AH$302,MATCH(C20&D20&F20&H20&J20,'24v'!$V$4:$V$302&'24v'!$X$4:$X$302&'24v'!$Z$4:$Z$302&'24v'!$AB$4:$AB$302&'24v'!$AD$4:$AD$302,0)),IFERROR(INDEX('24v'!$AY$4:$AY$302,MATCH(C20&D20&F20&H20&J20,'24v'!$AM$4:$AM$302&'24v'!$AO$4:$AO$302&'24v'!$AQ$4:$AQ$302&'24v'!$AS$4:$AS$302&'24v'!$AU$4:$AU$302,0)),IFERROR(INDEX('24v'!$BP$4:$BP$302,MATCH(C20&D20&F20&H20&J20,'24v'!$BD$4:$BD$302&'24v'!$BF$4:$BF$302&'24v'!$BH$4:$BH$302&'24v'!$BJ$4:$BJ$302&'24v'!$BL$4:$BL$302,0)),IFERROR(INDEX('24v'!$CG$4:$CG$302,MATCH(C20&D20&F20&H20&J20,'24v'!$BU$4:$BU$302&'24v'!$BW$4:$BW$302&'24v'!$BY$4:$BY$302&'24v'!$CA$4:$CA$302&'24v'!$CC$4:$CC$302,0)),"Модель отсутствует")))))))))))} | O20: {=IF(B20="","",IFERROR(INDEX(БВ!$R$4:$R$302,MATCH(F20&H20,БВ!$I$4:$I$302&БВ!$K$4:$K$302,0)),"Модель отсутствует"))} | P20: =IF(B20="","",(N20+O20)) | V20: 1350
